BEGIN:VCALENDAR
VERSION:2.0
PRODID:-//Stearns History Museum - ECPv6.15.20//NONSGML v1.0//EN
CALSCALE:GREGORIAN
METHOD:PUBLISH
X-ORIGINAL-URL:https://stearnshistorymuseum.org
X-WR-CALDESC:Events for Stearns History Museum
REFRESH-INTERVAL;VALUE=DURATION:PT1H
X-Robots-Tag:noindex
X-PUBLISHED-TTL:PT1H
BEGIN:VTIMEZONE
TZID:America/Chicago
BEGIN:DAYLIGHT
TZOFFSETFROM:-0600
TZOFFSETTO:-0500
TZNAME:CDT
DTSTART:20230312T080000
END:DAYLIGHT
BEGIN:STANDARD
TZOFFSETFROM:-0500
TZOFFSETTO:-0600
TZNAME:CST
DTSTART:20231105T070000
END:STANDARD
BEGIN:DAYLIGHT
TZOFFSETFROM:-0600
TZOFFSETTO:-0500
TZNAME:CDT
DTSTART:20240310T080000
END:DAYLIGHT
BEGIN:STANDARD
TZOFFSETFROM:-0500
TZOFFSETTO:-0600
TZNAME:CST
DTSTART:20241103T070000
END:STANDARD
BEGIN:DAYLIGHT
TZOFFSETFROM:-0600
TZOFFSETTO:-0500
TZNAME:CDT
DTSTART:20250309T080000
END:DAYLIGHT
BEGIN:STANDARD
TZOFFSETFROM:-0500
TZOFFSETTO:-0600
TZNAME:CST
DTSTART:20251102T070000
END:STANDARD
END:VTIMEZONE
BEGIN:VEVENT
DTSTART;TZID=America/Chicago:20241214T130000
DTEND;TZID=America/Chicago:20241214T170000
DTSTAMP:20260425T073518
CREATED:20240816T202915Z
LAST-MODIFIED:20241204T175958Z
UID:10000655-1734181200-1734195600@stearnshistorymuseum.org
SUMMARY:Escape Room - 1984
DESCRIPTION:In our third annual Escape Room\, Big Brother is watching. The past has been erased\, and the future is bleak. It is up to you to find enough historic relics to make yourself remember. Otherwise\, you will be trapped\, and under surveillance\, forever. \nSlots at 1\, 2\, 3\, ad 4. 6 people maximum per slot. $25/person\, $20/members. Member code required.
URL:https://stearnshistorymuseum.org/event-items/escape-room-1984-5/
LOCATION:Stearns History Museum\, 235 33rd Ave S\, St Cloud\, MN\, 56301\, United States
CATEGORIES:Events
ATTACH;FMTTYPE=image/png:https://stearnshistorymuseum.org/wp-content/uploads/2023/12/Calendar-Thumbnail-Escape-Room.png
END:VEVENT
END:VCALENDAR