BEGIN:VCALENDAR
VERSION:2.0
PRODID:-//Stearns History Museum - ECPv6.15.20//NONSGML v1.0//EN
CALSCALE:GREGORIAN
METHOD:PUBLISH
X-WR-CALNAME:Stearns History Museum
X-ORIGINAL-URL:https://stearnshistorymuseum.org
X-WR-CALDESC:Events for Stearns History Museum
REFRESH-INTERVAL;VALUE=DURATION:PT1H
X-Robots-Tag:noindex
X-PUBLISHED-TTL:PT1H
BEGIN:VTIMEZONE
TZID:America/Chicago
BEGIN:DAYLIGHT
TZOFFSETFROM:-0600
TZOFFSETTO:-0500
TZNAME:CDT
DTSTART:20240310T080000
END:DAYLIGHT
BEGIN:STANDARD
TZOFFSETFROM:-0500
TZOFFSETTO:-0600
TZNAME:CST
DTSTART:20241103T070000
END:STANDARD
BEGIN:DAYLIGHT
TZOFFSETFROM:-0600
TZOFFSETTO:-0500
TZNAME:CDT
DTSTART:20250309T080000
END:DAYLIGHT
BEGIN:STANDARD
TZOFFSETFROM:-0500
TZOFFSETTO:-0600
TZNAME:CST
DTSTART:20251102T070000
END:STANDARD
BEGIN:DAYLIGHT
TZOFFSETFROM:-0600
TZOFFSETTO:-0500
TZNAME:CDT
DTSTART:20260308T080000
END:DAYLIGHT
BEGIN:STANDARD
TZOFFSETFROM:-0500
TZOFFSETTO:-0600
TZNAME:CST
DTSTART:20261101T070000
END:STANDARD
END:VTIMEZONE
BEGIN:VEVENT
DTSTART;TZID=America/Chicago:20250515T180000
DTEND;TZID=America/Chicago:20250515T193000
DTSTAMP:20260424T104717
CREATED:20250227T155952Z
LAST-MODIFIED:20250227T161308Z
UID:10000690-1747332000-1747337400@stearnshistorymuseum.org
SUMMARY:Hops and History: Questionable Medical Devices
DESCRIPTION:Join Laurie Kleinbaum Fink\, PhD\, from the Science Museum of Minnesota\, to learn about the collection of questionable medical devices that form the backbone of a popular exhibition\, Weighing the Evidence. The exhibition opened in 2016 and offers visitors three important take-away messages: When making health care decisions\, ask questions of a trusted source; consider the costs\, risks\, and benefits; and look for scientific evidence. The exhibition pulls in museum visitors using a very charismatic collection of over 300 objects collected by Bob McCoy\, a minister\, steel salesman\, and founder of the Minnesota Skeptics\, and given to the Science Museum of Minnesota in 2002. Come and learn about the collection\, the exhibition that showcases the collection\, and how the Science Museum of Minnesota uses objects to engage the public in STEM.
URL:https://stearnshistorymuseum.org/event-items/hops-and-history-questionable-medical-devices/
LOCATION:Art in Motion\, 1400 4th St.\, Holdingford\, 56340\, United States
ATTACH;FMTTYPE=image/png:https://stearnshistorymuseum.org/wp-content/uploads/2025/02/White-and-Yellow-India-Travel-Vlog-YouTube-Thumbnail.png
END:VEVENT
END:VCALENDAR