BEGIN:VCALENDAR
VERSION:2.0
PRODID:-//Stearns History Museum - ECPv6.15.20//NONSGML v1.0//EN
CALSCALE:GREGORIAN
METHOD:PUBLISH
X-ORIGINAL-URL:https://stearnshistorymuseum.org
X-WR-CALDESC:Events for Stearns History Museum
REFRESH-INTERVAL;VALUE=DURATION:PT1H
X-Robots-Tag:noindex
X-PUBLISHED-TTL:PT1H
BEGIN:VTIMEZONE
TZID:America/Chicago
BEGIN:DAYLIGHT
TZOFFSETFROM:-0600
TZOFFSETTO:-0500
TZNAME:CDT
DTSTART:20240310T080000
END:DAYLIGHT
BEGIN:STANDARD
TZOFFSETFROM:-0500
TZOFFSETTO:-0600
TZNAME:CST
DTSTART:20241103T070000
END:STANDARD
BEGIN:DAYLIGHT
TZOFFSETFROM:-0600
TZOFFSETTO:-0500
TZNAME:CDT
DTSTART:20250309T080000
END:DAYLIGHT
BEGIN:STANDARD
TZOFFSETFROM:-0500
TZOFFSETTO:-0600
TZNAME:CST
DTSTART:20251102T070000
END:STANDARD
BEGIN:DAYLIGHT
TZOFFSETFROM:-0600
TZOFFSETTO:-0500
TZNAME:CDT
DTSTART:20260308T080000
END:DAYLIGHT
BEGIN:STANDARD
TZOFFSETFROM:-0500
TZOFFSETTO:-0600
TZNAME:CST
DTSTART:20261101T070000
END:STANDARD
END:VTIMEZONE
BEGIN:VEVENT
DTSTART;TZID=America/Chicago:20251107T090000
DTEND;TZID=America/Chicago:20251107T120000
DTSTAMP:20260423T163302
CREATED:20250930T210410Z
LAST-MODIFIED:20250930T210832Z
UID:10000729-1762506000-1762516800@stearnshistorymuseum.org
SUMMARY:Community Scan: Belgrade
DESCRIPTION:The Stearns History Museum\, in partnership with the Great River Library system\, is offering a free community-scanning event. Bring your family photos or other documents important to your family history to be scanned with professional equipment. You will go home with a digital copy of your materials. For all ages. Registration required for a 30 minute time slot. \nLimit one time slot per person. Oversized materials and negatives do take longer to scan than other materials. \nBring your own flash drive\, or the museum will have flash drives available to purchase ($5)
URL:https://stearnshistorymuseum.org/event-items/community-scan-belgrade/
LOCATION:Great River Regional Library\, Belgrade\, 324 Washburn Ave\, Belgrade\, MN\, 56312\, United States
ATTACH;FMTTYPE=image/png:https://stearnshistorymuseum.org/wp-content/uploads/2025/09/community-scan-thumbnail-7.png
END:VEVENT
BEGIN:VEVENT
DTSTART;TZID=America/Chicago:20251107T100000
DTEND;TZID=America/Chicago:20251107T170000
DTSTAMP:20260423T163302
CREATED:20251028T193204Z
LAST-MODIFIED:20251028T193755Z
UID:10000761-1762509600-1762534800@stearnshistorymuseum.org
SUMMARY:Get the Message
DESCRIPTION:Our new exhibit\, “Get the Message\,” opens Friday\, November 7th! Take a walk through the advertising that shaped the business landscape of Stearns County. Bring your family and check it out today! \n  \n 
URL:https://stearnshistorymuseum.org/event-items/get-the-message/
LOCATION:Stearns History Museum\, 235 33rd Ave S\, St Cloud\, MN\, 56301\, United States
ATTACH;FMTTYPE=image/webp:https://stearnshistorymuseum.org/wp-content/uploads/2025/10/frenchys-thumbnail.webp
END:VEVENT
BEGIN:VEVENT
DTSTART;TZID=America/Chicago:20251107T140000
DTEND;TZID=America/Chicago:20251107T180000
DTSTAMP:20260423T163302
CREATED:20250930T210559Z
LAST-MODIFIED:20250930T210642Z
UID:10000730-1762524000-1762538400@stearnshistorymuseum.org
SUMMARY:Community Scan: Paynesville
DESCRIPTION:The Stearns History Museum\, in partnership with the Great River Library system\, is offering a free community-scanning event. Bring your family photos or other documents important to your family history to be scanned with professional equipment. You will go home with a digital copy of your materials. For all ages. Registration required for a 30 minute time slot. \nLimit one time slot per person. Oversized materials and negatives do take longer to scan than other materials. \nBring your own flash drive\, or the museum will have flash drives available to purchase ($5)
URL:https://stearnshistorymuseum.org/event-items/community-scan-paynesville/
LOCATION:Great River Regional Library\, Paynesville\, 119 Washburne Ave\, Paynesville\, MN\, 56362\, United States
ATTACH;FMTTYPE=image/png:https://stearnshistorymuseum.org/wp-content/uploads/2025/09/community-scan-thumbnail-8.png
END:VEVENT
END:VCALENDAR