BEGIN:VCALENDAR
VERSION:2.0
PRODID:-//Stearns History Museum - ECPv6.15.20//NONSGML v1.0//EN
CALSCALE:GREGORIAN
METHOD:PUBLISH
X-WR-CALNAME:Stearns History Museum
X-ORIGINAL-URL:https://stearnshistorymuseum.org
X-WR-CALDESC:Events for Stearns History Museum
REFRESH-INTERVAL;VALUE=DURATION:PT1H
X-Robots-Tag:noindex
X-PUBLISHED-TTL:PT1H
BEGIN:VTIMEZONE
TZID:America/Chicago
BEGIN:DAYLIGHT
TZOFFSETFROM:-0600
TZOFFSETTO:-0500
TZNAME:CDT
DTSTART:20240310T080000
END:DAYLIGHT
BEGIN:STANDARD
TZOFFSETFROM:-0500
TZOFFSETTO:-0600
TZNAME:CST
DTSTART:20241103T070000
END:STANDARD
BEGIN:DAYLIGHT
TZOFFSETFROM:-0600
TZOFFSETTO:-0500
TZNAME:CDT
DTSTART:20250309T080000
END:DAYLIGHT
BEGIN:STANDARD
TZOFFSETFROM:-0500
TZOFFSETTO:-0600
TZNAME:CST
DTSTART:20251102T070000
END:STANDARD
BEGIN:DAYLIGHT
TZOFFSETFROM:-0600
TZOFFSETTO:-0500
TZNAME:CDT
DTSTART:20260308T080000
END:DAYLIGHT
BEGIN:STANDARD
TZOFFSETFROM:-0500
TZOFFSETTO:-0600
TZNAME:CST
DTSTART:20261101T070000
END:STANDARD
END:VTIMEZONE
BEGIN:VEVENT
DTSTART;TZID=America/Chicago:20251113T100000
DTEND;TZID=America/Chicago:20251113T120000
DTSTAMP:20260423T163203
CREATED:20250930T211241Z
LAST-MODIFIED:20250930T211241Z
UID:10000732-1763028000-1763035200@stearnshistorymuseum.org
SUMMARY:Community Scan: Melrose
DESCRIPTION:The Stearns History Museum\, in partnership with the Great River Library system\, is offering a free community-scanning event. Bring your family photos or other documents important to your family history to be scanned with professional equipment. You will go home with a digital copy of your materials. For all ages. Registration required for a 30 minute time slot. \nLimit one time slot per person. Oversized materials and negatives do take longer to scan than other materials. \nBring your own flash drive\, or the museum will have flash drives available to purchase ($5)
URL:https://stearnshistorymuseum.org/event-items/community-scan-melrose/
LOCATION:Great River Regional Library\, Melrose\, 225 E. 1st St. N.\, Melrose\, MN\, 56352\, United States
ATTACH;FMTTYPE=image/png:https://stearnshistorymuseum.org/wp-content/uploads/2025/09/community-scan-thumbnail-9.png
END:VEVENT
BEGIN:VEVENT
DTSTART;TZID=America/Chicago:20251113T140000
DTEND;TZID=America/Chicago:20251113T190000
DTSTAMP:20260423T163203
CREATED:20250930T211638Z
LAST-MODIFIED:20250930T211638Z
UID:10000733-1763042400-1763060400@stearnshistorymuseum.org
SUMMARY:Community Scan: Sauk Centre
DESCRIPTION:The Stearns History Museum\, in partnership with the Great River Library system\, is offering a free community-scanning event. Bring your family photos or other documents important to your family history to be scanned with professional equipment. You will go home with a digital copy of your materials. For all ages. Registration required for a 30 minute time slot. \nLimit one time slot per person. Oversized materials and negatives do take longer to scan than other materials. \nBring your own flash drive\, or the museum will have flash drives available to purchase ($5)
URL:https://stearnshistorymuseum.org/event-items/community-scan-sauk-centre/
LOCATION:Sauk Centre Library\, 430 Main St. S.\, Sauk Centre\, 56378\, United States
ATTACH;FMTTYPE=image/webp:https://stearnshistorymuseum.org/wp-content/uploads/2025/09/community-scan-thumbnail-9.webp
END:VEVENT
END:VCALENDAR