BEGIN:VCALENDAR
VERSION:2.0
PRODID:-//Stearns History Museum - ECPv6.15.20//NONSGML v1.0//EN
CALSCALE:GREGORIAN
METHOD:PUBLISH
X-WR-CALNAME:Stearns History Museum
X-ORIGINAL-URL:https://stearnshistorymuseum.org
X-WR-CALDESC:Events for Stearns History Museum
REFRESH-INTERVAL;VALUE=DURATION:PT1H
X-Robots-Tag:noindex
X-PUBLISHED-TTL:PT1H
BEGIN:VTIMEZONE
TZID:America/Chicago
BEGIN:DAYLIGHT
TZOFFSETFROM:-0600
TZOFFSETTO:-0500
TZNAME:CDT
DTSTART:20240310T080000
END:DAYLIGHT
BEGIN:STANDARD
TZOFFSETFROM:-0500
TZOFFSETTO:-0600
TZNAME:CST
DTSTART:20241103T070000
END:STANDARD
BEGIN:DAYLIGHT
TZOFFSETFROM:-0600
TZOFFSETTO:-0500
TZNAME:CDT
DTSTART:20250309T080000
END:DAYLIGHT
BEGIN:STANDARD
TZOFFSETFROM:-0500
TZOFFSETTO:-0600
TZNAME:CST
DTSTART:20251102T070000
END:STANDARD
BEGIN:DAYLIGHT
TZOFFSETFROM:-0600
TZOFFSETTO:-0500
TZNAME:CDT
DTSTART:20260308T080000
END:DAYLIGHT
BEGIN:STANDARD
TZOFFSETFROM:-0500
TZOFFSETTO:-0600
TZNAME:CST
DTSTART:20261101T070000
END:STANDARD
END:VTIMEZONE
BEGIN:VEVENT
DTSTART;TZID=America/Chicago:20251204T170000
DTEND;TZID=America/Chicago:20251204T180000
DTSTAMP:20260423T134050
CREATED:20251008T201847Z
LAST-MODIFIED:20251008T201847Z
UID:10000736-1764867600-1764871200@stearnshistorymuseum.org
SUMMARY:SHM Escape Room: Lost in the 50s- Dec. 4th\, 5pm
DESCRIPTION:In our 4th annual Escape Room\, you will travel back in time to the 1950s! Nostalgia is fun and all\, but what happens when you can’t get back to the present day? You have to find a way out- or be stranded in the past forever! \n 
URL:https://stearnshistorymuseum.org/event-items/shm-escape-room-lost-in-the-50s-dec-4th-5pm/
LOCATION:Stearns History Museum\, 235 33rd Ave S\, St Cloud\, MN\, 56301\, United States
ATTACH;FMTTYPE=image/png:https://stearnshistorymuseum.org/wp-content/uploads/2025/10/Copy-of-Half-page-escape-room.png
END:VEVENT
BEGIN:VEVENT
DTSTART;TZID=America/Chicago:20251204T180000
DTEND;TZID=America/Chicago:20251204T190000
DTSTAMP:20260423T134050
CREATED:20251008T202341Z
LAST-MODIFIED:20251030T164203Z
UID:10000737-1764871200-1764874800@stearnshistorymuseum.org
SUMMARY:SHM Escape Room: Lost in the 50s- Dec. 4th\, 6pm
DESCRIPTION:In our 4th annual Escape Room\, you will travel back in time to the 1950s! Nostalgia is fun and all\, but what happens when you can’t get back to the present day? You have to find a way out- or be stranded in the past forever! \n 
URL:https://stearnshistorymuseum.org/event-items/shm-escape-room-lost-in-the-50s-dec-4th-6pm/
LOCATION:Stearns History Museum\, 235 33rd Ave S\, St Cloud\, MN\, 56301\, United States
ATTACH;FMTTYPE=image/webp:https://stearnshistorymuseum.org/wp-content/uploads/2025/10/Copy-of-Half-page-escape-room-2.webp
END:VEVENT
BEGIN:VEVENT
DTSTART;TZID=America/Chicago:20251204T190000
DTEND;TZID=America/Chicago:20251204T200000
DTSTAMP:20260423T134050
CREATED:20251008T202455Z
LAST-MODIFIED:20251105T182221Z
UID:10000738-1764874800-1764878400@stearnshistorymuseum.org
SUMMARY:SHM Escape Room: Lost in the 50s- Dec. 4th\, 7pm
DESCRIPTION:In our 4th annual Escape Room\, you will travel back in time to the 1950s! Nostalgia is fun and all\, but what happens when you can’t get back to the present day? You have to find a way out- or be stranded in the past forever! \n 
URL:https://stearnshistorymuseum.org/event-items/shm-escape-room-lost-in-the-50s-dec-4th-7pm/
LOCATION:Stearns History Museum\, 235 33rd Ave S\, St Cloud\, MN\, 56301\, United States
ATTACH;FMTTYPE=image/webp:https://stearnshistorymuseum.org/wp-content/uploads/2025/10/Copy-of-Half-page-escape-room-2.webp
END:VEVENT
END:VCALENDAR