BEGIN:VCALENDAR
VERSION:2.0
PRODID:-//Stearns History Museum - ECPv6.15.20//NONSGML v1.0//EN
CALSCALE:GREGORIAN
METHOD:PUBLISH
X-WR-CALNAME:Stearns History Museum
X-ORIGINAL-URL:https://stearnshistorymuseum.org
X-WR-CALDESC:Events for Stearns History Museum
REFRESH-INTERVAL;VALUE=DURATION:PT1H
X-Robots-Tag:noindex
X-PUBLISHED-TTL:PT1H
BEGIN:VTIMEZONE
TZID:America/Chicago
BEGIN:DAYLIGHT
TZOFFSETFROM:-0600
TZOFFSETTO:-0500
TZNAME:CDT
DTSTART:20240310T080000
END:DAYLIGHT
BEGIN:STANDARD
TZOFFSETFROM:-0500
TZOFFSETTO:-0600
TZNAME:CST
DTSTART:20241103T070000
END:STANDARD
BEGIN:DAYLIGHT
TZOFFSETFROM:-0600
TZOFFSETTO:-0500
TZNAME:CDT
DTSTART:20250309T080000
END:DAYLIGHT
BEGIN:STANDARD
TZOFFSETFROM:-0500
TZOFFSETTO:-0600
TZNAME:CST
DTSTART:20251102T070000
END:STANDARD
BEGIN:DAYLIGHT
TZOFFSETFROM:-0600
TZOFFSETTO:-0500
TZNAME:CDT
DTSTART:20260308T080000
END:DAYLIGHT
BEGIN:STANDARD
TZOFFSETFROM:-0500
TZOFFSETTO:-0600
TZNAME:CST
DTSTART:20261101T070000
END:STANDARD
END:VTIMEZONE
BEGIN:VEVENT
DTSTART;TZID=America/Chicago:20251206T110000
DTEND;TZID=America/Chicago:20251206T120000
DTSTAMP:20260423T121237
CREATED:20251017T163300Z
LAST-MODIFIED:20251201T212716Z
UID:10000760-1765018800-1765022400@stearnshistorymuseum.org
SUMMARY:Gingerbread Architecture: Sweet Elements of Design
DESCRIPTION:Tap your inner architect at this delicious all-ages\, family-friendly workshop. Learn the basics of architecture and structural design using everyone’s favorite building materials- gingerbread and frosting! Taught by SHM librarian and preservation enthusiast Miranda Stueckrath\, this hands-on interactive workshop shows you how to create your own architectural masterpiece using gingerbread from Cold Spring Bakery. Held in partnership with the Melrose Area Arts Council\, stick around after the class to hear more about the Arts Council and its work in the Melrose/Freeport communities. Class size is limited\, so register today!\n\nQuestions? Contact Ann Marie Johnson at development@stearns-museum.org or 320-253-8424.\nSpecial thanks to class sponsor\, JLG Architects!
URL:https://stearnshistorymuseum.org/event-items/gingerbread-architecture-sweet-elements-of-design-2/
LOCATION:Harvest Church\, 338 Main St. West\, Freeport\, 56331\, United States
ATTACH;FMTTYPE=image/png:https://stearnshistorymuseum.org/wp-content/uploads/2025/10/Gingerbread-Architecture-Thumbnail-6-December-2025.png
END:VEVENT
END:VCALENDAR