BEGIN:VCALENDAR
VERSION:2.0
PRODID:-//Stearns History Museum - ECPv6.15.20//NONSGML v1.0//EN
CALSCALE:GREGORIAN
METHOD:PUBLISH
X-ORIGINAL-URL:https://stearnshistorymuseum.org
X-WR-CALDESC:Events for Stearns History Museum
REFRESH-INTERVAL;VALUE=DURATION:PT1H
X-Robots-Tag:noindex
X-PUBLISHED-TTL:PT1H
BEGIN:VTIMEZONE
TZID:America/Chicago
BEGIN:DAYLIGHT
TZOFFSETFROM:-0600
TZOFFSETTO:-0500
TZNAME:CDT
DTSTART:20240310T080000
END:DAYLIGHT
BEGIN:STANDARD
TZOFFSETFROM:-0500
TZOFFSETTO:-0600
TZNAME:CST
DTSTART:20241103T070000
END:STANDARD
BEGIN:DAYLIGHT
TZOFFSETFROM:-0600
TZOFFSETTO:-0500
TZNAME:CDT
DTSTART:20250309T080000
END:DAYLIGHT
BEGIN:STANDARD
TZOFFSETFROM:-0500
TZOFFSETTO:-0600
TZNAME:CST
DTSTART:20251102T070000
END:STANDARD
BEGIN:DAYLIGHT
TZOFFSETFROM:-0600
TZOFFSETTO:-0500
TZNAME:CDT
DTSTART:20260308T080000
END:DAYLIGHT
BEGIN:STANDARD
TZOFFSETFROM:-0500
TZOFFSETTO:-0600
TZNAME:CST
DTSTART:20261101T070000
END:STANDARD
END:VTIMEZONE
BEGIN:VEVENT
DTSTART;TZID=America/Chicago:20251218T170000
DTEND;TZID=America/Chicago:20251218T180000
DTSTAMP:20260423T150723
CREATED:20251009T152712Z
LAST-MODIFIED:20251009T152712Z
UID:10000749-1766077200-1766080800@stearnshistorymuseum.org
SUMMARY:SHM Escape Room: Lost in the 50s- Dec. 18th\, 5pm
DESCRIPTION:In our 4th annual Escape Room\, you will travel back in time to the 1950s! Nostalgia is fun and all\, but what happens when you can’t get back to the present day? You have to find a way out- or be stranded in the past forever! \n 
URL:https://stearnshistorymuseum.org/event-items/shm-escape-room-lost-in-the-50s-dec-18th-5pm/
LOCATION:Stearns History Museum\, 235 33rd Ave S\, St Cloud\, MN\, 56301\, United States
ATTACH;FMTTYPE=image/png:https://stearnshistorymuseum.org/wp-content/uploads/2025/10/Copy-of-Half-page-escape-room-1.png
END:VEVENT
BEGIN:VEVENT
DTSTART;TZID=America/Chicago:20251218T180000
DTEND;TZID=America/Chicago:20251218T190000
DTSTAMP:20260423T150723
CREATED:20251009T152828Z
LAST-MODIFIED:20251202T191318Z
UID:10000750-1766080800-1766084400@stearnshistorymuseum.org
SUMMARY:SHM Escape Room: Lost in the 50s- Dec. 18th\, 6pm
DESCRIPTION:In our 4th annual Escape Room\, you will travel back in time to the 1950s! Nostalgia is fun and all\, but what happens when you can’t get back to the present day? You have to find a way out- or be stranded in the past forever! \n 
URL:https://stearnshistorymuseum.org/event-items/shm-escape-room-lost-in-the-50s-dec-18th-6pm/
LOCATION:Stearns History Museum\, 235 33rd Ave S\, St Cloud\, MN\, 56301\, United States
ATTACH;FMTTYPE=image/webp:https://stearnshistorymuseum.org/wp-content/uploads/2025/10/Copy-of-Half-page-escape-room-2.webp
END:VEVENT
BEGIN:VEVENT
DTSTART;TZID=America/Chicago:20251218T190000
DTEND;TZID=America/Chicago:20251218T200000
DTSTAMP:20260423T150723
CREATED:20251009T153018Z
LAST-MODIFIED:20251030T163923Z
UID:10000751-1766084400-1766088000@stearnshistorymuseum.org
SUMMARY:SHM Escape Room: Lost in the 50s- Dec. 18th\, 7pm
DESCRIPTION:In our 4th annual Escape Room\, you will travel back in time to the 1950s! Nostalgia is fun and all\, but what happens when you can’t get back to the present day? You have to find a way out- or be stranded in the past forever! \n 
URL:https://stearnshistorymuseum.org/event-items/shm-escape-room-lost-in-the-50s-dec-18th-7pm/
LOCATION:Stearns History Museum\, 235 33rd Ave S\, St Cloud\, MN\, 56301\, United States
ATTACH;FMTTYPE=image/webp:https://stearnshistorymuseum.org/wp-content/uploads/2025/10/Copy-of-Half-page-escape-room-2.webp
END:VEVENT
END:VCALENDAR