BEGIN:VCALENDAR
VERSION:2.0
PRODID:-//Stearns History Museum - ECPv6.15.20//NONSGML v1.0//EN
CALSCALE:GREGORIAN
METHOD:PUBLISH
X-ORIGINAL-URL:https://stearnshistorymuseum.org
X-WR-CALDESC:Events for Stearns History Museum
REFRESH-INTERVAL;VALUE=DURATION:PT1H
X-Robots-Tag:noindex
X-PUBLISHED-TTL:PT1H
BEGIN:VTIMEZONE
TZID:America/Chicago
BEGIN:DAYLIGHT
TZOFFSETFROM:-0600
TZOFFSETTO:-0500
TZNAME:CDT
DTSTART:20240310T080000
END:DAYLIGHT
BEGIN:STANDARD
TZOFFSETFROM:-0500
TZOFFSETTO:-0600
TZNAME:CST
DTSTART:20241103T070000
END:STANDARD
BEGIN:DAYLIGHT
TZOFFSETFROM:-0600
TZOFFSETTO:-0500
TZNAME:CDT
DTSTART:20250309T080000
END:DAYLIGHT
BEGIN:STANDARD
TZOFFSETFROM:-0500
TZOFFSETTO:-0600
TZNAME:CST
DTSTART:20251102T070000
END:STANDARD
BEGIN:DAYLIGHT
TZOFFSETFROM:-0600
TZOFFSETTO:-0500
TZNAME:CDT
DTSTART:20260308T080000
END:DAYLIGHT
BEGIN:STANDARD
TZOFFSETFROM:-0500
TZOFFSETTO:-0600
TZNAME:CST
DTSTART:20261101T070000
END:STANDARD
END:VTIMEZONE
BEGIN:VEVENT
DTSTART;TZID=America/Chicago:20251220T130000
DTEND;TZID=America/Chicago:20251220T140000
DTSTAMP:20260423T150726
CREATED:20251009T154711Z
LAST-MODIFIED:20251030T171431Z
UID:10000755-1766235600-1766239200@stearnshistorymuseum.org
SUMMARY:SHM Escape Room: Lost in the 50s- Dec. 20th\, 1pm
DESCRIPTION:In our 4th annual Escape Room\, you will travel back in time to the 1950s! Nostalgia is fun and all\, but what happens when you can’t get back to the present day? You have to find a way out- or be stranded in the past forever! \n 
URL:https://stearnshistorymuseum.org/event-items/shm-escape-room-lost-in-the-50s-dec-20th-1pm/
LOCATION:Stearns History Museum\, 235 33rd Ave S\, St Cloud\, MN\, 56301\, United States
ATTACH;FMTTYPE=image/webp:https://stearnshistorymuseum.org/wp-content/uploads/2025/10/Copy-of-Half-page-escape-room-2.webp
END:VEVENT
BEGIN:VEVENT
DTSTART;TZID=America/Chicago:20251220T140000
DTEND;TZID=America/Chicago:20251220T150000
DTSTAMP:20260423T150726
CREATED:20251009T154805Z
LAST-MODIFIED:20251202T191045Z
UID:10000756-1766239200-1766242800@stearnshistorymuseum.org
SUMMARY:SHM Escape Room: Lost in the 50s- Dec. 20th\, 2pm
DESCRIPTION:In our 4th annual Escape Room\, you will travel back in time to the 1950s! Nostalgia is fun and all\, but what happens when you can’t get back to the present day? You have to find a way out- or be stranded in the past forever! \n 
URL:https://stearnshistorymuseum.org/event-items/shm-escape-room-lost-in-the-50s-dec-20th-2pm/
LOCATION:Stearns History Museum\, 235 33rd Ave S\, St Cloud\, MN\, 56301\, United States
ATTACH;FMTTYPE=image/webp:https://stearnshistorymuseum.org/wp-content/uploads/2025/10/Copy-of-Half-page-escape-room-2.webp
END:VEVENT
BEGIN:VEVENT
DTSTART;TZID=America/Chicago:20251220T150000
DTEND;TZID=America/Chicago:20251220T160000
DTSTAMP:20260423T150726
CREATED:20251009T154900Z
LAST-MODIFIED:20251202T191140Z
UID:10000757-1766242800-1766246400@stearnshistorymuseum.org
SUMMARY:SHM Escape Room: Lost in the 50s- Dec. 20th\, 3pm
DESCRIPTION:In our 4th annual Escape Room\, you will travel back in time to the 1950s! Nostalgia is fun and all\, but what happens when you can’t get back to the present day? You have to find a way out- or be stranded in the past forever! \n 
URL:https://stearnshistorymuseum.org/event-items/shm-escape-room-lost-in-the-50s-dec-20th-3pm/
LOCATION:Stearns History Museum\, 235 33rd Ave S\, St Cloud\, MN\, 56301\, United States
ATTACH;FMTTYPE=image/webp:https://stearnshistorymuseum.org/wp-content/uploads/2025/10/Copy-of-Half-page-escape-room-2.webp
END:VEVENT
BEGIN:VEVENT
DTSTART;TZID=America/Chicago:20251220T160000
DTEND;TZID=America/Chicago:20251220T170000
DTSTAMP:20260423T150726
CREATED:20251009T155015Z
LAST-MODIFIED:20251220T173447Z
UID:10000758-1766246400-1766250000@stearnshistorymuseum.org
SUMMARY:SHM Escape Room: Lost in the 50s- Dec. 20th\, 4pm
DESCRIPTION:In our 4th annual Escape Room\, you will travel back in time to the 1950s! Nostalgia is fun and all\, but what happens when you can’t get back to the present day? You have to find a way out- or be stranded in the past forever! \n 
URL:https://stearnshistorymuseum.org/event-items/shm-escape-room-lost-in-the-50s-dec-20th-4pm/
LOCATION:Stearns History Museum\, 235 33rd Ave S\, St Cloud\, MN\, 56301\, United States
ATTACH;FMTTYPE=image/webp:https://stearnshistorymuseum.org/wp-content/uploads/2025/10/Copy-of-Half-page-escape-room-2.webp
END:VEVENT
END:VCALENDAR