BEGIN:VCALENDAR
VERSION:2.0
PRODID:-//Stearns History Museum - ECPv6.15.20//NONSGML v1.0//EN
CALSCALE:GREGORIAN
METHOD:PUBLISH
X-WR-CALNAME:Stearns History Museum
X-ORIGINAL-URL:https://stearnshistorymuseum.org
X-WR-CALDESC:Events for Stearns History Museum
REFRESH-INTERVAL;VALUE=DURATION:PT1H
X-Robots-Tag:noindex
X-PUBLISHED-TTL:PT1H
BEGIN:VTIMEZONE
TZID:America/Chicago
BEGIN:DAYLIGHT
TZOFFSETFROM:-0600
TZOFFSETTO:-0500
TZNAME:CDT
DTSTART:20230312T080000
END:DAYLIGHT
BEGIN:STANDARD
TZOFFSETFROM:-0500
TZOFFSETTO:-0600
TZNAME:CST
DTSTART:20231105T070000
END:STANDARD
BEGIN:DAYLIGHT
TZOFFSETFROM:-0600
TZOFFSETTO:-0500
TZNAME:CDT
DTSTART:20240310T080000
END:DAYLIGHT
BEGIN:STANDARD
TZOFFSETFROM:-0500
TZOFFSETTO:-0600
TZNAME:CST
DTSTART:20241103T070000
END:STANDARD
BEGIN:DAYLIGHT
TZOFFSETFROM:-0600
TZOFFSETTO:-0500
TZNAME:CDT
DTSTART:20250309T080000
END:DAYLIGHT
BEGIN:STANDARD
TZOFFSETFROM:-0500
TZOFFSETTO:-0600
TZNAME:CST
DTSTART:20251102T070000
END:STANDARD
BEGIN:DAYLIGHT
TZOFFSETFROM:-0600
TZOFFSETTO:-0500
TZNAME:CDT
DTSTART:20260308T080000
END:DAYLIGHT
BEGIN:STANDARD
TZOFFSETFROM:-0500
TZOFFSETTO:-0600
TZNAME:CST
DTSTART:20261101T070000
END:STANDARD
END:VTIMEZONE
BEGIN:VEVENT
DTSTART;TZID=America/Chicago:20250201T100000
DTEND;TZID=America/Chicago:20250201T160000
DTSTAMP:20260425T105217
CREATED:20241214T172802Z
LAST-MODIFIED:20250108T222040Z
UID:10000674-1738404000-1738425600@stearnshistorymuseum.org
SUMMARY:Community Scan- Stearns History Museum
DESCRIPTION:The Stearns History Museum is offering a free community scanning event. Bring your family photos or other documents important to your family history to be scanned with professional equipment.  You will go home with a digital copy of your materials.  Registration is required for this event. \nThere is no limit on the amount of items that can be scanned\, but scanning is constrained to the time slot that you sign up for.  You will have a 30 minute time slot with 20 minutes for scanning.  Limit one time slot per person. \nOversized materials and negatives do take longer to scan than other materials. \nA flash drive is needed for this event\, you are encouraged to bring your own but the museum will have flash drives available to purchase ($5).
URL:https://stearnshistorymuseum.org/event-items/community-scan-stearns-history-museum-2/
LOCATION:Stearns History Museum\, 235 33rd Ave S\, St Cloud\, MN\, 56301\, United States
CATEGORIES:Community Scan
ATTACH;FMTTYPE=image/png:https://stearnshistorymuseum.org/wp-content/uploads/2024/12/Copy-of-community-scan-thumbnail-for-Website-Calendar-2.png
END:VEVENT
BEGIN:VEVENT
DTSTART;TZID=America/Chicago:20250131T140000
DTEND;TZID=America/Chicago:20250131T180000
DTSTAMP:20260425T105217
CREATED:20241214T172611Z
LAST-MODIFIED:20250108T222047Z
UID:10000673-1738332000-1738346400@stearnshistorymuseum.org
SUMMARY:Community Scan- Great River Regional Library\, Paynesville
DESCRIPTION:The Stearns History Museum in partnership with the Great River Library System is offering a free community scanning event. Bring your family photos or other documents important to your family history to be scanned with professional equipment.  You will go home with a digital copy of your materials.  \nRegistration is required for this event.  There is no limit on the amount of items that can be scanned\, but scanning is constrained to the time slot that you sign up for.  You will have a 30 minute time slot with 20 minutes for scanning.  Limit one time slot per person. \nOversized materials and negatives do take longer to scan than other materials.  \nA flash drive is needed for this event\, you are encouraged to bring your own but the museum will have flash drives available to purchase ($5).
URL:https://stearnshistorymuseum.org/event-items/community-scan-great-river-regional-library-paynesville/
LOCATION:Great River Regional Library\, Paynesville\, 119 Washburne Ave\, Paynesville\, MN\, 56362\, United States
CATEGORIES:Community Scan
ATTACH;FMTTYPE=image/png:https://stearnshistorymuseum.org/wp-content/uploads/2024/12/community-scan-thumbnail.png
END:VEVENT
BEGIN:VEVENT
DTSTART;TZID=America/Chicago:20250131T090000
DTEND;TZID=America/Chicago:20250131T120000
DTSTAMP:20260425T105217
CREATED:20241214T172340Z
LAST-MODIFIED:20250108T222053Z
UID:10000672-1738314000-1738324800@stearnshistorymuseum.org
SUMMARY:Community Scan- Great River Regional Library\, Belgrade
DESCRIPTION:The Stearns History Museum in partnership with the Great River Library System is offering a free community scanning event. Bring your family photos or other documents important to your family history to be scanned with professional equipment.  You will go home with a digital copy of your materials.  \nRegistration is required for this event.  There is no limit on the amount of items that can be scanned\, but scanning is constrained to the time slot that you sign up for.  You will have a 30 minute time slot with 20 minutes for scanning.  Limit one time slot per person. \nOversized materials and negatives do take longer to scan than other materials.  \nA flash drive is needed for this event\, you are encouraged to bring your own but the museum will have flash drives available to purchase ($5).
URL:https://stearnshistorymuseum.org/event-items/community-scan-great-river-regional-library-belgrade/
LOCATION:Great River Regional Library\, Belgrade\, 324 Washburn Ave\, Belgrade\, MN\, 56312\, United States
CATEGORIES:Community Scan
ATTACH;FMTTYPE=image/png:https://stearnshistorymuseum.org/wp-content/uploads/2024/12/community-scan-thumbnail.png
END:VEVENT
BEGIN:VEVENT
DTSTART;TZID=America/Chicago:20250128T150000
DTEND;TZID=America/Chicago:20250128T190000
DTSTAMP:20260425T105217
CREATED:20241214T172053Z
LAST-MODIFIED:20250108T222100Z
UID:10000671-1738076400-1738090800@stearnshistorymuseum.org
SUMMARY:Community Scan- Great River Regional Library\, Albany
DESCRIPTION:The Stearns History Museum in partnership with the Great River Library System is offering a free community scanning event. Bring your family photos or other documents important to your family history to be scanned with professional equipment.  You will go home with a digital copy of your materials.  \nRegistration is required for this event.  There is no limit on the amount of items that can be scanned\, but scanning is constrained to the time slot that you sign up for.  You will have a 30 minute time slot with 20 minutes for scanning.  Limit one time slot per person. \nOversized materials and negatives do take longer to scan than other materials.  \nA flash drive is needed for this event\, you are encouraged to bring your own but the museum will have flash drives available to purchase ($5).
URL:https://stearnshistorymuseum.org/event-items/community-scan-great-river-regional-library-albany/
LOCATION:Great River Regional Library\, Albany\, 400 Railroad Ave\, Albany\, MN\, 56307\, United States
CATEGORIES:Community Scan
ATTACH;FMTTYPE=image/png:https://stearnshistorymuseum.org/wp-content/uploads/2024/12/Copy-of-community-scan-thumbnail-for-Website-Calendar-5.png
END:VEVENT
BEGIN:VEVENT
DTSTART;TZID=America/Chicago:20250125T100000
DTEND;TZID=America/Chicago:20250125T160000
DTSTAMP:20260425T105217
CREATED:20241214T171800Z
LAST-MODIFIED:20250108T222106Z
UID:10000670-1737799200-1737820800@stearnshistorymuseum.org
SUMMARY:Community Scan- Great River Regional Library\, St. Cloud Public Library
DESCRIPTION:The Stearns History Museum in partnership with the Great River Regional Library is offering a free community scanning event. Bring your family photos or other documents important to your family history to be scanned with professional equipment.  You will go home with a digital copy of your materials.  Registration is required for this event. \nThere is no limit on the amount of items that can be scanned\, but scanning is constrained to the time slot that you sign up for.  You will have a 30 minute time slot with 20 minutes for scanning.  Limit one time slot per person. \nOversized materials and negatives do take longer to scan than other materials. \nA flash drive is needed for this event\, you are encouraged to bring your own but the St. Cloud Library will have flash drives available.
URL:https://stearnshistorymuseum.org/event-items/community-scan-great-river-regional-library-st-cloud-public-library/
LOCATION:Great River Regional Library\, St. Cloud\, 1300 West St. Germain St.\, Saint Cloud\, MN\, 56301\, United States
CATEGORIES:Community Scan
ATTACH;FMTTYPE=image/png:https://stearnshistorymuseum.org/wp-content/uploads/2024/12/Copy-of-community-scan-thumbnail-for-Website-Calendar-4.png
END:VEVENT
BEGIN:VEVENT
DTSTART;TZID=America/Chicago:20250123T100000
DTEND;TZID=America/Chicago:20250123T120000
DTSTAMP:20260425T105217
CREATED:20241214T171422Z
LAST-MODIFIED:20250108T222112Z
UID:10000669-1737626400-1737633600@stearnshistorymuseum.org
SUMMARY:Community Scan- Great River Regional Library\, Melrose
DESCRIPTION:The Stearns History Museum in partnership with the Great River Library System is offering a free community scanning event. Bring your family photos or other documents important to your family history to be scanned with professional equipment.  You will go home with a digital copy of your materials.  \nRegistration is required for this event.  There is no limit on the amount of items that can be scanned\, but scanning is constrained to the time slot that you sign up for.  You will have a 30 minute time slot with 20 minutes for scanning.  Limit one time slot per person. \nOversized materials and negatives do take longer to scan than other materials.  \nA flash drive is needed for this event\, you are encouraged to bring your own but the museum will have flash drives available to purchase ($5).
URL:https://stearnshistorymuseum.org/event-items/community-scan-great-river-regional-library-melrose/
LOCATION:Great River Regional Library\, Melrose\, 225 E. 1st St. N.\, Melrose\, MN\, 56352\, United States
CATEGORIES:Community Scan
ATTACH;FMTTYPE=image/png:https://stearnshistorymuseum.org/wp-content/uploads/2024/12/Copy-of-community-scan-thumbnail-for-Website-Calendar-3.png
END:VEVENT
BEGIN:VEVENT
DTSTART;TZID=America/Chicago:20250122T100000
DTEND;TZID=America/Chicago:20250122T153000
DTSTAMP:20260425T105217
CREATED:20241217T153033Z
LAST-MODIFIED:20250108T222035Z
UID:10000675-1737540000-1737559800@stearnshistorymuseum.org
SUMMARY:Community Scan- Stearns History Museum
DESCRIPTION:The Stearns History Museum is offering a free community scanning event. Bring your family photos or other documents important to your family history to be scanned with professional equipment.  You will go home with a digital copy of your materials.  Registration is required for this event. \nThere is no limit on the amount of items that can be scanned\, but scanning is constrained to the time slot that you sign up for.  You will have a 30 minute time slot with 20 minutes for scanning.  Limit one time slot per person. \nOversized materials and negatives do take longer to scan than other materials. \nA flash drive is needed for this event\, you are encouraged to bring your own but the museum will have flash drives available to purchase ($5).
URL:https://stearnshistorymuseum.org/event-items/community-scan-stearns-history-museum-3/
LOCATION:Stearns History Museum\, 235 33rd Ave S\, St Cloud\, MN\, 56301\, United States
CATEGORIES:Community Scan
ATTACH;FMTTYPE=image/png:https://stearnshistorymuseum.org/wp-content/uploads/2024/12/Copy-of-community-scan-thumbnail-for-Website-Calendar-2.png
END:VEVENT
BEGIN:VEVENT
DTSTART;TZID=America/Chicago:20250118T100000
DTEND;TZID=America/Chicago:20250118T160000
DTSTAMP:20260425T105217
CREATED:20241214T171020Z
LAST-MODIFIED:20250108T222119Z
UID:10000668-1737194400-1737216000@stearnshistorymuseum.org
SUMMARY:Community Scan- Stearns History Museum
DESCRIPTION:The Stearns History Museum is offering a free community scanning event. Bring your family photos or other documents important to your family history to be scanned with professional equipment.  You will go home with a digital copy of your materials.  Registration is required for this event. \nThere is no limit on the amount of items that can be scanned\, but scanning is constrained to the time slot that you sign up for.  You will have a 30 minute time slot with 20 minutes for scanning.  Limit one time slot per person. \nOversized materials and negatives do take longer to scan than other materials. \nA flash drive is needed for this event\, you are encouraged to bring your own but the museum will have flash drives available to purchase ($5).
URL:https://stearnshistorymuseum.org/event-items/community-scan-stearns-history-museum/
LOCATION:Stearns History Museum\, 235 33rd Ave S\, St Cloud\, MN\, 56301\, United States
CATEGORIES:Community Scan
ATTACH;FMTTYPE=image/png:https://stearnshistorymuseum.org/wp-content/uploads/2024/12/Copy-of-community-scan-thumbnail-for-Website-Calendar-2.png
END:VEVENT
BEGIN:VEVENT
DTSTART;TZID=America/Chicago:20250115T150000
DTEND;TZID=America/Chicago:20250115T180000
DTSTAMP:20260425T105217
CREATED:20241214T170754Z
LAST-MODIFIED:20250108T222125Z
UID:10000667-1736953200-1736964000@stearnshistorymuseum.org
SUMMARY:Community Scan- Great River Regional Library\, Clearwater
DESCRIPTION:The Stearns History Museum in partnership with the Great River Library System is offering a free community scanning event. Bring your family photos or other documents important to your family history to be scanned with professional equipment.  You will go home with a digital copy of your materials.  \nRegistration is required for this event.  There is no limit on the amount of items that can be scanned\, but scanning is constrained to the time slot that you sign up for.  You will have a 30 minute time slot with 20 minutes for scanning.  Limit one time slot per person. \nOversized materials and negatives do take longer to scan than other materials.  \nA flash drive is needed for this event\, you are encouraged to bring your own but the museum will have flash drives available to purchase ($5).
URL:https://stearnshistorymuseum.org/event-items/community-scan-great-river-regional-library-clearwater/
LOCATION:Great River Regional Library\, Clearwater\, 740 Clearwater Center\, Clearwater\, MN\, 55320\, United States
CATEGORIES:Community Scan
ATTACH;FMTTYPE=image/png:https://stearnshistorymuseum.org/wp-content/uploads/2024/12/Copy-of-community-scan-thumbnail-for-Website-Calendar-1.png
END:VEVENT
BEGIN:VEVENT
DTSTART;TZID=America/Chicago:20250115T100000
DTEND;TZID=America/Chicago:20250115T130000
DTSTAMP:20260425T105217
CREATED:20241214T170519Z
LAST-MODIFIED:20250108T222129Z
UID:10000666-1736935200-1736946000@stearnshistorymuseum.org
SUMMARY:Community Scan- Great River Regional Library\, Kimball
DESCRIPTION:The Stearns History Museum in partnership with the Great River Library System is offering a free community scanning event. Bring your family photos or other documents important to your family history to be scanned with professional equipment.  You will go home with a digital copy of your materials.  \nRegistration is required for this event.  There is no limit on the amount of items that can be scanned\, but scanning is constrained to the time slot that you sign up for.  You will have a 30 minute time slot with 20 minutes for scanning.  Limit one time slot per person. \nOversized materials and negatives do take longer to scan than other materials.  \nA flash drive is needed for this event\, you are encouraged to bring your own but the museum will have flash drives available to purchase ($5).
URL:https://stearnshistorymuseum.org/event-items/community-scan-great-river-regional-library-kimball/
LOCATION:Great River Regional Library\, Kimball\, 51 Spruce Ave W.\, Kimball\, MN\, 55353\, United States
CATEGORIES:Community Scan
ATTACH;FMTTYPE=image/png:https://stearnshistorymuseum.org/wp-content/uploads/2024/12/Copy-of-community-scan-thumbnail-for-Website-Calendar-1.png
END:VEVENT
BEGIN:VEVENT
DTSTART;TZID=America/Chicago:20250113T160000
DTEND;TZID=America/Chicago:20250113T200000
DTSTAMP:20260425T105217
CREATED:20241214T170123Z
LAST-MODIFIED:20250108T222135Z
UID:10000665-1736784000-1736798400@stearnshistorymuseum.org
SUMMARY:Community Scan- Great River Regional Library\, Richmond
DESCRIPTION:The Stearns History Museum in partnership with the Great River Library System is offering a free community scanning event. Bring your family photos or other documents important to your family history to be scanned with professional equipment.  You will go home with a digital copy of your materials.  \nRegistration is required for this event.  There is no limit on the amount of items that can be scanned\, but scanning is constrained to the time slot that you sign up for.  You will have a 30 minute time slot with 20 minutes for scanning.  Limit one time slot per person. \nOversized materials and negatives do take longer to scan than other materials.  \nA flash drive is needed for this event\, you are encouraged to bring your own but the museum will have flash drives available to purchase ($5).
URL:https://stearnshistorymuseum.org/event-items/community-scan-great-river-regional-library-richmond/
LOCATION:Great River Regional Library\, Richmond\, 63 Hall Ave SW\, Richmond\, MN\, 56368\, United States
CATEGORIES:Community Scan
ATTACH;FMTTYPE=image/png:https://stearnshistorymuseum.org/wp-content/uploads/2024/12/Copy-of-community-scan-thumbnail-for-Website-Calendar.png
END:VEVENT
BEGIN:VEVENT
DTSTART;TZID=America/Chicago:20250113T120000
DTEND;TZID=America/Chicago:20250113T160000
DTSTAMP:20260425T105217
CREATED:20241214T165137Z
LAST-MODIFIED:20250108T222151Z
UID:10000664-1736769600-1736784000@stearnshistorymuseum.org
SUMMARY:Community Scan- Great River Regional Library\, Cold Spring
DESCRIPTION:The Stearns History Museum in partnership with the Great River Library System is offering a free community scanning event. Bring your family photos or other documents important to your family history to be scanned with professional equipment.  You will go home with a digital copy of your materials.  \nRegistration is required for this event.  There is no limit on the amount of items that can be scanned\, but scanning is constrained to the time slot that you sign up for.  You will have a 30 minute time slot with 20 minutes for scanning.  Limit one time slot per person. \nOversized materials and negatives do take longer to scan than other materials.  \nA flash drive is needed for this event\, you are encouraged to bring your own but the museum will have flash drives available to purchase ($5). \n 
URL:https://stearnshistorymuseum.org/event-items/community-scan-great-river-regional-library-cold-spring/
LOCATION:Great River Regional Library\, Cold Spring\, 27 Red River Ave S.\, Cold Spring\, MN\, United States
CATEGORIES:Community Scan
ATTACH;FMTTYPE=image/png:https://stearnshistorymuseum.org/wp-content/uploads/2024/12/Copy-of-community-scan-thumbnail-for-Website-Calendar.png
END:VEVENT
BEGIN:VEVENT
DTSTART;TZID=America/Chicago:20240406T130000
DTEND;TZID=America/Chicago:20240406T160000
DTSTAMP:20260425T105217
CREATED:20240214T215434Z
LAST-MODIFIED:20250108T222156Z
UID:10000644-1712408400-1712419200@stearnshistorymuseum.org
SUMMARY:Community Scan
DESCRIPTION:The Stearns History Museum will be hosting a community scanning event. Bring your old family photos and have them scanned for FREE. Registration is required. Limit 15 items.
URL:https://stearnshistorymuseum.org/event-items/community-scan-2/
LOCATION:Stearns History Museum\, 235 33rd Ave S\, St Cloud\, MN\, 56301\, United States
CATEGORIES:Community Scan
ATTACH;FMTTYPE=image/jpeg:https://stearnshistorymuseum.org/wp-content/uploads/2024/02/Community-Scan.jpg
END:VEVENT
BEGIN:VEVENT
DTSTART;TZID=America/Chicago:20240323T130000
DTEND;TZID=America/Chicago:20240323T160000
DTSTAMP:20260425T105217
CREATED:20240214T205203Z
LAST-MODIFIED:20250108T222202Z
UID:10000643-1711198800-1711209600@stearnshistorymuseum.org
SUMMARY:Community Scan
DESCRIPTION:The Stearns History Museum will be hosting a community scanning event. Bring your old family photos and have them scanned for FREE. Registration is required. Limit 15 items.
URL:https://stearnshistorymuseum.org/event-items/community-scan/
LOCATION:Stearns History Museum\, 235 33rd Ave S\, St Cloud\, MN\, 56301\, United States
CATEGORIES:Community Scan
ATTACH;FMTTYPE=image/jpeg:https://stearnshistorymuseum.org/wp-content/uploads/2024/02/Community-Scan.jpg
END:VEVENT
END:VCALENDAR