BEGIN:VCALENDAR
VERSION:2.0
PRODID:-//Stearns History Museum - ECPv6.15.20//NONSGML v1.0//EN
CALSCALE:GREGORIAN
METHOD:PUBLISH
X-WR-CALNAME:Stearns History Museum
X-ORIGINAL-URL:https://stearnshistorymuseum.org
X-WR-CALDESC:Events for Stearns History Museum
REFRESH-INTERVAL;VALUE=DURATION:PT1H
X-Robots-Tag:noindex
X-PUBLISHED-TTL:PT1H
BEGIN:VTIMEZONE
TZID:America/Chicago
BEGIN:DAYLIGHT
TZOFFSETFROM:-0600
TZOFFSETTO:-0500
TZNAME:CDT
DTSTART:20190310T080000
END:DAYLIGHT
BEGIN:STANDARD
TZOFFSETFROM:-0500
TZOFFSETTO:-0600
TZNAME:CST
DTSTART:20191103T070000
END:STANDARD
BEGIN:DAYLIGHT
TZOFFSETFROM:-0600
TZOFFSETTO:-0500
TZNAME:CDT
DTSTART:20200308T080000
END:DAYLIGHT
BEGIN:STANDARD
TZOFFSETFROM:-0500
TZOFFSETTO:-0600
TZNAME:CST
DTSTART:20201101T070000
END:STANDARD
BEGIN:DAYLIGHT
TZOFFSETFROM:-0600
TZOFFSETTO:-0500
TZNAME:CDT
DTSTART:20210314T080000
END:DAYLIGHT
BEGIN:STANDARD
TZOFFSETFROM:-0500
TZOFFSETTO:-0600
TZNAME:CST
DTSTART:20211107T070000
END:STANDARD
BEGIN:DAYLIGHT
TZOFFSETFROM:-0600
TZOFFSETTO:-0500
TZNAME:CDT
DTSTART:20220313T080000
END:DAYLIGHT
BEGIN:STANDARD
TZOFFSETFROM:-0500
TZOFFSETTO:-0600
TZNAME:CST
DTSTART:20221106T070000
END:STANDARD
BEGIN:DAYLIGHT
TZOFFSETFROM:-0600
TZOFFSETTO:-0500
TZNAME:CDT
DTSTART:20230312T080000
END:DAYLIGHT
BEGIN:STANDARD
TZOFFSETFROM:-0500
TZOFFSETTO:-0600
TZNAME:CST
DTSTART:20231105T070000
END:STANDARD
END:VTIMEZONE
BEGIN:VEVENT
DTSTART;TZID=America/Chicago:20220113T173000
DTEND;TZID=America/Chicago:20220113T190000
DTSTAMP:20260425T203737
CREATED:20211026T173102Z
LAST-MODIFIED:20220822T211424Z
UID:10000392-1642095000-1642100400@stearnshistorymuseum.org
SUMMARY:Hops and History- “Weddings from Wonderful to Weird: How Bridal Fashions Have Shaped the Way We Wed over 120 Years”- Jessica Cygan
DESCRIPTION:Hops and History is back! In 2022\, every other month we will be enjoying a Historic Happy Hour\, complete with discussions of quirky historic topics and local craft beer from Pantown Brewing. \nSeamstress\, reenactor and vintage collector Jessica Cygan leads a discussion on the traditional\, the wonderful and the weird of vintage bridal fashion. Cygan will talk about where our modern ideas about weddings came from\, and answer questions like: Why do we wear white and when did that tradition begin? How did royal weddings influence our views of weddings? Is that expensive dress only used once? Did they actually make dresses out of parachutes in World War II? Answers to this and many more burning questions explained about bridal traditions from 1840 to 1960. \nThe drinking of the beer starts at 5:30\, and the program begins at 6! So mark the following dates on your calendar\, bring some cash for a couple pints of delicious beer\, and join us! Call 320.253.8424 or email info@stearns-museum.org for information on how to register. \nCost: $7 for non-members\, members free \n\nJanuary 13- “Weddings from Wonderful to Weird: How Bridal Fashions Have Shaped the way we Wed over 120 Years”- Jessica Cygan- 5:30 pm\nMarch 10- “Prairie Madness: Fact or Fiction?”- Caitlin Carlson and Eric Cheever- 5:30 pm\nMay 12- “WWII: Pin-ups\, Anchors\, and Hearts”- Mitch Bender- 5:30 pm
URL:https://stearnshistorymuseum.org/event-items/january-hops-and-history/
LOCATION:Stearns History Museum\, 235 33rd Ave S\, St Cloud\, MN\, 56301\, United States
CATEGORIES:Events,Hops & History
ATTACH;FMTTYPE=image/jpeg:https://stearnshistorymuseum.org/wp-content/uploads/2021/10/image0-scaled.jpeg
END:VEVENT
BEGIN:VEVENT
DTSTART;TZID=America/Chicago:20200220T173000
DTEND;TZID=America/Chicago:20200220T190000
DTSTAMP:20260425T203737
CREATED:20200114T104957Z
LAST-MODIFIED:20220822T211429Z
UID:10000287-1582219800-1582225200@stearnshistorymuseum.org
SUMMARY:Hops and History\, Monks and Moonshine
DESCRIPTION:
URL:https://stearnshistorymuseum.org/event-items/hops-and-history-monks-and-moonshine/
LOCATION:Stearns History Museum\, 235 33rd Ave S\, St Cloud\, MN\, 56301\, United States
CATEGORIES:Hops & History,Programs
ATTACH;FMTTYPE=image/jpeg:https://stearnshistorymuseum.org/wp-content/uploads/2020/01/Monks-and-Moonshine.jpg
END:VEVENT
BEGIN:VEVENT
DTSTART;TZID=America/Chicago:20200116T080000
DTEND;TZID=America/Chicago:20200116T220000
DTSTAMP:20260425T203737
CREATED:20200109T035334Z
LAST-MODIFIED:20220822T211439Z
UID:10000273-1579161600-1579212000@stearnshistorymuseum.org
SUMMARY:Hops and History\, Trivia @ Pantown Brewing
DESCRIPTION:
URL:https://stearnshistorymuseum.org/event-items/hops-and-history-trivia/
LOCATION:Pantown Brewing Company\, 408 37th Avenue North\, St. Cloud\, 56303\, United States
CATEGORIES:Hops & History
ATTACH;FMTTYPE=image/png:https://stearnshistorymuseum.org/wp-content/uploads/2019/12/Hops-and-History-150.png
END:VEVENT
END:VCALENDAR