BEGIN:VCALENDAR
VERSION:2.0
PRODID:-//Stearns History Museum - ECPv6.15.20//NONSGML v1.0//EN
CALSCALE:GREGORIAN
METHOD:PUBLISH
X-ORIGINAL-URL:https://stearnshistorymuseum.org
X-WR-CALDESC:Events for Stearns History Museum
REFRESH-INTERVAL;VALUE=DURATION:PT1H
X-Robots-Tag:noindex
X-PUBLISHED-TTL:PT1H
BEGIN:VTIMEZONE
TZID:America/Chicago
BEGIN:DAYLIGHT
TZOFFSETFROM:-0600
TZOFFSETTO:-0500
TZNAME:CDT
DTSTART:20190310T080000
END:DAYLIGHT
BEGIN:STANDARD
TZOFFSETFROM:-0500
TZOFFSETTO:-0600
TZNAME:CST
DTSTART:20191103T070000
END:STANDARD
BEGIN:DAYLIGHT
TZOFFSETFROM:-0600
TZOFFSETTO:-0500
TZNAME:CDT
DTSTART:20200308T080000
END:DAYLIGHT
BEGIN:STANDARD
TZOFFSETFROM:-0500
TZOFFSETTO:-0600
TZNAME:CST
DTSTART:20201101T070000
END:STANDARD
BEGIN:DAYLIGHT
TZOFFSETFROM:-0600
TZOFFSETTO:-0500
TZNAME:CDT
DTSTART:20210314T080000
END:DAYLIGHT
BEGIN:STANDARD
TZOFFSETFROM:-0500
TZOFFSETTO:-0600
TZNAME:CST
DTSTART:20211107T070000
END:STANDARD
BEGIN:DAYLIGHT
TZOFFSETFROM:-0600
TZOFFSETTO:-0500
TZNAME:CDT
DTSTART:20220313T080000
END:DAYLIGHT
BEGIN:STANDARD
TZOFFSETFROM:-0500
TZOFFSETTO:-0600
TZNAME:CST
DTSTART:20221106T070000
END:STANDARD
BEGIN:DAYLIGHT
TZOFFSETFROM:-0600
TZOFFSETTO:-0500
TZNAME:CDT
DTSTART:20230312T080000
END:DAYLIGHT
BEGIN:STANDARD
TZOFFSETFROM:-0500
TZOFFSETTO:-0600
TZNAME:CST
DTSTART:20231105T070000
END:STANDARD
END:VTIMEZONE
BEGIN:VEVENT
DTSTART;TZID=America/Chicago:20221220T100000
DTEND;TZID=America/Chicago:20221220T120000
DTSTAMP:20260423T021220
CREATED:20220719T183500Z
LAST-MODIFIED:20230405T172355Z
UID:10000471-1671530400-1671537600@stearnshistorymuseum.org
SUMMARY:Memory Writers
DESCRIPTION:Memory Writers is a writing group that meets twice a month on the first and third Tuesdays at 10:00 am.  The group develop topics to write about and in turn shares those stories. This program is free to Museum members (non-members $7). \nQuestions? Call the Museum at 320.253.8424. \n 
URL:https://stearnshistorymuseum.org/event-items/memory-writers-33/
LOCATION:Stearns History Museum\, 235 33rd Ave S\, St Cloud\, MN\, 56301\, United States
CATEGORIES:Memory Writers,Programs
ATTACH;FMTTYPE=image/jpeg:https://stearnshistorymuseum.org/wp-content/uploads/2020/01/Typewriter.jpg
END:VEVENT
BEGIN:VEVENT
DTSTART;TZID=America/Chicago:20221206T100000
DTEND;TZID=America/Chicago:20221206T120000
DTSTAMP:20260423T021220
CREATED:20220719T183348Z
LAST-MODIFIED:20230405T172400Z
UID:10000470-1670320800-1670328000@stearnshistorymuseum.org
SUMMARY:Memory Writers
DESCRIPTION:Memory Writers is a writing group that meets twice a month on the first and third Tuesdays at 10:00 am.  The group develop topics to write about and in turn shares those stories. This program is free to Museum members (non-members $7). \nQuestions? Call the Museum at 320.253.8424.
URL:https://stearnshistorymuseum.org/event-items/memory-writers-32/
LOCATION:Stearns History Museum\, 235 33rd Ave S\, St Cloud\, MN\, 56301\, United States
CATEGORIES:Memory Writers,Programs
ATTACH;FMTTYPE=image/jpeg:https://stearnshistorymuseum.org/wp-content/uploads/2020/01/Typewriter.jpg
END:VEVENT
BEGIN:VEVENT
DTSTART;TZID=America/Chicago:20221115T100000
DTEND;TZID=America/Chicago:20221115T120000
DTSTAMP:20260423T021220
CREATED:20220719T182627Z
LAST-MODIFIED:20230405T172407Z
UID:10000466-1668506400-1668513600@stearnshistorymuseum.org
SUMMARY:Memory Writers
DESCRIPTION:Memory Writers is a writing group that meets twice a month on the first and third Tuesdays at 10:00 am.  The group develop topics to write about and in turn shares those stories. This program is free to Museum members (non-members $7). \nFor additional information\, please call the Museum at 320.253.8424.
URL:https://stearnshistorymuseum.org/event-items/memory-writers-31/
LOCATION:Stearns History Museum\, 235 33rd Ave S\, St Cloud\, MN\, 56301\, United States
CATEGORIES:Memory Writers,Programs
ATTACH;FMTTYPE=image/jpeg:https://stearnshistorymuseum.org/wp-content/uploads/2020/01/Typewriter.jpg
END:VEVENT
BEGIN:VEVENT
DTSTART;TZID=America/Chicago:20221101T100000
DTEND;TZID=America/Chicago:20221101T120000
DTSTAMP:20260423T021220
CREATED:20220719T182516Z
LAST-MODIFIED:20230405T172412Z
UID:10000465-1667296800-1667304000@stearnshistorymuseum.org
SUMMARY:Memory Writers
DESCRIPTION:Memory Writers is a writing group that meets twice a month on the first and third Tuesdays at 10:00 am.  The group develop topics to write about and in turn shares those stories. This program is free to Museum members (non-members $7). \nFor additional information\, please call the Museum at 320.253.8424.
URL:https://stearnshistorymuseum.org/event-items/memory-writers-30/
LOCATION:Stearns History Museum\, 235 33rd Ave S\, St Cloud\, MN\, 56301\, United States
CATEGORIES:Memory Writers,Programs
ATTACH;FMTTYPE=image/jpeg:https://stearnshistorymuseum.org/wp-content/uploads/2020/01/Typewriter.jpg
END:VEVENT
BEGIN:VEVENT
DTSTART;TZID=America/Chicago:20221018T100000
DTEND;TZID=America/Chicago:20221018T120000
DTSTAMP:20260423T021220
CREATED:20220513T151553Z
LAST-MODIFIED:20230405T172417Z
UID:10000452-1666087200-1666094400@stearnshistorymuseum.org
SUMMARY:Memory Writers
DESCRIPTION:Memory Writers is a writing group that meets twice a month on the first and third Tuesdays at 10:00 am.  The group develop topics to write about and in turn shares those stories. This program is free to Museum members (non-members $7).
URL:https://stearnshistorymuseum.org/event-items/memory-writers-29/
LOCATION:Stearns History Museum\, 235 33rd Ave S\, St Cloud\, MN\, 56301\, United States
CATEGORIES:Memory Writers,Programs
ATTACH;FMTTYPE=image/jpeg:https://stearnshistorymuseum.org/wp-content/uploads/2020/01/Typewriter.jpg
END:VEVENT
BEGIN:VEVENT
DTSTART;TZID=America/Chicago:20221004T100000
DTEND;TZID=America/Chicago:20221004T120000
DTSTAMP:20260423T021220
CREATED:20220513T145617Z
LAST-MODIFIED:20230405T172422Z
UID:10000450-1664877600-1664884800@stearnshistorymuseum.org
SUMMARY:Memory Writers
DESCRIPTION:Memory Writers is a writing group that meets twice a month on the first and third Tuesdays at 10:00 am.  The group develop topics to write about and in turn shares those stories. This program is free to Museum members (non-members $7).
URL:https://stearnshistorymuseum.org/event-items/memory-writers-28/
LOCATION:Stearns History Museum\, 235 33rd Ave S\, St Cloud\, MN\, 56301\, United States
CATEGORIES:Memory Writers,Programs
ATTACH;FMTTYPE=image/jpeg:https://stearnshistorymuseum.org/wp-content/uploads/2020/01/Typewriter.jpg
END:VEVENT
BEGIN:VEVENT
DTSTART;TZID=America/Chicago:20220920T100000
DTEND;TZID=America/Chicago:20220920T120000
DTSTAMP:20260423T021220
CREATED:20220513T144908Z
LAST-MODIFIED:20230405T172427Z
UID:10000447-1663668000-1663675200@stearnshistorymuseum.org
SUMMARY:Memory Writers
DESCRIPTION:Memory Writers is a writing group that meets twice a month on the first and third Tuesdays at 10:00 am.  The group develop topics to write about and in turn shares those stories. This program is free to Museum members (non-members $7).
URL:https://stearnshistorymuseum.org/event-items/memory-writers-27/
LOCATION:Stearns History Museum\, 235 33rd Ave S\, St Cloud\, MN\, 56301\, United States
CATEGORIES:Memory Writers,Programs
ATTACH;FMTTYPE=image/jpeg:https://stearnshistorymuseum.org/wp-content/uploads/2020/01/Typewriter.jpg
END:VEVENT
BEGIN:VEVENT
DTSTART;TZID=America/Chicago:20220906T100000
DTEND;TZID=America/Chicago:20220906T120000
DTSTAMP:20260423T021220
CREATED:20220513T144831Z
LAST-MODIFIED:20230405T172432Z
UID:10000446-1662458400-1662465600@stearnshistorymuseum.org
SUMMARY:Memory Writers
DESCRIPTION:Memory Writers is a writing group that meets twice a month on the first and third Tuesdays at 10:00 am.  The group develops topics to write about and in turn share those stories to the group. This program is free to Museum members (non-members $7).
URL:https://stearnshistorymuseum.org/event-items/memory-writers-26/
LOCATION:Stearns History Museum\, 235 33rd Ave S\, St Cloud\, MN\, 56301\, United States
CATEGORIES:Memory Writers,Programs
ATTACH;FMTTYPE=image/jpeg:https://stearnshistorymuseum.org/wp-content/uploads/2020/01/Typewriter.jpg
END:VEVENT
BEGIN:VEVENT
DTSTART;TZID=America/Chicago:20220517T100000
DTEND;TZID=America/Chicago:20220517T120000
DTSTAMP:20260423T021220
CREATED:20220202T173247Z
LAST-MODIFIED:20230405T172438Z
UID:10000426-1652781600-1652788800@stearnshistorymuseum.org
SUMMARY:Memory Writers
DESCRIPTION:Memory Writers is a writing group that meets twice a month on the first and third Tuesdays at 10:00 am.  The group develop topics to write about and in turn shares those stories. This program is free to Museum members (non-members $7).
URL:https://stearnshistorymuseum.org/event-items/memory-writers-25/
LOCATION:Stearns History Museum\, 235 33rd Ave S\, St Cloud\, MN\, 56301\, United States
CATEGORIES:Memory Writers,Programs
END:VEVENT
BEGIN:VEVENT
DTSTART;TZID=America/Chicago:20220503T100000
DTEND;TZID=America/Chicago:20220503T120000
DTSTAMP:20260423T021220
CREATED:20220202T172553Z
LAST-MODIFIED:20230405T172442Z
UID:10000424-1651572000-1651579200@stearnshistorymuseum.org
SUMMARY:Memory Writers
DESCRIPTION:Memory Writers is a writing group that meets twice a month on the first and third Tuesdays at 10:00 am.  The group develop topics to write about and in turn shares those stories. This program is free to Museum members (non-members $7).
URL:https://stearnshistorymuseum.org/event-items/memory-writers-24/
LOCATION:Stearns History Museum\, 235 33rd Ave S\, St Cloud\, MN\, 56301\, United States
CATEGORIES:Memory Writers,Programs
ATTACH;FMTTYPE=image/jpeg:https://stearnshistorymuseum.org/wp-content/uploads/2020/01/Typewriter.jpg
END:VEVENT
BEGIN:VEVENT
DTSTART;TZID=America/Chicago:20220419T100000
DTEND;TZID=America/Chicago:20220419T120000
DTSTAMP:20260423T021220
CREATED:20220125T205733Z
LAST-MODIFIED:20230405T172450Z
UID:10000423-1650362400-1650369600@stearnshistorymuseum.org
SUMMARY:Memory Writers
DESCRIPTION:Memory Writers is a writing group that meets twice a month on the first and third Tuesdays at 10:00 am.  The group develop topics to write about and in turn shares those stories. This program is free to Museum members (non-members $7).
URL:https://stearnshistorymuseum.org/event-items/memory-writers-23/
LOCATION:Stearns History Museum\, 235 33rd Ave S\, St Cloud\, MN\, 56301\, United States
CATEGORIES:Memory Writers,Programs
END:VEVENT
BEGIN:VEVENT
DTSTART;TZID=America/Chicago:20220405T100000
DTEND;TZID=America/Chicago:20220405T120000
DTSTAMP:20260423T021220
CREATED:20220125T205430Z
LAST-MODIFIED:20230405T172501Z
UID:10000421-1649152800-1649160000@stearnshistorymuseum.org
SUMMARY:Memory Writers
DESCRIPTION:Memory Writers is a writing group that meets twice a month on the first and third Tuesdays at 10:00 am.  The group develop topics to write about and in turn shares those stories. This program is free to Museum members (non-members $7).
URL:https://stearnshistorymuseum.org/event-items/memory-writers-22/
LOCATION:Stearns History Museum\, 235 33rd Ave S\, St Cloud\, MN\, 56301\, United States
CATEGORIES:Memory Writers,Programs
ATTACH;FMTTYPE=image/jpeg:https://stearnshistorymuseum.org/wp-content/uploads/2021/12/iStock-1299744149.jpg
END:VEVENT
BEGIN:VEVENT
DTSTART;TZID=America/Chicago:20220315T100000
DTEND;TZID=America/Chicago:20220315T110000
DTSTAMP:20260423T021220
CREATED:20220125T205324Z
LAST-MODIFIED:20230405T172457Z
UID:10000420-1647338400-1647342000@stearnshistorymuseum.org
SUMMARY:Memory Writers
DESCRIPTION:Memory Writers is a writing group that meets twice a month on the first and third Tuesdays at 10:00 am.  The group develop topics to write about and in turn shares those stories. This program is free to Museum members (non-members $7).
URL:https://stearnshistorymuseum.org/event-items/memory-writers-21/
LOCATION:Stearns History Museum\, 235 33rd Ave S\, St Cloud\, MN\, 56301\, United States
CATEGORIES:Memory Writers,Programs
ATTACH;FMTTYPE=image/jpeg:https://stearnshistorymuseum.org/wp-content/uploads/2021/12/iStock-1299744149.jpg
END:VEVENT
BEGIN:VEVENT
DTSTART;TZID=America/Chicago:20220215T100000
DTEND;TZID=America/Chicago:20220215T110000
DTSTAMP:20260423T021220
CREATED:20220125T204505Z
LAST-MODIFIED:20230405T172507Z
UID:10000417-1644919200-1644922800@stearnshistorymuseum.org
SUMMARY:Memory Writers
DESCRIPTION:Memory Writers is a writing group that meets twice a month on the first and third Tuesdays at 10:00 am.  The group develop topics to write about and in turn shares those stories. This program is free to Museum members (non-members $7).
URL:https://stearnshistorymuseum.org/event-items/memory-writers-20/
LOCATION:Stearns History Museum\, 235 33rd Ave S\, St Cloud\, MN\, 56301\, United States
CATEGORIES:Memory Writers,Programs
ATTACH;FMTTYPE=image/jpeg:https://stearnshistorymuseum.org/wp-content/uploads/2021/12/iStock-1299744149.jpg
END:VEVENT
BEGIN:VEVENT
DTSTART;TZID=America/Chicago:20220201T100000
DTEND;TZID=America/Chicago:20220201T110000
DTSTAMP:20260423T021220
CREATED:20220125T203958Z
LAST-MODIFIED:20230405T172512Z
UID:10000415-1643709600-1643713200@stearnshistorymuseum.org
SUMMARY:Memory Writers
DESCRIPTION:Memory Writers is a writing group that meets twice a month on the first and third Tuesdays at 10:00 am.  The group develop topics to write about and in turn shares those stories. This program is free to Museum members (non-members $7)
URL:https://stearnshistorymuseum.org/event-items/memory-writers-19/
LOCATION:Stearns History Museum\, 235 33rd Ave S\, St Cloud\, MN\, 56301\, United States
CATEGORIES:Events,Memory Writers
ATTACH;FMTTYPE=image/jpeg:https://stearnshistorymuseum.org/wp-content/uploads/2021/12/iStock-1299744149.jpg
END:VEVENT
BEGIN:VEVENT
DTSTART;TZID=America/Chicago:20220118T100000
DTEND;TZID=America/Chicago:20220118T120000
DTSTAMP:20260423T021220
CREATED:20211102T204339Z
LAST-MODIFIED:20230405T172521Z
UID:10000395-1642500000-1642507200@stearnshistorymuseum.org
SUMMARY:Memory Writers
DESCRIPTION:Memory Writers is a writing group that meets twice a month on the first and third Tuesdays at 10:00 am.  The group develop topics to write about and in turn shares those stories. This program is free to Museum members (non-members $7). Join the Memory Writers as they explore our past and develop skills as writers. No RSVP is required. Questions? Contact Jan Sorell for more information: jsorrell97@gmail.com
URL:https://stearnshistorymuseum.org/event-items/memory-writers-18/
LOCATION:Stearns History Museum\, 235 33rd Ave S\, St Cloud\, MN\, 56301\, United States
CATEGORIES:Events,Memory Writers
ATTACH;FMTTYPE=image/jpeg:https://stearnshistorymuseum.org/wp-content/uploads/2020/01/Typewriter.jpg
END:VEVENT
BEGIN:VEVENT
DTSTART;TZID=America/Chicago:20220111T100000
DTEND;TZID=America/Chicago:20220111T120000
DTSTAMP:20260423T021220
CREATED:20211102T203734Z
LAST-MODIFIED:20230405T172526Z
UID:10000393-1641895200-1641902400@stearnshistorymuseum.org
SUMMARY:Memory Writers
DESCRIPTION:Memory Writers is a writing group that meets twice a month on the first and third Tuesdays at 10:00 am.  The group develop topics to write about and in turn shares those stories. This program is free to Museum members (non-members $7). Join the Memory Writers as they explore our past and develop skills as writers. No RSVP is required. Questions? Contact Jan Sorell for more information: jsorrell97@gmail.com \n 
URL:https://stearnshistorymuseum.org/event-items/memory-writers-17/
LOCATION:Stearns History Museum\, 235 33rd Ave S\, St Cloud\, MN\, 56301\, United States
CATEGORIES:Events,Memory Writers
ATTACH;FMTTYPE=image/png:https://stearnshistorymuseum.org/wp-content/uploads/2021/04/Screen-Shot-2021-04-16-at-7.07.04-AM.png
END:VEVENT
BEGIN:VEVENT
DTSTART;TZID=America/Chicago:20211221T100000
DTEND;TZID=America/Chicago:20211221T120000
DTSTAMP:20260423T021220
CREATED:20210722T173203Z
LAST-MODIFIED:20230405T172535Z
UID:10000368-1640080800-1640088000@stearnshistorymuseum.org
SUMMARY:Memory Writers
DESCRIPTION:Memory Writers is a writing group that meets twice a month on the first and third Tuesdays at 10:00 am.  The group develop topics to write about and in turn shares those stories. This program is free to Museum members (non-members $7). Join the Memory Writers as they explore our past and develop skills as writers. No RSVP is required. Questions? Contact Jan Sorell for more information: jsorrell97@gmail.com
URL:https://stearnshistorymuseum.org/event-items/memory-writers-16/
LOCATION:Stearns History Museum\, 235 33rd Ave S\, St Cloud\, MN\, 56301\, United States
CATEGORIES:Events,Memory Writers
ATTACH;FMTTYPE=image/png:https://stearnshistorymuseum.org/wp-content/uploads/2021/04/Screen-Shot-2021-04-16-at-7.07.04-AM.png
END:VEVENT
BEGIN:VEVENT
DTSTART;TZID=America/Chicago:20211207T100000
DTEND;TZID=America/Chicago:20211207T120000
DTSTAMP:20260423T021220
CREATED:20210722T173118Z
LAST-MODIFIED:20230405T172540Z
UID:10000367-1638871200-1638878400@stearnshistorymuseum.org
SUMMARY:Memory Writers
DESCRIPTION:Memory Writers is a writing group that meets twice a month on the first and third Tuesdays at 10:00 am.  The group develop topics to write about and in turn shares those stories. This program is free to Museum members (non-members $7). Join the Memory Writers as they explore our past and develop skills as writers. No RSVP is required. Questions? Contact Jan Sorell for more information: jsorrell97@gmail.com
URL:https://stearnshistorymuseum.org/event-items/memory-writers-15/
LOCATION:Stearns History Museum\, 235 33rd Ave S\, St Cloud\, MN\, 56301\, United States
CATEGORIES:Events,Memory Writers
ATTACH;FMTTYPE=image/png:https://stearnshistorymuseum.org/wp-content/uploads/2021/04/Screen-Shot-2021-04-16-at-7.07.04-AM.png
END:VEVENT
BEGIN:VEVENT
DTSTART;TZID=America/Chicago:20211116T100000
DTEND;TZID=America/Chicago:20211116T120000
DTSTAMP:20260423T021220
CREATED:20210722T173031Z
LAST-MODIFIED:20230405T172544Z
UID:10000366-1637056800-1637064000@stearnshistorymuseum.org
SUMMARY:Memory Writers
DESCRIPTION:Memory Writers is a writing group that meets twice a month on the first and third Tuesdays at 10:00 am.  The group develop topics to write about and in turn shares those stories. This program is free to Museum members (non-members $7). Join the Memory Writers as they explore our past and develop skills as writers. No RSVP is required. Questions? Contact Jan Sorell for more information: jsorrell97@gmail.com
URL:https://stearnshistorymuseum.org/event-items/memory-writers-14/
LOCATION:Stearns History Museum\, 235 33rd Ave S\, St Cloud\, MN\, 56301\, United States
CATEGORIES:Events,Memory Writers
ATTACH;FMTTYPE=image/png:https://stearnshistorymuseum.org/wp-content/uploads/2021/04/Screen-Shot-2021-04-16-at-7.07.04-AM.png
END:VEVENT
BEGIN:VEVENT
DTSTART;TZID=America/Chicago:20211102T100000
DTEND;TZID=America/Chicago:20211102T120000
DTSTAMP:20260423T021220
CREATED:20210722T172748Z
LAST-MODIFIED:20230405T172554Z
UID:10000365-1635847200-1635854400@stearnshistorymuseum.org
SUMMARY:Memory Writers
DESCRIPTION:Memory Writers is a writing group that meets twice a month on the first and third Tuesdays at 10:00 am.  The group develop topics to write about and in turn shares those stories. This program is free to Museum members (non-members $7). Join the Memory Writers as they explore our past and develop skills as writers. No RSVP is required. Questions? Contact Jan Sorell for more information: jsorrell97@gmail.com
URL:https://stearnshistorymuseum.org/event-items/memory-writers-13/
LOCATION:Stearns History Museum\, 235 33rd Ave S\, St Cloud\, MN\, 56301\, United States
CATEGORIES:Events,Memory Writers
ATTACH;FMTTYPE=image/png:https://stearnshistorymuseum.org/wp-content/uploads/2021/04/Screen-Shot-2021-04-16-at-7.07.04-AM.png
END:VEVENT
BEGIN:VEVENT
DTSTART;TZID=America/Chicago:20211019T100000
DTEND;TZID=America/Chicago:20211019T120000
DTSTAMP:20260423T021220
CREATED:20210722T172653Z
LAST-MODIFIED:20230405T172600Z
UID:10000364-1634637600-1634644800@stearnshistorymuseum.org
SUMMARY:Memory Writers
DESCRIPTION:Memory Writers is a writing group that meets twice a month on the first and third Tuesdays at 10:00 am.  The group develop topics to write about and in turn shares those stories. This program is free to Museum members (non-members $7). Join the Memory Writers as they explore our past and develop skills as writers. No RSVP is required. Questions? Contact Jan Sorell for more information: jsorrell97@gmail.com
URL:https://stearnshistorymuseum.org/event-items/memory-writers-12/
LOCATION:Stearns History Museum\, 235 33rd Ave S\, St Cloud\, MN\, 56301\, United States
CATEGORIES:Events,Memory Writers
ATTACH;FMTTYPE=image/png:https://stearnshistorymuseum.org/wp-content/uploads/2021/04/Screen-Shot-2021-04-16-at-7.07.04-AM.png
END:VEVENT
BEGIN:VEVENT
DTSTART;TZID=America/Chicago:20211005T100000
DTEND;TZID=America/Chicago:20211005T120000
DTSTAMP:20260423T021220
CREATED:20210722T172520Z
LAST-MODIFIED:20230405T172605Z
UID:10000363-1633428000-1633435200@stearnshistorymuseum.org
SUMMARY:Memory Writers
DESCRIPTION:Memory Writers is a writing group that meets twice a month on the first and third Tuesdays at 10:00 am.  The group develop topics to write about and in turn shares those stories. This program is free to Museum members (non-members $7). Join the Memory Writers as they explore our past and develop skills as writers. No RSVP is required. Questions? Contact Jan Sorell for more information: jsorrell97@gmail.com
URL:https://stearnshistorymuseum.org/event-items/memory-writers-11/
LOCATION:Stearns History Museum\, 235 33rd Ave S\, St Cloud\, MN\, 56301\, United States
CATEGORIES:Events,Memory Writers
ATTACH;FMTTYPE=image/png:https://stearnshistorymuseum.org/wp-content/uploads/2021/04/Screen-Shot-2021-04-16-at-7.07.04-AM.png
END:VEVENT
BEGIN:VEVENT
DTSTART;TZID=America/Chicago:20210921T100000
DTEND;TZID=America/Chicago:20210921T120000
DTSTAMP:20260423T021220
CREATED:20210621T115354Z
LAST-MODIFIED:20230405T172611Z
UID:10000345-1632218400-1632225600@stearnshistorymuseum.org
SUMMARY:Memory Writers
DESCRIPTION:Memory Writers is a writing group that meets twice a month on the first and third Tuesdays at 10:00 am.  The group develop topics to write about and in turn shares those stories. This program is free to Museum members (non-members $7). Join the Memory Writers as they explore our past and develop skills as writers. No RSVP is required. Questions? Contact Jan Sorell for more information: jsorrell97@gmail.com
URL:https://stearnshistorymuseum.org/event-items/memory-writers-10/
LOCATION:Stearns History Museum\, 235 33rd Ave S\, St Cloud\, MN\, 56301\, United States
CATEGORIES:Events,Memory Writers
ATTACH;FMTTYPE=image/png:https://stearnshistorymuseum.org/wp-content/uploads/2021/04/Screen-Shot-2021-04-16-at-7.07.04-AM.png
END:VEVENT
BEGIN:VEVENT
DTSTART;TZID=America/Chicago:20210907T100000
DTEND;TZID=America/Chicago:20210907T120000
DTSTAMP:20260423T021220
CREATED:20210621T115055Z
LAST-MODIFIED:20230405T172615Z
UID:10000344-1631008800-1631016000@stearnshistorymuseum.org
SUMMARY:Memory Writers
DESCRIPTION:Memory Writers is a writing group that meets twice a month on the first and third Tuesdays at 10:00 am.  The group develop topics to write about and in turn shares those stories. This program is free to Museum members (non-members $7). Join the Memory Writers as they explore our past and develop skills as writers. No RSVP is required. Questions? Contact Jan Sorell for more information: jsorrell97@gmail.com
URL:https://stearnshistorymuseum.org/event-items/memory-writers-9/
LOCATION:Stearns History Museum\, 235 33rd Ave S\, St Cloud\, MN\, 56301\, United States
CATEGORIES:Events,Memory Writers
ATTACH;FMTTYPE=image/png:https://stearnshistorymuseum.org/wp-content/uploads/2021/04/Screen-Shot-2021-04-16-at-7.07.04-AM.png
END:VEVENT
BEGIN:VEVENT
DTSTART;TZID=America/Chicago:20210720T100000
DTEND;TZID=America/Chicago:20210720T120000
DTSTAMP:20260423T021220
CREATED:20210621T114928Z
LAST-MODIFIED:20230405T172621Z
UID:10000343-1626775200-1626782400@stearnshistorymuseum.org
SUMMARY:Memory Writers
DESCRIPTION:Memory Writers is a writing group that meets twice a month on the first and third Tuesdays at 10:00 am.  The group develop topics to write about and in turn shares those stories. This program is free to Museum members (non-members $7). Join the Memory Writers as they explore our past and develop skills as writers. No RSVP is required. Questions? Contact Jan Sorell for more information: jsorrell97@gmail.com
URL:https://stearnshistorymuseum.org/event-items/memory-writers-8/
LOCATION:Stearns History Museum\, 235 33rd Ave S\, St Cloud\, MN\, 56301\, United States
CATEGORIES:Events,Memory Writers
ATTACH;FMTTYPE=image/png:https://stearnshistorymuseum.org/wp-content/uploads/2021/04/Screen-Shot-2021-04-16-at-7.07.04-AM.png
END:VEVENT
BEGIN:VEVENT
DTSTART;TZID=America/Chicago:20210518T100000
DTEND;TZID=America/Chicago:20210518T120000
DTSTAMP:20260423T021220
CREATED:20210416T121032Z
LAST-MODIFIED:20230405T172627Z
UID:10000334-1621332000-1621339200@stearnshistorymuseum.org
SUMMARY:Memory Writers
DESCRIPTION:Memory Writers is a writing group that meets twice a month on the first and third Tuesdays at 10:00 am.  The group develop topics to write about and in turn shares those stories. This program is free to Museum members (non-members $7). Join the Memory Writers as they explore our past and develop skills as writers. No RSVP is required. Questions? Contact Jan Sorell for more information: jsorrell97@gmail.com
URL:https://stearnshistorymuseum.org/event-items/memory-writers-7/
LOCATION:Stearns History Museum\, 235 33rd Ave S\, St Cloud\, MN\, 56301\, United States
CATEGORIES:Events,Memory Writers,Programs
ATTACH;FMTTYPE=image/png:https://stearnshistorymuseum.org/wp-content/uploads/2021/04/Screen-Shot-2021-04-16-at-7.07.04-AM.png
END:VEVENT
BEGIN:VEVENT
DTSTART;TZID=America/Chicago:20210504T100000
DTEND;TZID=America/Chicago:20210504T120000
DTSTAMP:20260423T021220
CREATED:20210416T120947Z
LAST-MODIFIED:20230405T172631Z
UID:10000333-1620122400-1620129600@stearnshistorymuseum.org
SUMMARY:Memory Writers
DESCRIPTION:Memory Writers is a writing group that meets twice a month on the first and third Tuesdays at 10:00 am.  The group develop topics to write about and in turn shares those stories. This program is free to Museum members (non-members $7). Join the Memory Writers as they explore our past and develop skills as writers. No RSVP is required. Questions? Contact Jan Sorell for more information: jsorrell97@gmail.com
URL:https://stearnshistorymuseum.org/event-items/memory-writers-6/
LOCATION:Stearns History Museum\, 235 33rd Ave S\, St Cloud\, MN\, 56301\, United States
CATEGORIES:Events,Memory Writers,Programs
ATTACH;FMTTYPE=image/png:https://stearnshistorymuseum.org/wp-content/uploads/2021/04/Screen-Shot-2021-04-16-at-7.07.04-AM.png
END:VEVENT
BEGIN:VEVENT
DTSTART;TZID=America/Chicago:20210420T100000
DTEND;TZID=America/Chicago:20210420T120000
DTSTAMP:20260423T021220
CREATED:20210416T120843Z
LAST-MODIFIED:20230405T172635Z
UID:10000332-1618912800-1618920000@stearnshistorymuseum.org
SUMMARY:Memory Writers
DESCRIPTION:Memory Writers is a writing group that meets twice a month on the first and third Tuesdays at 10:00 am.  The group develop topics to write about and in turn shares those stories. This program is free to Museum members (non-members $7). Join the Memory Writers as they explore our past and develop skills as writers. No RSVP is required. Questions? Contact Jan Sorell for more information: jsorrell97@gmail.com
URL:https://stearnshistorymuseum.org/event-items/memory-writers-5/
LOCATION:Stearns History Museum\, 235 33rd Ave S\, St Cloud\, MN\, 56301\, United States
CATEGORIES:Events,Memory Writers,Programs
ATTACH;FMTTYPE=image/png:https://stearnshistorymuseum.org/wp-content/uploads/2021/04/Screen-Shot-2021-04-16-at-7.07.04-AM.png
END:VEVENT
BEGIN:VEVENT
DTSTART;TZID=America/Chicago:20200303T100000
DTEND;TZID=America/Chicago:20200303T113000
DTSTAMP:20260423T021220
CREATED:20200114T105817Z
LAST-MODIFIED:20230405T172640Z
UID:10000292-1583229600-1583235000@stearnshistorymuseum.org
SUMMARY:Memory Writers
DESCRIPTION:
URL:https://stearnshistorymuseum.org/event-items/memory-writers-4/
LOCATION:Stearns History Museum\, 235 33rd Ave S\, St Cloud\, MN\, 56301\, United States
CATEGORIES:Memory Writers,Programs
ATTACH;FMTTYPE=image/jpeg:https://stearnshistorymuseum.org/wp-content/uploads/2019/11/building_360x270.jpg
END:VEVENT
END:VCALENDAR