BEGIN:VCALENDAR
VERSION:2.0
PRODID:-//Stearns History Museum - ECPv6.15.20//NONSGML v1.0//EN
CALSCALE:GREGORIAN
METHOD:PUBLISH
X-WR-CALNAME:Stearns History Museum
X-ORIGINAL-URL:https://stearnshistorymuseum.org
X-WR-CALDESC:Events for Stearns History Museum
REFRESH-INTERVAL;VALUE=DURATION:PT1H
X-Robots-Tag:noindex
X-PUBLISHED-TTL:PT1H
BEGIN:VTIMEZONE
TZID:America/Chicago
BEGIN:DAYLIGHT
TZOFFSETFROM:-0600
TZOFFSETTO:-0500
TZNAME:CDT
DTSTART:20200308T080000
END:DAYLIGHT
BEGIN:STANDARD
TZOFFSETFROM:-0500
TZOFFSETTO:-0600
TZNAME:CST
DTSTART:20201101T070000
END:STANDARD
BEGIN:DAYLIGHT
TZOFFSETFROM:-0600
TZOFFSETTO:-0500
TZNAME:CDT
DTSTART:20210314T080000
END:DAYLIGHT
BEGIN:STANDARD
TZOFFSETFROM:-0500
TZOFFSETTO:-0600
TZNAME:CST
DTSTART:20211107T070000
END:STANDARD
BEGIN:DAYLIGHT
TZOFFSETFROM:-0600
TZOFFSETTO:-0500
TZNAME:CDT
DTSTART:20220313T080000
END:DAYLIGHT
BEGIN:STANDARD
TZOFFSETFROM:-0500
TZOFFSETTO:-0600
TZNAME:CST
DTSTART:20221106T070000
END:STANDARD
BEGIN:DAYLIGHT
TZOFFSETFROM:-0600
TZOFFSETTO:-0500
TZNAME:CDT
DTSTART:20230312T080000
END:DAYLIGHT
BEGIN:STANDARD
TZOFFSETFROM:-0500
TZOFFSETTO:-0600
TZNAME:CST
DTSTART:20231105T070000
END:STANDARD
END:VTIMEZONE
BEGIN:VEVENT
DTSTART;TZID=America/Chicago:20220412T183000
DTEND;TZID=America/Chicago:20220412T200000
DTSTAMP:20260423T053716
CREATED:20211119T181128Z
LAST-MODIFIED:20220822T211702Z
UID:10000401-1649788200-1649793600@stearnshistorymuseum.org
SUMMARY:Minnesota Voices Book Club - What We Hunger For - Sung Yung Shin
DESCRIPTION:Join us for the Minnesota Voices Book Club on April 12th from 6:30 – 8:30. Stearns History Museum and UniteCloud are proud to present author Sun Yung Shin\, discussing her book What We Hunger For. \nCost is free for museum members\, and $5 for nonmembers. You can register online by clicking this link: https://stearnshistorymuseum.app.neoncrm.com/np/clients/stearnshistorymuseum/event.jsp?event=41& \nQuestions? Call the museum at 320-253-8424. Hope to see you there!
URL:https://stearnshistorymuseum.org/event-items/minnesota-voices-book-club-what-we-hunger-for-sung-yung-shin/
LOCATION:Stearns History Museum\, 235 33rd Ave S\, St Cloud\, MN\, 56301\, United States
CATEGORIES:Events,Minnesota Voices Book Club
ATTACH;FMTTYPE=image/png:https://stearnshistorymuseum.org/wp-content/uploads/2021/03/Screen-Shot-2021-03-12-at-2.15.19-PM.png
END:VEVENT
BEGIN:VEVENT
DTSTART;TZID=America/Chicago:20220125T183000
DTEND;TZID=America/Chicago:20220125T200000
DTSTAMP:20260423T053716
CREATED:20210723T134811Z
LAST-MODIFIED:20220822T211730Z
UID:10000381-1643135400-1643140800@stearnshistorymuseum.org
SUMMARY:Minnesota Voices Book Club - Anton Treuer
DESCRIPTION:Join us for the Minnesota Voices Book Club on January 11th. Stearns History Museum and UniteCloud are proud to present author and professor Anton Treuer\, as he discusses his book Everything You Wanted to Know About Indians But Were Afraid to Ask.  Treuer\, a renowned speaker and member of the Ojbiwe nation\, will talk about his important book\, which debunks so many stereotypes about Native Americans. \nThe event will be virtual (via Zoom). Click here for registration link. Cost is free for museum members\, and $5 for nonmembers. Hope to see you there!
URL:https://stearnshistorymuseum.org/event-items/minnesota-voices-book-club-january/2022-01-25/
LOCATION:Stearns History Museum\, 235 33rd Ave S\, St Cloud\, MN\, 56301\, United States
CATEGORIES:Events,Minnesota Voices Book Club
ATTACH;FMTTYPE=image/png:https://stearnshistorymuseum.org/wp-content/uploads/2021/03/Screen-Shot-2021-03-12-at-2.15.19-PM.png
END:VEVENT
BEGIN:VEVENT
DTSTART;TZID=America/Chicago:20220111T183000
DTEND;TZID=America/Chicago:20220111T200000
DTSTAMP:20260423T053716
CREATED:20210723T134811Z
LAST-MODIFIED:20220822T211730Z
UID:10000380-1641925800-1641931200@stearnshistorymuseum.org
SUMMARY:Minnesota Voices Book Club - Anton Treuer
DESCRIPTION:Join us for the Minnesota Voices Book Club on January 11th. Stearns History Museum and UniteCloud are proud to present author and professor Anton Treuer\, as he discusses his book Everything You Wanted to Know About Indians But Were Afraid to Ask.  Treuer\, a renowned speaker and member of the Ojbiwe nation\, will talk about his important book\, which debunks so many stereotypes about Native Americans. \nThe event will be virtual (via Zoom). Click here for registration link. Cost is free for museum members\, and $5 for nonmembers. Hope to see you there!
URL:https://stearnshistorymuseum.org/event-items/minnesota-voices-book-club-january/2022-01-11/
LOCATION:Stearns History Museum\, 235 33rd Ave S\, St Cloud\, MN\, 56301\, United States
CATEGORIES:Events,Minnesota Voices Book Club
ATTACH;FMTTYPE=image/png:https://stearnshistorymuseum.org/wp-content/uploads/2021/03/Screen-Shot-2021-03-12-at-2.15.19-PM.png
END:VEVENT
BEGIN:VEVENT
DTSTART;TZID=America/Chicago:20210727T183000
DTEND;TZID=America/Chicago:20210727T200000
DTSTAMP:20260423T053716
CREATED:20210621T122911Z
LAST-MODIFIED:20220822T211807Z
UID:10000351-1627410600-1627416000@stearnshistorymuseum.org
SUMMARY:Minnesota Voices Book Club: July
DESCRIPTION:The July book club discussion will feature A Good Time for the Truth: Race in Minnesota\, edited by Sun Yung Shin. She will discuss the process of gathering these stories that are described as\, “Essays that challenge\, discomfort\, disorient\, galvanize\, and inspire all of us to evolve now\, for our shared future.” We will send out a Zoom link and a list of reading questions to all registrants about a week before each event. \nYour registration will be automatic for 2 dates\, Tuesday July 13 and Tuesday July 27 form 6:30-8:00pm. \nRegister Online Here >>
URL:https://stearnshistorymuseum.org/event-items/minnesota-voices-book-club-july-2/
LOCATION:Zoom / Online
CATEGORIES:Events,Minnesota Voices Book Club
ATTACH;FMTTYPE=image/png:https://stearnshistorymuseum.org/wp-content/uploads/2021/03/MN-Voices-Book-Club.png
END:VEVENT
BEGIN:VEVENT
DTSTART;TZID=America/Chicago:20210713T183000
DTEND;TZID=America/Chicago:20210713T200000
DTSTAMP:20260423T053716
CREATED:20210621T122730Z
LAST-MODIFIED:20220822T211814Z
UID:10000350-1626201000-1626206400@stearnshistorymuseum.org
SUMMARY:Minnesota Voices Book Club: July
DESCRIPTION:The July book club discussion will feature A Good Time for the Truth: Race in Minnesota\, edited by Sun Yung Shin. She will discuss the process of gathering these stories that are described as\, “Essays that challenge\, discomfort\, disorient\, galvanize\, and inspire all of us to evolve now\, for our shared future.” We will send out a Zoom link and a list of reading questions to all registrants about a week before each event. \nYour registration will be automatic for 2 dates\, Tuesday July 13 and Tuesday July 27 form 6:30-8:00pm. \nRegister Online Here >>
URL:https://stearnshistorymuseum.org/event-items/minnesota-voices-book-club-july/
LOCATION:Zoom / Online
CATEGORIES:Events,Minnesota Voices Book Club
ATTACH;FMTTYPE=image/png:https://stearnshistorymuseum.org/wp-content/uploads/2021/03/MN-Voices-Book-Club.png
END:VEVENT
BEGIN:VEVENT
DTSTART;TZID=America/Chicago:20210422T183000
DTEND;TZID=America/Chicago:20210422T200000
DTSTAMP:20260423T053716
CREATED:20210312T232119Z
LAST-MODIFIED:20220822T211927Z
UID:10000326-1619116200-1619121600@stearnshistorymuseum.org
SUMMARY:Minnesota Voices Book Club: 2-Part April Series
DESCRIPTION:Minnesota Voices Book Club\, presented by Stearns History Museum and UniteCloud via Zoom \nFeaturing Dr. Christopher P. Lehman\, discussing his book “Slavery’s Reach: Southern Slaveholders in the North Star State” \n*NOTE* Please be sure to register for BOTH events (dates) for the series\nApril 8\, 6:30-8:00 pm\nApril 22\, 6:30-8:00 pm \nRegistration is free and available now on Eventbrite here at Minnesota Voices Book Club \nQuestions?  Contact Caitlin Carlson\, Program Director\, at ccarlson@stearns-museum.org or 320-253-8424 \n… \nThe Stearns History Museum is partnering with UniteCloud to launch a quarterly book club that connects history to diversity\, equity\, and inclusion topics that impact our community. These sessions will be led by Minnesota authors who bring a wide spectrum of voices to the table\, providing context to often absent narratives in local history.  Beginning in April 2021 and quarterly thereafter\, the book club will meet twice to discuss each book. \nThe first book club discussion will feature Dr. Christopher Lehman\, who will be sharing his acclaimed book\, “Slavery’s Reach: Southern Slaveholders in the North Star State.”  Dr. Lehman will discuss the book itself\, his research process\, and will be available for questions following his discussion. \nWe will send out a list of reading questions to all registrants about a week before each event. \nThe event will begin as a virtual series on Zoom and will move to an in person gathering at the Museum once it is safe to do so. \nWe hope you can join us! \n 
URL:https://stearnshistorymuseum.org/event-items/minnesota-voices-book-club-2-part-april-series/2021-04-22/
LOCATION:Zoom / Online
CATEGORIES:Events,Minnesota Voices Book Club
ATTACH;FMTTYPE=image/png:https://stearnshistorymuseum.org/wp-content/uploads/2021/03/MN-Voices-Book-Club.png
END:VEVENT
BEGIN:VEVENT
DTSTART;TZID=America/Chicago:20210408T183000
DTEND;TZID=America/Chicago:20210408T200000
DTSTAMP:20260423T053716
CREATED:20210312T232119Z
LAST-MODIFIED:20220822T211927Z
UID:10000325-1617906600-1617912000@stearnshistorymuseum.org
SUMMARY:Minnesota Voices Book Club: 2-Part April Series
DESCRIPTION:Minnesota Voices Book Club\, presented by Stearns History Museum and UniteCloud via Zoom \nFeaturing Dr. Christopher P. Lehman\, discussing his book “Slavery’s Reach: Southern Slaveholders in the North Star State” \n*NOTE* Please be sure to register for BOTH events (dates) for the series\nApril 8\, 6:30-8:00 pm\nApril 22\, 6:30-8:00 pm \nRegistration is free and available now on Eventbrite here at Minnesota Voices Book Club \nQuestions?  Contact Caitlin Carlson\, Program Director\, at ccarlson@stearns-museum.org or 320-253-8424 \n… \nThe Stearns History Museum is partnering with UniteCloud to launch a quarterly book club that connects history to diversity\, equity\, and inclusion topics that impact our community. These sessions will be led by Minnesota authors who bring a wide spectrum of voices to the table\, providing context to often absent narratives in local history.  Beginning in April 2021 and quarterly thereafter\, the book club will meet twice to discuss each book. \nThe first book club discussion will feature Dr. Christopher Lehman\, who will be sharing his acclaimed book\, “Slavery’s Reach: Southern Slaveholders in the North Star State.”  Dr. Lehman will discuss the book itself\, his research process\, and will be available for questions following his discussion. \nWe will send out a list of reading questions to all registrants about a week before each event. \nThe event will begin as a virtual series on Zoom and will move to an in person gathering at the Museum once it is safe to do so. \nWe hope you can join us! \n 
URL:https://stearnshistorymuseum.org/event-items/minnesota-voices-book-club-2-part-april-series/2021-04-08/
LOCATION:Zoom / Online
CATEGORIES:Events,Minnesota Voices Book Club
ATTACH;FMTTYPE=image/png:https://stearnshistorymuseum.org/wp-content/uploads/2021/03/MN-Voices-Book-Club.png
END:VEVENT
END:VCALENDAR