BEGIN:VCALENDAR
VERSION:2.0
PRODID:-//Stearns History Museum - ECPv6.15.20//NONSGML v1.0//EN
CALSCALE:GREGORIAN
METHOD:PUBLISH
X-WR-CALNAME:Stearns History Museum
X-ORIGINAL-URL:https://stearnshistorymuseum.org
X-WR-CALDESC:Events for Stearns History Museum
REFRESH-INTERVAL;VALUE=DURATION:PT1H
X-Robots-Tag:noindex
X-PUBLISHED-TTL:PT1H
BEGIN:VTIMEZONE
TZID:America/Chicago
BEGIN:DAYLIGHT
TZOFFSETFROM:-0600
TZOFFSETTO:-0500
TZNAME:CDT
DTSTART:20190310T080000
END:DAYLIGHT
BEGIN:STANDARD
TZOFFSETFROM:-0500
TZOFFSETTO:-0600
TZNAME:CST
DTSTART:20191103T070000
END:STANDARD
BEGIN:DAYLIGHT
TZOFFSETFROM:-0600
TZOFFSETTO:-0500
TZNAME:CDT
DTSTART:20200308T080000
END:DAYLIGHT
BEGIN:STANDARD
TZOFFSETFROM:-0500
TZOFFSETTO:-0600
TZNAME:CST
DTSTART:20201101T070000
END:STANDARD
BEGIN:DAYLIGHT
TZOFFSETFROM:-0600
TZOFFSETTO:-0500
TZNAME:CDT
DTSTART:20210314T080000
END:DAYLIGHT
BEGIN:STANDARD
TZOFFSETFROM:-0500
TZOFFSETTO:-0600
TZNAME:CST
DTSTART:20211107T070000
END:STANDARD
BEGIN:DAYLIGHT
TZOFFSETFROM:-0600
TZOFFSETTO:-0500
TZNAME:CDT
DTSTART:20220313T080000
END:DAYLIGHT
BEGIN:STANDARD
TZOFFSETFROM:-0500
TZOFFSETTO:-0600
TZNAME:CST
DTSTART:20221106T070000
END:STANDARD
BEGIN:DAYLIGHT
TZOFFSETFROM:-0600
TZOFFSETTO:-0500
TZNAME:CDT
DTSTART:20230312T080000
END:DAYLIGHT
BEGIN:STANDARD
TZOFFSETFROM:-0500
TZOFFSETTO:-0600
TZNAME:CST
DTSTART:20231105T070000
END:STANDARD
BEGIN:DAYLIGHT
TZOFFSETFROM:-0600
TZOFFSETTO:-0500
TZNAME:CDT
DTSTART:20240310T080000
END:DAYLIGHT
BEGIN:STANDARD
TZOFFSETFROM:-0500
TZOFFSETTO:-0600
TZNAME:CST
DTSTART:20241103T070000
END:STANDARD
END:VTIMEZONE
BEGIN:VEVENT
DTSTART;TZID=America/Chicago:20231118T100000
DTEND;TZID=America/Chicago:20231118T110000
DTSTAMP:20260423T064710
CREATED:20230428T193123Z
LAST-MODIFIED:20231114T192056Z
UID:10000574-1700301600-1700305200@stearnshistorymuseum.org
SUMMARY:Whippersnapper Hour - Dear Diary
DESCRIPTION:Register here!
URL:https://stearnshistorymuseum.org/event-items/whippersnapper-hour-dear-diary-2/
LOCATION:Stearns History Museum\, 235 33rd Ave S\, St Cloud\, MN\, 56301\, United States
CATEGORIES:Programs,Whippersnapper Hour
END:VEVENT
BEGIN:VEVENT
DTSTART;TZID=America/Chicago:20230916T100000
DTEND;TZID=America/Chicago:20230916T110000
DTSTAMP:20260423T064710
CREATED:20230428T190928Z
LAST-MODIFIED:20230814T162352Z
UID:10000568-1694858400-1694862000@stearnshistorymuseum.org
SUMMARY:Whippersnapper Hour - Fur Trade Frenzy
DESCRIPTION:At this month’s Whippersnapper Hour\, students will get a taste of what it was like to be involved in the American Fur Trade during the 19th century here in Minnesota. Students will get to touch some real furs\, barter for goods\, and make their own Bandolier bag to take home! \nRegister here!
URL:https://stearnshistorymuseum.org/event-items/whippersnapper-hour-fur-trade-frenzy-2/
LOCATION:Stearns History Museum\, 235 33rd Ave S\, St Cloud\, MN\, 56301\, United States
CATEGORIES:Programs,Whippersnapper Hour
ATTACH;FMTTYPE=image/jpeg:https://stearnshistorymuseum.org/wp-content/uploads/2023/04/Whippersnapper-photo-scaled.jpg
END:VEVENT
BEGIN:VEVENT
DTSTART;TZID=America/Chicago:20230520T100000
DTEND;TZID=America/Chicago:20230520T113000
DTSTAMP:20260423T064710
CREATED:20221206T205718Z
LAST-MODIFIED:20230405T174748Z
UID:10000516-1684576800-1684582200@stearnshistorymuseum.org
SUMMARY:Whippersnapper Hour: Adventures in Radio
DESCRIPTION:Whippersnapper Hour allows kids to learn about history in a fun\, hands-on environment! \nAt this month’s Whippersnapper Hour\, we will perform and record our own radio play! Students will learn about the power of radio during the Great Depression and World War II\, and will then rehearse and perform their own version of “The Mysterious Case of the Magic Milkweed.” We hope to see you there! \n$5 per child nonmembers\, free for Museum members. Recommended for kids ages 7-13.
URL:https://stearnshistorymuseum.org/event-items/whippersnapper-hour-adventures-in-radio/
LOCATION:Stearns History Museum\, 235 33rd Ave S\, St Cloud\, MN\, 56301\, United States
CATEGORIES:Programs,Whippersnapper Hour
ATTACH;FMTTYPE=image/jpeg:https://stearnshistorymuseum.org/wp-content/uploads/2022/12/Photo-for-Adventures-in-Radio-flyer-scaled.jpg
END:VEVENT
BEGIN:VEVENT
DTSTART;TZID=America/Chicago:20230318T100000
DTEND;TZID=America/Chicago:20230318T110000
DTSTAMP:20260423T064710
CREATED:20221206T205130Z
LAST-MODIFIED:20230223T184018Z
UID:10000514-1679133600-1679137200@stearnshistorymuseum.org
SUMMARY:Whippersnapper Hour: Dear Diary
DESCRIPTION:Learn about history through hands-on activities! This time\, we are diving into diaries\, newspapers\, photographs\, and letters from the SHM archives! Help us gather clues from old documents to solve a mystery! \nStudents will even get to create their own diary to take home and tell their own stories. Recommended for kids ages 7-13. \nCall the Museum to register or click here to register online! \n \n 
URL:https://stearnshistorymuseum.org/event-items/whippersnapper-hour-dear-diary/
LOCATION:Stearns History Museum\, 235 33rd Ave S\, St Cloud\, MN\, 56301\, United States
CATEGORIES:Programs,Whippersnapper Hour
ATTACH;FMTTYPE=image/png:https://stearnshistorymuseum.org/wp-content/uploads/2022/12/WH-March.png
END:VEVENT
BEGIN:VEVENT
DTSTART;TZID=America/Chicago:20230121T100000
DTEND;TZID=America/Chicago:20230121T110000
DTSTAMP:20260423T064710
CREATED:20221129T192007Z
LAST-MODIFIED:20221206T201437Z
UID:10000507-1674295200-1674298800@stearnshistorymuseum.org
SUMMARY:Whippersnapper Hour: Fur Trade Frenzy
DESCRIPTION:Whippersnapper Hour is a program for children to learn about history with hands-on activities. \nAt this month’s Whippersnapper Hour\, kids will get a little taste of what it was like to be involved in the American Fur Trade during the 19th century here in Minnesota. They will get to touch real furs\, barter for goods and make their own Bandolier bag to take home!\n\nSaturday\, January 21 @ 10am; Recommended for ages 7-13\n$5 for nonmembers and members are free\nCall to register! 320-253-8424
URL:https://stearnshistorymuseum.org/event-items/whippersnapper-hour-fur-trade-frenzy/
LOCATION:Stearns History Museum\, 235 33rd Ave S\, St Cloud\, MN\, 56301\, United States
CATEGORIES:Programs,Whippersnapper Hour
ATTACH;FMTTYPE=image/png:https://stearnshistorymuseum.org/wp-content/uploads/2022/11/Screen-Shot-2022-12-06-at-1.51.40-PM.png
END:VEVENT
BEGIN:VEVENT
DTSTART;TZID=America/Chicago:20221112T100000
DTEND;TZID=America/Chicago:20221112T230000
DTSTAMP:20260423T064710
CREATED:20221014T150100Z
LAST-MODIFIED:20221019T163719Z
UID:10000490-1668247200-1668294000@stearnshistorymuseum.org
SUMMARY:Whippersnapper Hour: Spy School
DESCRIPTION:At this month’s “Whippersnapper Hour\,” kids are invited to a crash course at the Stearns History Museum Spy School! Kids will learn all about the different secret spy tactics used during World War Il\, with everything from Morse Code to writing messages in invisible ink! They will then put those skills to use in order to solve a mystery right here in the museum. Save the date: Saturday\, November 12 at 10am. Recommended for kids ages 7-13. Cost is $3 for nonmembers\, members are free. Click here to register online or call us at 320.253.8424 \nRegister online
URL:https://stearnshistorymuseum.org/event-items/whippersnapper-hour-spy-school/
LOCATION:Stearns History Museum\, 235 33rd Ave S\, St Cloud\, MN\, 56301\, United States
CATEGORIES:Programs,Whippersnapper Hour
ATTACH;FMTTYPE=image/jpeg:https://stearnshistorymuseum.org/wp-content/uploads/2022/10/Whippersnapper-Hour-Spy-School.jpg
END:VEVENT
BEGIN:VEVENT
DTSTART;TZID=America/Chicago:20220917T100000
DTEND;TZID=America/Chicago:20220917T113000
DTSTAMP:20260423T064710
CREATED:20220826T161708Z
LAST-MODIFIED:20220826T162223Z
UID:10000481-1663408800-1663414200@stearnshistorymuseum.org
SUMMARY:Whippersnapper Hour - "The Land Before Smart Phones"
DESCRIPTION:Whippersnapper Hour lets kids get their hands on history\, with engaging and interactive activities that bring the past to life. \nToday\, we can accomplish almost everything just using one piece of technology\, our smartphone. But if we go back in time\, every single thing we use our phone for\, like playing music\, watching movies\, playing games\, doing math\, calling and sending messages\, was done separately. Stop by this month’s Whippersnapper Hour\, “The Land Before Smart Phones\,” to try out some of those aging old relics like- a typewriter\, a rotary phone\, a CD Player\, a TAPE player\, an old camera with FILM\, and much more! \nCost: $3/child for non-members\, members are free. Click here to register online! \n 
URL:https://stearnshistorymuseum.org/event-items/whippersnapper-hour-the-land-before-smart-phones/
LOCATION:Stearns History Museum\, 235 33rd Ave S\, St Cloud\, MN\, 56301\, United States
CATEGORIES:Programs,Whippersnapper Hour
ATTACH;FMTTYPE=image/jpeg:https://stearnshistorymuseum.org/wp-content/uploads/2021/12/square-SHM-Home-Feature_Whippersnapper.jpg
END:VEVENT
BEGIN:VEVENT
DTSTART;TZID=America/Chicago:20220611T100000
DTEND;TZID=America/Chicago:20220611T110000
DTSTAMP:20260423T064710
CREATED:20211026T164812Z
LAST-MODIFIED:20220822T210917Z
UID:10000391-1654941600-1654945200@stearnshistorymuseum.org
SUMMARY:Whippersnapper Hour - "Spy School"
DESCRIPTION:In 2022\, we’re bringing back Whippersnapper Hour! This program lets kids get their hands on history\, with engaging and interactive activities that bring the past to life. \nAt this month’s “Whippersnapper Hour\,” kids (ages 7-13) are invited for a crash course at the Spy School! Kids will learn all about the different secret spy tactics used during World War II\, with everything from Morse Code to writing messages in invisible ink! Then\, they will be forced to put those skills to use in order to solve a mystery right here in the museum. \nJoin us from 10-11 on Saturday\, June 11 for “Spy School! Cost is $3/child (nonmembers) and members are free.  \nTo register call the Museum at 320-253-8424 or email info@stearns-museum.org.
URL:https://stearnshistorymuseum.org/event-items/may-whippersnapper-hour/
LOCATION:Stearns History Museum\, 235 33rd Ave S\, St Cloud\, MN\, 56301\, United States
CATEGORIES:Events,Programs,Whippersnapper Hour
ATTACH;FMTTYPE=image/jpeg:https://stearnshistorymuseum.org/wp-content/uploads/2020/02/Whippersnapper-2.jpg
END:VEVENT
BEGIN:VEVENT
DTSTART;TZID=America/Chicago:20220319T100000
DTEND;TZID=America/Chicago:20220319T110000
DTSTAMP:20260423T064710
CREATED:20211026T164641Z
LAST-MODIFIED:20220822T210833Z
UID:10000390-1647684000-1647687600@stearnshistorymuseum.org
SUMMARY:Whippersnapper Hour - "The Way we Play"
DESCRIPTION:In 2022\, we’re bringing back the Whippersnapper Hour! This program lets kids get their hands on history\, with engaging and interactive activities that bring the past to life. This month at the Stearns History Museum’s “Whippersnapper Hour\,” we will dive into “The Way We Play!” \nThese days\, a lot of toys and games for children are driven by technology. But before the days of Nintendo (and even Atari)\, how did children play? What sort of toys did they use? Did they make them themselves? Did they even have time to play? All of these questions will be answered and more\, and of course\, the children will get the chance to try out some old toys and games: Victorian era hoops and graces\, hopscotch\, 20th century board games\, and they will make a corn husk doll or thaumatrope to take home! \n$3/child (nonmembers)\, free for members \nCall 320-253-8424 or email info@stearns-museum.org to register! \nUp Next: \n\nMay 21-Whippersnapper Hour- 10 am- “Spy School”
URL:https://stearnshistorymuseum.org/event-items/march-whippersnapper-hour/
LOCATION:Stearns History Museum\, 235 33rd Ave S\, St Cloud\, MN\, 56301\, United States
CATEGORIES:Events,Whippersnapper Hour
ATTACH;FMTTYPE=image/jpeg:https://stearnshistorymuseum.org/wp-content/uploads/2020/02/Whippersnapper-2.jpg
END:VEVENT
BEGIN:VEVENT
DTSTART;TZID=America/Chicago:20220122T100000
DTEND;TZID=America/Chicago:20220122T110000
DTSTAMP:20260423T064710
CREATED:20211026T164424Z
LAST-MODIFIED:20220822T210838Z
UID:10000389-1642845600-1642849200@stearnshistorymuseum.org
SUMMARY:Whippersnapper Hour "Go Inside your Phone!"
DESCRIPTION:In 2022\, we’re bringing back the Whippersnapper Hour! This program lets kids get their hands on history\, with engaging and interactive activities that bring the past to life. This winter and spring\, we will be exploring the technological innovations of the past\, playing with different toys and games from decades ago\, and cracking codes to become spies! So get ready\, and we will see you in 2022! \nToday\, we can accomplish almost everything just using one piece of technology\, our smartphone. But if we go back in time\, every single thing we use our phone for\, like playing music\, watching movies\, playing games\, doing math\, calling and sending messages\, was done separately. Stop by this month’s Whippersnapper Hour\, “Go Inside Your Phone\,” to try out some of those aging old relics like- a typewriter\, a rotary phone\, a CD Player\, a TAPE player\, an old camera with FILM\, and much more! \nCost: $3/child for non-members\, members are free \nCall 320.253.8424 or email info@stearns-museum.org to register! \n\nJanuary 22- 10 am- “Go Inside your Phone!”\nMarch 19-10 am- “The Way we Play”\nMay 21-Whippersnapper Hour- 10 am- “Spy School”
URL:https://stearnshistorymuseum.org/event-items/january-whippersnapper-hour/
LOCATION:Stearns History Museum\, 235 33rd Ave S\, St Cloud\, MN\, 56301\, United States
CATEGORIES:Events,Whippersnapper Hour
ATTACH;FMTTYPE=image/jpeg:https://stearnshistorymuseum.org/wp-content/uploads/2021/10/rodion-kutsaev-0VGG7cqTwCo-unsplash-1-scaled.jpg
END:VEVENT
BEGIN:VEVENT
DTSTART;TZID=America/Chicago:20210505T080000
DTEND;TZID=America/Chicago:20210506T170000
DTSTAMP:20260423T064710
CREATED:20210423T180155Z
LAST-MODIFIED:20220822T210842Z
UID:10000336-1620201600-1620320400@stearnshistorymuseum.org
SUMMARY:History At Home: Whippersnapper Hour
DESCRIPTION:Enjoy this video from our staff and have some fun learning about history from the comfort of your home! Feel free to watch any time—”Whippersnapper Hour” is only a suggestion. \nWhippersnapper Hour: A Tale of Two Pandemics\nHey there\, Whippersnapper! Are you ready to talk about the pandemic? (No\, not that one!) We’re going back in time to get a brief history lesson on the Spanish Flu that ravaged the country and the world over 100 years ago\, beginning in 1918. You’ll learn some new information\, but you’ll also be surprised by how much of it sounds familiar. You know what they say about history— it often repeats itself. Stay tuned at the end of the video for a trivia challenge about other pandemics and plagues throughout the course of history—even if you don’t know the answers\, you will learn something new! \n 
URL:https://stearnshistorymuseum.org/event-items/history-at-home-whippersnapper-hour/
LOCATION:MN
CATEGORIES:Events,Whippersnapper Hour
ATTACH;FMTTYPE=image/png:https://stearnshistorymuseum.org/wp-content/uploads/2021/04/Screen-Shot-2021-04-23-at-12.54.57-PM.png
END:VEVENT
BEGIN:VEVENT
DTSTART;TZID=America/Chicago:20200215T103000
DTEND;TZID=America/Chicago:20200215T103000
DTSTAMP:20260423T064710
CREATED:20200114T104411Z
LAST-MODIFIED:20220822T210849Z
UID:10000283-1581762600-1581762600@stearnshistorymuseum.org
SUMMARY:Whippersnapper Hour\, Toys through the Years
DESCRIPTION:
URL:https://stearnshistorymuseum.org/event-items/whippersnapper-hour-toys-through-the-years/
LOCATION:Stearns History Museum\, 235 33rd Ave S\, St Cloud\, MN\, 56301\, United States
CATEGORIES:Programs,Whippersnapper Hour
ATTACH;FMTTYPE=image/jpeg:https://stearnshistorymuseum.org/wp-content/uploads/2020/01/490324.jpeg
END:VEVENT
BEGIN:VEVENT
DTSTART;TZID=America/Chicago:20200118T103000
DTEND;TZID=America/Chicago:20200118T103000
DTSTAMP:20260423T064710
CREATED:20200114T101654Z
LAST-MODIFIED:20220822T210909Z
UID:10000275-1579343400-1579343400@stearnshistorymuseum.org
SUMMARY:Whippersnapper Hour\, Technology of Yesteryear
DESCRIPTION:
URL:https://stearnshistorymuseum.org/event-items/whippersnapper-hour-technology-of-yesteryear/
LOCATION:Stearns History Museum\, 235 33rd Ave S\, St Cloud\, MN\, 56301\, United States
CATEGORIES:Events,Programs,Whippersnapper Hour
ATTACH;FMTTYPE=image/jpeg:https://stearnshistorymuseum.org/wp-content/uploads/2020/01/490324.jpeg
END:VEVENT
END:VCALENDAR