BEGIN:VCALENDAR
VERSION:2.0
PRODID:-//Stearns History Museum - ECPv6.15.20//NONSGML v1.0//EN
CALSCALE:GREGORIAN
METHOD:PUBLISH
X-WR-CALNAME:Stearns History Museum
X-ORIGINAL-URL:https://stearnshistorymuseum.org
X-WR-CALDESC:Events for Stearns History Museum
REFRESH-INTERVAL;VALUE=DURATION:PT1H
X-Robots-Tag:noindex
X-PUBLISHED-TTL:PT1H
BEGIN:VTIMEZONE
TZID:America/Chicago
BEGIN:DAYLIGHT
TZOFFSETFROM:-0600
TZOFFSETTO:-0500
TZNAME:CDT
DTSTART:20190310T080000
END:DAYLIGHT
BEGIN:STANDARD
TZOFFSETFROM:-0500
TZOFFSETTO:-0600
TZNAME:CST
DTSTART:20191103T070000
END:STANDARD
BEGIN:DAYLIGHT
TZOFFSETFROM:-0600
TZOFFSETTO:-0500
TZNAME:CDT
DTSTART:20200308T080000
END:DAYLIGHT
BEGIN:STANDARD
TZOFFSETFROM:-0500
TZOFFSETTO:-0600
TZNAME:CST
DTSTART:20201101T070000
END:STANDARD
BEGIN:DAYLIGHT
TZOFFSETFROM:-0600
TZOFFSETTO:-0500
TZNAME:CDT
DTSTART:20210314T080000
END:DAYLIGHT
BEGIN:STANDARD
TZOFFSETFROM:-0500
TZOFFSETTO:-0600
TZNAME:CST
DTSTART:20211107T070000
END:STANDARD
BEGIN:DAYLIGHT
TZOFFSETFROM:-0600
TZOFFSETTO:-0500
TZNAME:CDT
DTSTART:20220313T080000
END:DAYLIGHT
BEGIN:STANDARD
TZOFFSETFROM:-0500
TZOFFSETTO:-0600
TZNAME:CST
DTSTART:20221106T070000
END:STANDARD
END:VTIMEZONE
BEGIN:VEVENT
DTSTART;TZID=America/Chicago:20210505T080000
DTEND;TZID=America/Chicago:20210506T170000
DTSTAMP:20260423T081423
CREATED:20210423T180155Z
LAST-MODIFIED:20220822T210842Z
UID:10000336-1620201600-1620320400@stearnshistorymuseum.org
SUMMARY:History At Home: Whippersnapper Hour
DESCRIPTION:Enjoy this video from our staff and have some fun learning about history from the comfort of your home! Feel free to watch any time—”Whippersnapper Hour” is only a suggestion. \nWhippersnapper Hour: A Tale of Two Pandemics\nHey there\, Whippersnapper! Are you ready to talk about the pandemic? (No\, not that one!) We’re going back in time to get a brief history lesson on the Spanish Flu that ravaged the country and the world over 100 years ago\, beginning in 1918. You’ll learn some new information\, but you’ll also be surprised by how much of it sounds familiar. You know what they say about history— it often repeats itself. Stay tuned at the end of the video for a trivia challenge about other pandemics and plagues throughout the course of history—even if you don’t know the answers\, you will learn something new! \n 
URL:https://stearnshistorymuseum.org/event-items/history-at-home-whippersnapper-hour/
CATEGORIES:Events,Whippersnapper Hour
ATTACH;FMTTYPE=image/png:https://stearnshistorymuseum.org/wp-content/uploads/2021/04/Screen-Shot-2021-04-23-at-12.54.57-PM.png
END:VEVENT
BEGIN:VEVENT
DTSTART;TZID=America/Chicago:20200215T103000
DTEND;TZID=America/Chicago:20200215T103000
DTSTAMP:20260423T081423
CREATED:20200114T104411Z
LAST-MODIFIED:20220822T210849Z
UID:10000283-1581762600-1581762600@stearnshistorymuseum.org
SUMMARY:Whippersnapper Hour\, Toys through the Years
DESCRIPTION:
URL:https://stearnshistorymuseum.org/event-items/whippersnapper-hour-toys-through-the-years/
LOCATION:Stearns History Museum\, 235 33rd Ave S\, St Cloud\, MN\, 56301\, United States
CATEGORIES:Programs,Whippersnapper Hour
ATTACH;FMTTYPE=image/jpeg:https://stearnshistorymuseum.org/wp-content/uploads/2020/01/490324.jpeg
END:VEVENT
BEGIN:VEVENT
DTSTART;TZID=America/Chicago:20200118T103000
DTEND;TZID=America/Chicago:20200118T103000
DTSTAMP:20260423T081423
CREATED:20200114T101654Z
LAST-MODIFIED:20220822T210909Z
UID:10000275-1579343400-1579343400@stearnshistorymuseum.org
SUMMARY:Whippersnapper Hour\, Technology of Yesteryear
DESCRIPTION:
URL:https://stearnshistorymuseum.org/event-items/whippersnapper-hour-technology-of-yesteryear/
LOCATION:Stearns History Museum\, 235 33rd Ave S\, St Cloud\, MN\, 56301\, United States
CATEGORIES:Events,Programs,Whippersnapper Hour
ATTACH;FMTTYPE=image/jpeg:https://stearnshistorymuseum.org/wp-content/uploads/2020/01/490324.jpeg
END:VEVENT
END:VCALENDAR