BEGIN:VCALENDAR
VERSION:2.0
PRODID:-//Stearns History Museum - ECPv6.15.20//NONSGML v1.0//EN
CALSCALE:GREGORIAN
METHOD:PUBLISH
X-ORIGINAL-URL:https://stearnshistorymuseum.org
X-WR-CALDESC:Events for Stearns History Museum
REFRESH-INTERVAL;VALUE=DURATION:PT1H
X-Robots-Tag:noindex
X-PUBLISHED-TTL:PT1H
BEGIN:VTIMEZONE
TZID:America/Chicago
BEGIN:DAYLIGHT
TZOFFSETFROM:-0600
TZOFFSETTO:-0500
TZNAME:CDT
DTSTART:20250309T080000
END:DAYLIGHT
BEGIN:STANDARD
TZOFFSETFROM:-0500
TZOFFSETTO:-0600
TZNAME:CST
DTSTART:20251102T070000
END:STANDARD
BEGIN:DAYLIGHT
TZOFFSETFROM:-0600
TZOFFSETTO:-0500
TZNAME:CDT
DTSTART:20260308T080000
END:DAYLIGHT
BEGIN:STANDARD
TZOFFSETFROM:-0500
TZOFFSETTO:-0600
TZNAME:CST
DTSTART:20261101T070000
END:STANDARD
BEGIN:DAYLIGHT
TZOFFSETFROM:-0600
TZOFFSETTO:-0500
TZNAME:CDT
DTSTART:20270314T080000
END:DAYLIGHT
BEGIN:STANDARD
TZOFFSETFROM:-0500
TZOFFSETTO:-0600
TZNAME:CST
DTSTART:20271107T070000
END:STANDARD
END:VTIMEZONE
BEGIN:VEVENT
DTSTART;TZID=America/Chicago:20260711T100000
DTEND;TZID=America/Chicago:20260711T160000
DTSTAMP:20260423T052100
CREATED:20260328T211537Z
LAST-MODIFIED:20260328T211537Z
UID:10000778-1783764000-1783785600@stearnshistorymuseum.org
SUMMARY:At War and At Home: the WWII Experience
DESCRIPTION:It’s time again for our annual WWII Living History event! On July 11th and 12th\, 2026\, the grounds of the Stearns History Museum will come alive with authentic WWII-era military equipment and vehicles\, homefront displays\, costumed reenactors\, and more! As always\, we will have plenty of activities for all ages\, including our Obstacle Course\, WWII trivia\, arts and crafts\, and beyond. \nWe will be selling hot dogs and brats for lunch\, so you can stay all day! \nThis event is FREE to the public!
URL:https://stearnshistorymuseum.org/event-items/at-war-and-at-home-the-wwii-experience-2/
LOCATION:Stearns History Museum\, 235 33rd Ave S\, St Cloud\, MN\, 56301\, United States
ATTACH;FMTTYPE=image/png:https://stearnshistorymuseum.org/wp-content/uploads/2026/03/2026-WWII-Thumbnail.png
END:VEVENT
BEGIN:VEVENT
DTSTART;TZID=America/Chicago:20260712T110000
DTEND;TZID=America/Chicago:20260712T160000
DTSTAMP:20260423T052100
CREATED:20260328T211636Z
LAST-MODIFIED:20260328T211636Z
UID:10000779-1783854000-1783872000@stearnshistorymuseum.org
SUMMARY:At War and At Home: the WWII Experience
DESCRIPTION:It’s time again for our annual WWII Living History event! On July 11th and 12th\, 2026\, the grounds of the Stearns History Museum will come alive with authentic WWII-era military equipment and vehicles\, homefront displays\, costumed reenactors\, and more! As always\, we will have plenty of activities for all ages\, including our Obstacle Course\, WWII trivia\, arts and crafts\, and beyond. \nWe will be selling hot dogs and brats for lunch\, so you can stay all day! \nThis event is FREE to the public!
URL:https://stearnshistorymuseum.org/event-items/at-war-and-at-home-the-wwii-experience-3/
LOCATION:Stearns History Museum\, 235 33rd Ave S\, St Cloud\, MN\, 56301\, United States
ATTACH;FMTTYPE=image/png:https://stearnshistorymuseum.org/wp-content/uploads/2026/03/2026-WWII-Thumbnail.png
END:VEVENT
BEGIN:VEVENT
DTSTART;TZID=America/Chicago:20260813T173000
DTEND;TZID=America/Chicago:20260813T183000
DTSTAMP:20260423T052100
CREATED:20260303T213333Z
LAST-MODIFIED:20260303T213333Z
UID:10000775-1786642200-1786645800@stearnshistorymuseum.org
SUMMARY:Hiking Through History: Warner Lake County Park
DESCRIPTION:Join the Stearns History Museum and Stearns County Parks this summer as we hike through some of Stearns County’s most beautiful parks\, learn about the natural wonders and ecosystems found there\, with some history sprinkled in. These walks will be between 1 and 1.5 miles and fairly gentle\, but bring your walking shoes! \nThis program is free to the public
URL:https://stearnshistorymuseum.org/event-items/hiking-through-history-warner-lake-county-park/
LOCATION:Warner Lake County Park\, 143 County Road\, Clearwater\, 55320\, United States
ATTACH;FMTTYPE=image/png:https://stearnshistorymuseum.org/wp-content/uploads/2026/03/HTH-Warner-Lake-Thumbnail.png
END:VEVENT
BEGIN:VEVENT
DTSTART;TZID=America/Chicago:20260910T173000
DTEND;TZID=America/Chicago:20260910T183000
DTSTAMP:20260423T052100
CREATED:20260303T213608Z
LAST-MODIFIED:20260303T213608Z
UID:10000776-1789061400-1789065000@stearnshistorymuseum.org
SUMMARY:Hiking Through History: Rockville County Park
DESCRIPTION:Join the Stearns History Museum and Stearns County Parks this summer as we hike through some of Stearns County’s most beautiful parks\, learn about the natural wonders and ecosystems found there\, with some history sprinkled in. These walks will be between 1 and 1.5 miles and fairly gentle\, but bring your walking shoes! \nThis program is free to the public
URL:https://stearnshistorymuseum.org/event-items/hiking-through-history-rockville-county-park/
LOCATION:Rockville County Park\, 11503 Glacier Rd\, St. Cloud\, MN\, United States
ATTACH;FMTTYPE=image/png:https://stearnshistorymuseum.org/wp-content/uploads/2026/03/HTH-Rockville-Thumbnail.png
END:VEVENT
END:VCALENDAR