BEGIN:VCALENDAR
VERSION:2.0
PRODID:-//Stearns History Museum - ECPv6.15.20//NONSGML v1.0//EN
CALSCALE:GREGORIAN
METHOD:PUBLISH
X-WR-CALNAME:Stearns History Museum
X-ORIGINAL-URL:https://stearnshistorymuseum.org
X-WR-CALDESC:Events for Stearns History Museum
REFRESH-INTERVAL;VALUE=DURATION:PT1H
X-Robots-Tag:noindex
X-PUBLISHED-TTL:PT1H
BEGIN:VTIMEZONE
TZID:America/Chicago
BEGIN:DAYLIGHT
TZOFFSETFROM:-0600
TZOFFSETTO:-0500
TZNAME:CDT
DTSTART:20230312T080000
END:DAYLIGHT
BEGIN:STANDARD
TZOFFSETFROM:-0500
TZOFFSETTO:-0600
TZNAME:CST
DTSTART:20231105T070000
END:STANDARD
BEGIN:DAYLIGHT
TZOFFSETFROM:-0600
TZOFFSETTO:-0500
TZNAME:CDT
DTSTART:20240310T080000
END:DAYLIGHT
BEGIN:STANDARD
TZOFFSETFROM:-0500
TZOFFSETTO:-0600
TZNAME:CST
DTSTART:20241103T070000
END:STANDARD
BEGIN:DAYLIGHT
TZOFFSETFROM:-0600
TZOFFSETTO:-0500
TZNAME:CDT
DTSTART:20250309T080000
END:DAYLIGHT
BEGIN:STANDARD
TZOFFSETFROM:-0500
TZOFFSETTO:-0600
TZNAME:CST
DTSTART:20251102T070000
END:STANDARD
END:VTIMEZONE
BEGIN:VEVENT
DTSTART;TZID=America/Chicago:20240911T090000
DTEND;TZID=America/Chicago:20240911T100000
DTSTAMP:20260425T111842
CREATED:20231212T171618Z
LAST-MODIFIED:20240726T180553Z
UID:10000629-1726045200-1726048800@stearnshistorymuseum.org
SUMMARY:Breakfast Club - History of the St. Cloud Municipal Band
DESCRIPTION:Join members of the St. Cloud Municipal Band as they talk about the group’s long history\, dating all the way back to the Civil War. Local talent\, from college students to those who’ve been playing for 50 years\, still play to enrich the lives of our community.
URL:https://stearnshistorymuseum.org/event-items/breakfast-club-history-of-the-st-cloud-municipal-band/
LOCATION:Stearns History Museum\, 235 33rd Ave S\, St Cloud\, MN\, 56301\, United States
CATEGORIES:Breakfast Club,Programs
ATTACH;FMTTYPE=image/png:https://stearnshistorymuseum.org/wp-content/uploads/2023/12/Fiedler-BC-Thumbnail-3.png
END:VEVENT
BEGIN:VEVENT
DTSTART;TZID=America/Chicago:20240905T100000
DTEND;TZID=America/Chicago:20240905T170000
DTSTAMP:20260425T111842
CREATED:20240817T142106Z
LAST-MODIFIED:20240817T142417Z
UID:10000658-1725530400-1725555600@stearnshistorymuseum.org
SUMMARY:History of the Holly Ball Exhibit Opening
DESCRIPTION:This year\, the annual Holly Ball is celebrating its 50th anniversary! We will be hosting a temporary exhibit in our lobby detailing the history of this fundraiser that has spent 50 years raising money for an excellent cause.
URL:https://stearnshistorymuseum.org/event-items/history-of-the-holly-ball-exhibit-opening/
LOCATION:Stearns History Museum\, 235 33rd Ave S\, St Cloud\, MN\, 56301\, United States
ATTACH;FMTTYPE=image/png:https://stearnshistorymuseum.org/wp-content/uploads/2024/08/Brown-Minimalist-Podcast-Promotion-Youtube-Thumbnail-2.png
END:VEVENT
BEGIN:VEVENT
DTSTART;TZID=America/Chicago:20240815T170000
DTEND;TZID=America/Chicago:20240815T200000
DTSTAMP:20260425T111842
CREATED:20240701T200345Z
LAST-MODIFIED:20240803T203926Z
UID:10000651-1723741200-1723752000@stearnshistorymuseum.org
SUMMARY:80s Skate Night at the Skatin' Place!
DESCRIPTION:Come on down to the Skatin’ Place on Thursday\, August 15th and relive the 1980s! For $7\, you can skate the night away to some of the best 1980s tunes\, and proceeds will benefit the Stearns History Museum!
URL:https://stearnshistorymuseum.org/event-items/80s-skate-night-at-the-skatin-place/
LOCATION:The Skatin’ Place\, 3302 Southway Drive\, Saint Cloud\, MN\, 56301\, United States
ATTACH;FMTTYPE=image/png:https://stearnshistorymuseum.org/wp-content/uploads/2024/07/Skatin-Place-Flyer-2.png
END:VEVENT
BEGIN:VEVENT
DTSTART;TZID=America/Chicago:20240808T100000
DTEND;TZID=America/Chicago:20240808T120000
DTSTAMP:20260425T111842
CREATED:20240606T194947Z
LAST-MODIFIED:20240803T150018Z
UID:10000649-1723111200-1723118400@stearnshistorymuseum.org
SUMMARY:Heritage Circle: St. Cloud (New) Nutrient Energy and Water Recovery Facility
DESCRIPTION:Join us for another Heritage Circle Tour! On August 8th\, we will be touring the St. Cloud New Nutrient Energy and Water Recovery Center with the City of St. Cloud\, led by Tracy Hodel\, Public Services Director. We will meet at 525 60th Street South on at 10 am\, with a pay-on-you-own lunch at the Hayloft Bar and Grill to follow. \nYou must be a Heritage Circle level member at the Stearns History Museum to attend Heritage Circle events. \nHeritage Circle Membership information and application: https://stearns-museum.company.site/Heritage-Circle-p623356241 \nIf you have any questions. contact Ann Marie Johnson at development@stearns-museum.org or call 320-253-8424 \n 
URL:https://stearnshistorymuseum.org/event-items/heritage-circle-st-cloud-new-nutrient-energy-and-water-recovery-facility/
LOCATION:St. Cloud Nutrient Energy and Water Recovery Facility\, 525 60th St. S\, St. Cloud\, United States
ATTACH;FMTTYPE=image/jpeg:https://stearnshistorymuseum.org/wp-content/uploads/2024/06/SC-Recovery-Facility.jpg
END:VEVENT
BEGIN:VEVENT
DTSTART;TZID=America/Chicago:20240801T100000
DTEND;TZID=America/Chicago:20240801T110000
DTSTAMP:20260425T111842
CREATED:20231212T171418Z
LAST-MODIFIED:20240607T164552Z
UID:10000628-1722506400-1722510000@stearnshistorymuseum.org
SUMMARY:History Outdoors- Blazing the Oregon Trail
DESCRIPTION:This summer\, students will bring the 1980s computer hit to life as they experience the triumphs and tragedies of The Oregon Trail in real time. Can you make a wagon that floats across the river? Can you find enough food to keep your party alive? Will you make it to Oregon? \nRecommended ages: 8-14 \nCost: $10/child\, members free (Household membership required)
URL:https://stearnshistorymuseum.org/event-items/history-outdoors-2/
LOCATION:Stearns History Museum\, 235 33rd Ave S\, St Cloud\, MN\, 56301\, United States
CATEGORIES:Events,Programs
ATTACH;FMTTYPE=image/jpeg:https://stearnshistorymuseum.org/wp-content/uploads/2023/12/oregon-trail-snip.jpg
END:VEVENT
BEGIN:VEVENT
DTSTART;TZID=America/Chicago:20240731T120000
DTEND;TZID=America/Chicago:20240804T180000
DTSTAMP:20260425T111842
CREATED:20240723T170718Z
LAST-MODIFIED:20240723T170718Z
UID:10000652-1722427200-1722794400@stearnshistorymuseum.org
SUMMARY:SHM at the Stearns County Fair!
DESCRIPTION:Come visit the Stearns History Museum at the Stearns County Fair in Sauk Centre\, from July 31-August 4th!
URL:https://stearnshistorymuseum.org/event-items/shm-at-the-stearns-county-fair/
LOCATION:Stearns County Fairgrounds\, 1105 Ash St S\, Sauk Centre\, 56378\, United States
ATTACH;FMTTYPE=image/jpeg:https://stearnshistorymuseum.org/wp-content/uploads/2024/07/ferris-wheel.jpg
END:VEVENT
BEGIN:VEVENT
DTSTART;TZID=America/Chicago:20240725T100000
DTEND;TZID=America/Chicago:20240725T110000
DTSTAMP:20260425T111842
CREATED:20231212T171221Z
LAST-MODIFIED:20240607T164507Z
UID:10000627-1721901600-1721905200@stearnshistorymuseum.org
SUMMARY:History Outdoors - Blazing the Oregon Trail
DESCRIPTION:This summer\, students will bring the 1980s computer hit to life as they experience the triumphs and tragedies of The Oregon Trail in real time. Can you make a wagon that floats across the river? Can you find enough food to keep your party alive? Will you make it to Oregon? \nRecommended ages: 8-14 \nCost: $10/child\, members free (Household membership required)
URL:https://stearnshistorymuseum.org/event-items/history-outdoors-the-ox-cart-trail/
LOCATION:Stearns History Museum\, 235 33rd Ave S\, St Cloud\, MN\, 56301\, United States
CATEGORIES:History Outdoors,Programs
ATTACH;FMTTYPE=image/jpeg:https://stearnshistorymuseum.org/wp-content/uploads/2023/12/oregon-trail-snip.jpg
END:VEVENT
BEGIN:VEVENT
DTSTART;TZID=America/Chicago:20240718T100000
DTEND;TZID=America/Chicago:20240718T180000
DTSTAMP:20260425T111842
CREATED:20240618T154059Z
LAST-MODIFIED:20240618T154441Z
UID:10000650-1721296800-1721325600@stearnshistorymuseum.org
SUMMARY:History Hunt in the Gardens at Munsinger Clemens Gardens
DESCRIPTION:Take the Munsinger Clemens Gardens History Hunt Challenge and get a chance to spin the wheel for prizes. Find us near the Gift Shop in the Gardens! For more information\, contact Anne Marie at development@stearns-museum.org or call 320-253-8424. \n  \nThis class is made possible in part thanks to the generosity of Stearns History Museum members and donors. Thank you for your support!
URL:https://stearnshistorymuseum.org/event-items/history-hunt-in-the-gardens-2/
LOCATION:Munsinger Clemens Gardens\, 1515 Riverside Dr. SE\, Saint Cloud\, Minnesota\, 56304
ATTACH;FMTTYPE=image/jpeg:https://stearnshistorymuseum.org/wp-content/uploads/2024/06/Munsinger-Gardens-5-scaled.jpg
END:VEVENT
BEGIN:VEVENT
DTSTART;VALUE=DATE:20240713
DTEND;VALUE=DATE:20240715
DTSTAMP:20260425T111842
CREATED:20231212T171052Z
LAST-MODIFIED:20240701T183136Z
UID:10000626-1720828800-1721001599@stearnshistorymuseum.org
SUMMARY:At War and At Home: The WWII Experience
DESCRIPTION:Our World War II Living History event is back! Come to the museum for authentic World War II military vehicles\, reenactors\, weapons demonstrations\, and more! This year\, with a focus on war correspondents and journalism\, we have something for everyone- from our kids’ obstacle course to World War II trivia\, there’s something to keep you busy all day long!
URL:https://stearnshistorymuseum.org/event-items/world-war-ii-weekend/
LOCATION:Stearns History Museum\, 235 33rd Ave S\, St Cloud\, MN\, 56301\, United States
CATEGORIES:Events
ATTACH;FMTTYPE=image/jpeg:https://stearnshistorymuseum.org/wp-content/uploads/2023/12/2023-group-photo.jpg
END:VEVENT
BEGIN:VEVENT
DTSTART;TZID=America/Chicago:20240710T090000
DTEND;TZID=America/Chicago:20240710T100000
DTSTAMP:20260425T111842
CREATED:20231212T170901Z
LAST-MODIFIED:20240413T164103Z
UID:10000625-1720602000-1720605600@stearnshistorymuseum.org
SUMMARY:Breakfast Club: Dr. Christopher Lehman\, "It Took Courage: Eliza Winston's Quest for Freedom"
DESCRIPTION:Christopher P. Lehman\, St. Cloud State University Professor and member of the Stearns History Museum Board of Directors\, has released a brand new book! In it\, he uncovers the history of the fascinating Minnesota figure Eliza Winston\, and her journey as she fought and sued for her freedom. \nCost: $7 for non-members\, members FREE
URL:https://stearnshistorymuseum.org/event-items/breakfast-club-5/
LOCATION:Stearns History Museum\, 235 33rd Ave S\, St Cloud\, MN\, 56301\, United States
CATEGORIES:Breakfast Club,Programs
ATTACH;FMTTYPE=image/png:https://stearnshistorymuseum.org/wp-content/uploads/2023/12/Fiedler-BC-Thumbnail-1.png
END:VEVENT
BEGIN:VEVENT
DTSTART;TZID=America/Chicago:20240629T130000
DTEND;TZID=America/Chicago:20240629T150000
DTSTAMP:20260425T111842
CREATED:20240325T032517Z
LAST-MODIFIED:20240430T200045Z
UID:10000647-1719666000-1719673200@stearnshistorymuseum.org
SUMMARY:40th Anniversary Open House
DESCRIPTION:Join us to celebrate the 40th anniversary of the Stearns History Museum building in Heritage Park! \nRefreshments from Songbird Kitchen will be served\, and a new exhibit\, “Home at Last\,” will depict the story of the Stearns History Museum building. \nThis event is free and open to the public- we hope to see you all there!
URL:https://stearnshistorymuseum.org/event-items/40th-anniversary-open-house/
LOCATION:Stearns History Museum\, 235 33rd Ave S\, St Cloud\, MN\, 56301\, United States
ATTACH;FMTTYPE=image/jpeg:https://stearnshistorymuseum.org/wp-content/uploads/2024/03/Open-House-Image_1200.jpg
END:VEVENT
BEGIN:VEVENT
DTSTART;TZID=America/Chicago:20240621T120000
DTEND;TZID=America/Chicago:20240621T180000
DTSTAMP:20260425T111842
CREATED:20231212T170151Z
LAST-MODIFIED:20240208T164744Z
UID:10000624-1718971200-1718992800@stearnshistorymuseum.org
SUMMARY:Girls Just Want to Have Fun Bus Tour
DESCRIPTION:Ladies\, celebrate the Summer Solstice by joining the museum for a fun and tasty afternoon in the southeastern part of the county! \n-Tour and summer picnic at Fairhaven Mill Park \n-Tours and tastings at Millner Heritage Winery in Kimball \n-$65 per person \n-Book your spot today!
URL:https://stearnshistorymuseum.org/event-items/girls-just-want-to-have-fun-bus-tour/
LOCATION:Stearns History Museum\, 235 33rd Ave S\, St Cloud\, MN\, 56301\, United States
CATEGORIES:Events,Programs
ATTACH;FMTTYPE=image/jpeg:https://stearnshistorymuseum.org/wp-content/uploads/2023/12/red-wine-feature-scaled.jpg
END:VEVENT
BEGIN:VEVENT
DTSTART;TZID=America/Chicago:20240612T090000
DTEND;TZID=America/Chicago:20240612T100000
DTSTAMP:20260425T111842
CREATED:20231212T165840Z
LAST-MODIFIED:20240525T203320Z
UID:10000623-1718182800-1718186400@stearnshistorymuseum.org
SUMMARY:Breakfast Club: Marla Waseka\, Preservation and Graceful Spaces
DESCRIPTION:Join Marla Waseka\, owner and designer for Graceful Spaces and MoXie Ladies\, to learn about her work to preserve and repurpose materials in building renovations.  \nEvent is free for members\, $10 for nonmembers
URL:https://stearnshistorymuseum.org/event-items/breakfast-club-4/
LOCATION:Stearns History Museum\, 235 33rd Ave S\, St Cloud\, MN\, 56301\, United States
CATEGORIES:Breakfast Club,Programs
ATTACH;FMTTYPE=image/png:https://stearnshistorymuseum.org/wp-content/uploads/2023/12/Fiedler-BC-Thumbnail-2.png
END:VEVENT
BEGIN:VEVENT
DTSTART;TZID=America/Chicago:20240530T160000
DTEND;TZID=America/Chicago:20240530T200000
DTSTAMP:20260425T111842
CREATED:20231212T165657Z
LAST-MODIFIED:20240327T212443Z
UID:10000622-1717084800-1717099200@stearnshistorymuseum.org
SUMMARY:1980s Car Show and "I Want My 1980s" exhibit opening
DESCRIPTION:We are kicking off a summer of 1980s fun tonight! Come and see the glory of 1980s cars right here on the museum grounds! Bring some cash for brats and burgers from Auto Value and delicious craft beer from Third Street Brewing\, and enjoy the 1980s tunes that will be floating through the air. And when you need to cool off\, head on inside the museum and see our brand new exhibit\, “I Want My 1980s\,” showcasing all the things that made that decade so rad. \nEvent is FREE to the public- DONATIONS to the museum are always welcome! \n 
URL:https://stearnshistorymuseum.org/event-items/80s-car-show-and-exhibit-opening/
LOCATION:Stearns History Museum\, 235 33rd Ave S\, St Cloud\, MN\, 56301\, United States
CATEGORIES:Events
ATTACH;FMTTYPE=image/png:https://stearnshistorymuseum.org/wp-content/uploads/2023/12/Purple-Pixel-Live-Stream-YouTube-Thumbnail.png
END:VEVENT
BEGIN:VEVENT
DTSTART;TZID=America/Chicago:20240523T100000
DTEND;TZID=America/Chicago:20240523T133000
DTSTAMP:20260425T111842
CREATED:20240302T162359Z
LAST-MODIFIED:20240305T200840Z
UID:10000645-1716458400-1716471000@stearnshistorymuseum.org
SUMMARY:Heritage Circle Tour: St. John's Abbey Woodworking and Organ Building Studio
DESCRIPTION:Heritage Circle Members of the Museum are invited to take a behind the scenes tour of the St. John’s Abbey Woodworking and Organ Building Studio! Lunch (pay on your own) will follow at the Refectory\, followed by an optional tour at 1pm of the Hill Museum and Manuscript Library. \n*THIS EVENT IS AVAILABLE TO MEMBERS ONLY \n 
URL:https://stearnshistorymuseum.org/event-items/heritage-circle-tour-st-johns-abbey-woodworking-and-organ-building-studio/
LOCATION:St. John’s Abbey\, 2825 Power House Road\, Collegeville\, MN\, 56321\, United States
ATTACH;FMTTYPE=image/jpeg:https://stearnshistorymuseum.org/wp-content/uploads/2024/03/SchneiderHubert1950.jpg
END:VEVENT
BEGIN:VEVENT
DTSTART;TZID=America/Chicago:20240521T190000
DTEND;TZID=America/Chicago:20240521T210000
DTSTAMP:20260425T111842
CREATED:20230622T184400Z
LAST-MODIFIED:20231129T172021Z
UID:10000593-1716318000-1716325200@stearnshistorymuseum.org
SUMMARY:SCAG MEETING - Scott Norrick\, Scottish Immigration to America
DESCRIPTION:
URL:https://stearnshistorymuseum.org/event-items/scag-meeting-7/
LOCATION:Stearns History Museum\, 235 33rd Ave S\, St Cloud\, MN\, 56301\, United States
END:VEVENT
BEGIN:VEVENT
DTSTART;TZID=America/Chicago:20240518T090000
DTEND;TZID=America/Chicago:20240518T130000
DTSTAMP:20260425T111842
CREATED:20240327T195508Z
LAST-MODIFIED:20240327T195508Z
UID:10000648-1716022800-1716037200@stearnshistorymuseum.org
SUMMARY:Intro to Masonry: Materials\, Methods\, and Maintenance
DESCRIPTION:arn about masonry at this hands-on\, information-packed workshop taught by John Beaty\, design reviewer for the Minnesota Historical Society. An expert in the repair of historic masonry\, John will share his knowledge and expertise with workshop attendees\, covering everything from the ins and outs of masonry to how to identify problem areas and what to do about them. Geared for both residential and commercial property owners\, this workshop is bound to be full of information and lots of fun! \nThe workshop will be held on Saturday\, May 18th\, 9 am to 1 pm\, at Rainbow Wellness Collective in downtown St. Cloud (Lahr Building; 601 West St. Germain Street). Regular admission is $30. Cost for Stearns History Museum members is $20. Not a member? Join today! \n\nFor more information\, contact Ann Marie at development@stearns-museum.org or call 320/253-8424. \nRegister-https://stearns-museum.company.site/Intro-to-Masonry-Materials-Methods-and-Maintenance-p642294937 \n\nThis class is made possible in part thanks to the generosity of Stearns History Museum members and donors. Thank you for your support!
URL:https://stearnshistorymuseum.org/event-items/intro-to-masonry-materials-methods-and-maintenance/
LOCATION:Rainbow Wellness Collective\, 601 West Saint Germain St.\, Saint Cloud\, 56301\, United States
ATTACH;FMTTYPE=image/jpeg:https://stearnshistorymuseum.org/wp-content/uploads/2024/03/DSCF0474-scaled.jpg
END:VEVENT
BEGIN:VEVENT
DTSTART;TZID=America/Chicago:20240516T180000
DTEND;TZID=America/Chicago:20240516T193000
DTSTAMP:20260425T111842
CREATED:20231212T165459Z
LAST-MODIFIED:20240412T151532Z
UID:10000621-1715882400-1715887800@stearnshistorymuseum.org
SUMMARY:Hops and History- "What a Rush": The 80s Professional Wrestling Boom and its Connections to Minnesota
DESCRIPTION:Before the WWF took over the nation\, territorial wrestling reigned supreme. The AWA in Minnesota\, run by Verne Gagne\, introduced some of the decade’s biggest superstars before they left for brighter lights and more money. Come on down to Pantown\, order a pint\, and learn all about it!
URL:https://stearnshistorymuseum.org/event-items/hops-and-history/
LOCATION:Pantown Brewing Company\, 408 37th Avenue North\, St. Cloud\, 56303\, United States
CATEGORIES:Hops & History,Programs
ATTACH;FMTTYPE=image/png:https://stearnshistorymuseum.org/wp-content/uploads/2023/12/Beige-Minimalist-Vlog-Daily-Routine-YouTube-Thumbnail-2.png
END:VEVENT
BEGIN:VEVENT
DTSTART;TZID=America/Chicago:20240508T090000
DTEND;TZID=America/Chicago:20240508T100000
DTSTAMP:20260425T111842
CREATED:20231212T165214Z
LAST-MODIFIED:20240314T180518Z
UID:10000620-1715158800-1715162400@stearnshistorymuseum.org
SUMMARY:Breakfast Club - Cory Haala- The 1980s Farm Crisis: Bankruptcies\, Protests\, and Memory in Stearns County
DESCRIPTION:
URL:https://stearnshistorymuseum.org/event-items/breakfast-club-cory-haala-the-80s-farm-crisis/
LOCATION:Stearns History Museum\, 235 33rd Ave S\, St Cloud\, MN\, 56301\, United States
CATEGORIES:Breakfast Club,Programs
ATTACH;FMTTYPE=image/png:https://stearnshistorymuseum.org/wp-content/uploads/2023/12/Fiedler-BC-Thumbnail.png
END:VEVENT
BEGIN:VEVENT
DTSTART;VALUE=DATE:20240420
DTEND;VALUE=DATE:20240421
DTSTAMP:20260425T111842
CREATED:20230814T152017Z
LAST-MODIFIED:20230814T152017Z
UID:10000608-1713571200-1713657599@stearnshistorymuseum.org
SUMMARY:SCAG Meeting - Branching Out: Tour of Benton County Historical Society
DESCRIPTION:We will be touring the Benton County Historical Society and then heading to Jimmy’s Pour House for lunch.
URL:https://stearnshistorymuseum.org/event-items/scag-meeting-branching-out-tour-of-benton-county-historical-society/
LOCATION:Stearns History Museum\, 235 33rd Ave S\, St Cloud\, MN\, 56301\, United States
CATEGORIES:St. Cloud Area Genealogists
END:VEVENT
BEGIN:VEVENT
DTSTART;TZID=America/Chicago:20240416T190000
DTEND;TZID=America/Chicago:20240416T210000
DTSTAMP:20260425T111842
CREATED:20230622T183057Z
LAST-MODIFIED:20231129T171817Z
UID:10000592-1713294000-1713301200@stearnshistorymuseum.org
SUMMARY:SCAG MEETING - Michelle Wilson\, “Bio-Parents for Peg and Donna: A Genetic Genealogy Case Study”
DESCRIPTION:
URL:https://stearnshistorymuseum.org/event-items/scag-meeting-6/
LOCATION:Stearns History Museum\, 235 33rd Ave S\, St Cloud\, MN\, 56301\, United States
END:VEVENT
BEGIN:VEVENT
DTSTART;TZID=America/Chicago:20240410T090000
DTEND;TZID=America/Chicago:20240410T100000
DTSTAMP:20260425T111842
CREATED:20231212T165016Z
LAST-MODIFIED:20240217T165437Z
UID:10000619-1712739600-1712743200@stearnshistorymuseum.org
SUMMARY:Breakfast Club - Liz Fiedler\, Sunny Mary Meadow
DESCRIPTION:Liz Fiedler is the “Keeper of the Flame” on her Stearns County Century Farm\, with her daughters being the 6th generation to live and actively farm there on the same land that has been in the Fiedler family since 1888.  She and her late husband purchased the property in 2016 and established their business Sunny Mary Meadow in 2020 shortly before he passed away unexpectedly.  Over the years\, it has been home to many businesses: this farm has been a dairy\, feedlot\, hog farm\, horse farm\, traditional row crops\, blacksmith shop\, butcher shop\, sawmill\, and now flower farm. \n$7.00/person\, members FREE
URL:https://stearnshistorymuseum.org/event-items/breakfast-club-liz-fiedler-sunny-mary-meadow/
LOCATION:Stearns History Museum\, 235 33rd Ave S\, St Cloud\, MN\, 56301\, United States
CATEGORIES:Breakfast Club,Programs
ATTACH;FMTTYPE=image/png:https://stearnshistorymuseum.org/wp-content/uploads/2023/12/Navy-and-Yellow-Modern-Business-YouTube-Thumbnail-2.png
END:VEVENT
BEGIN:VEVENT
DTSTART;TZID=America/Chicago:20240406T130000
DTEND;TZID=America/Chicago:20240406T160000
DTSTAMP:20260425T111842
CREATED:20240214T215434Z
LAST-MODIFIED:20250108T222156Z
UID:10000644-1712408400-1712419200@stearnshistorymuseum.org
SUMMARY:Community Scan
DESCRIPTION:The Stearns History Museum will be hosting a community scanning event. Bring your old family photos and have them scanned for FREE. Registration is required. Limit 15 items.
URL:https://stearnshistorymuseum.org/event-items/community-scan-2/
LOCATION:Stearns History Museum\, 235 33rd Ave S\, St Cloud\, MN\, 56301\, United States
CATEGORIES:Community Scan
ATTACH;FMTTYPE=image/jpeg:https://stearnshistorymuseum.org/wp-content/uploads/2024/02/Community-Scan.jpg
END:VEVENT
BEGIN:VEVENT
DTSTART;VALUE=DATE:20240325
DTEND;VALUE=DATE:20240331
DTSTAMP:20260425T111842
CREATED:20240325T031814Z
LAST-MODIFIED:20240325T031814Z
UID:10000646-1711324800-1711843199@stearnshistorymuseum.org
SUMMARY:Closed March 25-30 for exhibit installation
DESCRIPTION:
URL:https://stearnshistorymuseum.org/event-items/closed-march-25-30-for-exhibit-installation/
LOCATION:Stearns History Museum\, 235 33rd Ave S\, St Cloud\, MN\, 56301\, United States
END:VEVENT
BEGIN:VEVENT
DTSTART;TZID=America/Chicago:20240323T130000
DTEND;TZID=America/Chicago:20240323T160000
DTSTAMP:20260425T111842
CREATED:20240214T205203Z
LAST-MODIFIED:20250108T222202Z
UID:10000643-1711198800-1711209600@stearnshistorymuseum.org
SUMMARY:Community Scan
DESCRIPTION:The Stearns History Museum will be hosting a community scanning event. Bring your old family photos and have them scanned for FREE. Registration is required. Limit 15 items.
URL:https://stearnshistorymuseum.org/event-items/community-scan/
LOCATION:Stearns History Museum\, 235 33rd Ave S\, St Cloud\, MN\, 56301\, United States
CATEGORIES:Community Scan
ATTACH;FMTTYPE=image/jpeg:https://stearnshistorymuseum.org/wp-content/uploads/2024/02/Community-Scan.jpg
END:VEVENT
BEGIN:VEVENT
DTSTART;TZID=America/Chicago:20240321T170000
DTEND;TZID=America/Chicago:20240321T190000
DTSTAMP:20260425T111842
CREATED:20231212T164838Z
LAST-MODIFIED:20240220T170512Z
UID:10000618-1711040400-1711047600@stearnshistorymuseum.org
SUMMARY:Hops & History- Kary Janousek- "When the Past is Present"
DESCRIPTION:Join Fargo photographer and artist Kary Janousek to learn about the amazing Victorian wet plate collodion process invented in 1851\, what a tintype and ambrotype is\, the basic steps of creating an image\, and how she will be using this amazing form of photography to bring the past into the present at historical sites across the Dakotas in 2024. \nCost: $10 for non-members\, FREE for members \n 
URL:https://stearnshistorymuseum.org/event-items/hops-history/
LOCATION:Bad Habit Brewing Company
CATEGORIES:Events,Hops & History,Programs
ATTACH;FMTTYPE=image/png:https://stearnshistorymuseum.org/wp-content/uploads/2023/12/Beige-Minimalist-Vlog-Daily-Routine-YouTube-Thumbnail-1.png
END:VEVENT
BEGIN:VEVENT
DTSTART;TZID=America/Chicago:20240319T190000
DTEND;TZID=America/Chicago:20240319T210000
DTSTAMP:20260425T111842
CREATED:20230622T183004Z
LAST-MODIFIED:20231129T171651Z
UID:10000591-1710874800-1710882000@stearnshistorymuseum.org
SUMMARY:SCAG MEETING - Eleanor Brinsko\, Digitalarkivet: What to Know and How to Use It
DESCRIPTION:
URL:https://stearnshistorymuseum.org/event-items/scag-meeting-5/
LOCATION:Stearns History Museum\, 235 33rd Ave S\, St Cloud\, MN\, 56301\, United States
END:VEVENT
BEGIN:VEVENT
DTSTART;TZID=America/Chicago:20240314T100000
DTEND;TZID=America/Chicago:20240314T120000
DTSTAMP:20260425T111842
CREATED:20240209T160247Z
LAST-MODIFIED:20240209T160247Z
UID:10000642-1710410400-1710417600@stearnshistorymuseum.org
SUMMARY:Heritage Circle Tour- Blattner Energy
DESCRIPTION:This members-only event will tour Blattner Energy\, in Avon\, with lunch to follow (pay-on-your-own) at the Avon Cabin Cafe. \nQuestions? Contact Ann Marie – development@stearns-museum.org or call 320-253-8424
URL:https://stearnshistorymuseum.org/event-items/heritage-circle-tour-blattner-energy/
LOCATION:Stearns History Museum\, 235 33rd Ave S\, St Cloud\, MN\, 56301\, United States
CATEGORIES:Events
ATTACH;FMTTYPE=image/jpeg:https://stearnshistorymuseum.org/wp-content/uploads/2024/02/blattner-photo.jpg
END:VEVENT
BEGIN:VEVENT
DTSTART;TZID=America/Chicago:20240313T090000
DTEND;TZID=America/Chicago:20240313T100000
DTSTAMP:20260425T111842
CREATED:20231212T164413Z
LAST-MODIFIED:20240208T173724Z
UID:10000617-1710320400-1710324000@stearnshistorymuseum.org
SUMMARY:Breakfast Club - Patty Wetterling: "Dear Jacob"
DESCRIPTION:Join local writer\, advocate\, and educator Patty Wetterling\, as she discusses her new book Dear Jacob: A Mother’s Journey of Hope. Patty will discuss the writing process\, what inspired her to bring the book to fruition\, and her path to finding hope.* \n*Online registration required. To register online\, go to the following:  https://stearns-museum.company.site/Members-Breakfast-Club-Patty-Wetterling-p623448761
URL:https://stearnshistorymuseum.org/event-items/breakfast-club-patty-wetterling-dear-jacob/
LOCATION:Stearns History Museum\, 235 33rd Ave S\, St Cloud\, MN\, 56301\, United States
CATEGORIES:Breakfast Club,Programs
ATTACH;FMTTYPE=image/png:https://stearnshistorymuseum.org/wp-content/uploads/2023/12/Navy-and-Yellow-Modern-Business-YouTube-Thumbnail.png
END:VEVENT
BEGIN:VEVENT
DTSTART;TZID=America/Chicago:20240220T190000
DTEND;TZID=America/Chicago:20240220T210000
DTSTAMP:20260425T111842
CREATED:20230622T182912Z
LAST-MODIFIED:20230814T151647Z
UID:10000590-1708455600-1708462800@stearnshistorymuseum.org
SUMMARY:SCAG Meeting - Daniel Earl\, “Funeral Homes and Family History: They’re Dying to Meet You”
DESCRIPTION:This is an online event! For more information\, email scag@stcloudareagen.org.
URL:https://stearnshistorymuseum.org/event-items/scag-meeting-4/
LOCATION:Stearns History Museum\, 235 33rd Ave S\, St Cloud\, MN\, 56301\, United States
CATEGORIES:St. Cloud Area Genealogists
END:VEVENT
END:VCALENDAR