BEGIN:VCALENDAR
VERSION:2.0
PRODID:-//Stearns History Museum - ECPv6.15.20//NONSGML v1.0//EN
CALSCALE:GREGORIAN
METHOD:PUBLISH
X-ORIGINAL-URL:https://stearnshistorymuseum.org
X-WR-CALDESC:Events for Stearns History Museum
REFRESH-INTERVAL;VALUE=DURATION:PT1H
X-Robots-Tag:noindex
X-PUBLISHED-TTL:PT1H
BEGIN:VTIMEZONE
TZID:America/Chicago
BEGIN:DAYLIGHT
TZOFFSETFROM:-0600
TZOFFSETTO:-0500
TZNAME:CDT
DTSTART:20230312T080000
END:DAYLIGHT
BEGIN:STANDARD
TZOFFSETFROM:-0500
TZOFFSETTO:-0600
TZNAME:CST
DTSTART:20231105T070000
END:STANDARD
BEGIN:DAYLIGHT
TZOFFSETFROM:-0600
TZOFFSETTO:-0500
TZNAME:CDT
DTSTART:20240310T080000
END:DAYLIGHT
BEGIN:STANDARD
TZOFFSETFROM:-0500
TZOFFSETTO:-0600
TZNAME:CST
DTSTART:20241103T070000
END:STANDARD
BEGIN:DAYLIGHT
TZOFFSETFROM:-0600
TZOFFSETTO:-0500
TZNAME:CDT
DTSTART:20250309T080000
END:DAYLIGHT
BEGIN:STANDARD
TZOFFSETFROM:-0500
TZOFFSETTO:-0600
TZNAME:CST
DTSTART:20251102T070000
END:STANDARD
END:VTIMEZONE
BEGIN:VEVENT
DTSTART;TZID=America/Chicago:20241009T090000
DTEND;TZID=America/Chicago:20241009T100000
DTSTAMP:20260425T153334
CREATED:20231212T172214Z
LAST-MODIFIED:20240816T204636Z
UID:10000633-1728464400-1728468000@stearnshistorymuseum.org
SUMMARY:Breakfast Club- James Neppl\, "Dead Talk"
DESCRIPTION:oin Community Outreach Coordinator\, Chaplain\, and Celebrant for Williams Dingmann Funeral Homes\, James Neppl\, as he briefly explores the history of the funeral business and the important meaning of ritual at the end of life.
URL:https://stearnshistorymuseum.org/event-items/breakfast-club-6/
LOCATION:Stearns History Museum\, 235 33rd Ave S\, St Cloud\, MN\, 56301\, United States
CATEGORIES:Breakfast Club,Programs
ATTACH;FMTTYPE=image/png:https://stearnshistorymuseum.org/wp-content/uploads/2023/12/Fiedler-BC-Thumbnail-4.png
END:VEVENT
BEGIN:VEVENT
DTSTART;TZID=America/Chicago:20241012T170000
DTEND;TZID=America/Chicago:20241012T183000
DTSTAMP:20260425T153334
CREATED:20231212T172332Z
LAST-MODIFIED:20240817T143758Z
UID:10000634-1728752400-1728757800@stearnshistorymuseum.org
SUMMARY:Sundown Cemetery Tour- Acacia Cemetery\, Clearwater
DESCRIPTION:It’s time for our annual Sundown Cemetery Tour! This year\, we’re taking a stroll through Acacia Cemetery in Clearwater. Come a little early for some hot cocoa\, a tasty treat as we walk through and learn about the many folks of Clearwater’s past. \n$10/person\, free for members!
URL:https://stearnshistorymuseum.org/event-items/cemetery-tour/
LOCATION:Acacia Cemetery\, 2298 County Road 143\, Clearwater\, 55320\, United States
CATEGORIES:Programs
ATTACH;FMTTYPE=image/png:https://stearnshistorymuseum.org/wp-content/uploads/2023/12/Calendar-thumbnail-cemetery-tour.png
END:VEVENT
BEGIN:VEVENT
DTSTART;TZID=America/Chicago:20241024T100000
DTEND;TZID=America/Chicago:20241024T120000
DTSTAMP:20260425T153334
CREATED:20240905T185733Z
LAST-MODIFIED:20240905T185733Z
UID:10000660-1729764000-1729771200@stearnshistorymuseum.org
SUMMARY:Heritage Circle Tour: Coldspring
DESCRIPTION:Join us at 10 a.m. on Thursday\, October 24\, 2024\, at Coldspring in Cold Spring\, Minnesota\, for the final Heritage Circle Tour of the year. Learn about the company\, its history\, current operations and future plans during this exciting tour with Josh Reitmeier\, Director of Operations. Coldspring got its start in 1890 when Henry Alexander\, a quarryman from Scotland\, helped found the Rockville Granite Company. The company changed its name to the Cold Spring Granite Company in the 1920s after it moved to Cold Spring\, a town west of Rockville. Coldspring is currently the largest granite-producing company in the nation. Following the tour\, everyone is welcome to gather for lunch (pay-on-your own). Location TBD. \nHeritage Circle Tours are members-only tours. They are a special benefit of membership support. Members play an important role in helping to preserve and share the history of Stearns County. \nQuestions? Contact Ann Marie at development@stearns-museum.org or call 320/253-8424.
URL:https://stearnshistorymuseum.org/event-items/heritage-circle-tour-coldspring/
LOCATION:Coldspring\, 17482 Granite West Road\, Cold Spring\, MN\, 56320\, United States
ATTACH;FMTTYPE=image/jpeg:https://stearnshistorymuseum.org/wp-content/uploads/2024/09/SHM-10203-Cold-Spring-Granite-Company-Plant-Cold-Spring-Minn-ca1940.jpg
END:VEVENT
END:VCALENDAR