BEGIN:VCALENDAR
VERSION:2.0
PRODID:-//Stearns History Museum - ECPv6.15.20//NONSGML v1.0//EN
CALSCALE:GREGORIAN
METHOD:PUBLISH
X-ORIGINAL-URL:https://stearnshistorymuseum.org
X-WR-CALDESC:Events for Stearns History Museum
REFRESH-INTERVAL;VALUE=DURATION:PT1H
X-Robots-Tag:noindex
X-PUBLISHED-TTL:PT1H
BEGIN:VTIMEZONE
TZID:America/Chicago
BEGIN:DAYLIGHT
TZOFFSETFROM:-0600
TZOFFSETTO:-0500
TZNAME:CDT
DTSTART:20230312T080000
END:DAYLIGHT
BEGIN:STANDARD
TZOFFSETFROM:-0500
TZOFFSETTO:-0600
TZNAME:CST
DTSTART:20231105T070000
END:STANDARD
BEGIN:DAYLIGHT
TZOFFSETFROM:-0600
TZOFFSETTO:-0500
TZNAME:CDT
DTSTART:20240310T080000
END:DAYLIGHT
BEGIN:STANDARD
TZOFFSETFROM:-0500
TZOFFSETTO:-0600
TZNAME:CST
DTSTART:20241103T070000
END:STANDARD
BEGIN:DAYLIGHT
TZOFFSETFROM:-0600
TZOFFSETTO:-0500
TZNAME:CDT
DTSTART:20250309T080000
END:DAYLIGHT
BEGIN:STANDARD
TZOFFSETFROM:-0500
TZOFFSETTO:-0600
TZNAME:CST
DTSTART:20251102T070000
END:STANDARD
END:VTIMEZONE
BEGIN:VEVENT
DTSTART;TZID=America/Chicago:20241113T090000
DTEND;TZID=America/Chicago:20241113T100000
DTSTAMP:20260425T092255
CREATED:20231212T172453Z
LAST-MODIFIED:20241001T171246Z
UID:10000635-1731488400-1731492000@stearnshistorymuseum.org
SUMMARY:Breakfast Club: Secrets of the Waite Park Car Shops Revealed! Barry Schreiber and Ray Schouviller
DESCRIPTION:Join us to learn about the Car Shops of Waite Park\, where 100\,000 boxcars and hundreds of cabooses were built for the Great Northern Railway between 1901 and 1986. Expert Ray Schouviller will share historic photos of the shops\, share its history\, and talk about why it shut down in the 1980s. \nEvent is FREE for members; $7 for nonmembers. Donuts and coffee will be served.
URL:https://stearnshistorymuseum.org/event-items/breakfast-club-7/
LOCATION:Stearns History Museum\, 235 33rd Ave S\, St Cloud\, MN\, 56301\, United States
CATEGORIES:Breakfast Club,Programs
ATTACH;FMTTYPE=image/png:https://stearnshistorymuseum.org/wp-content/uploads/2023/12/Breakfast-Club-Thumbnail.png
END:VEVENT
BEGIN:VEVENT
DTSTART;TZID=America/Chicago:20241121T170000
DTEND;TZID=America/Chicago:20241121T190000
DTSTAMP:20260425T092255
CREATED:20231212T172652Z
LAST-MODIFIED:20240905T193945Z
UID:10000636-1732208400-1732215600@stearnshistorymuseum.org
SUMMARY:Hops & History: Stars of Stearns County
DESCRIPTION:Join SHM Archivist Grant Wilson as he talks about some of Stearns County’s most famous actors and singers\, including June Marlowe (left)\, Gig Young\, and Stephen Sommers. Grab a cocktail\, sit back\, and learn about the big stars this county has produced! \nMeet at Iron Street Distillery in St. Cloud- program starts at 6pm. \nFREE for Museum Members\, non-members: $10.00
URL:https://stearnshistorymuseum.org/event-items/hops-history-3/
LOCATION:Iron Street Distillery\, 539 East St. Germain Street\, St. Cloud\, MN\, 56304\, United States
CATEGORIES:Hops & History,Programs
ATTACH;FMTTYPE=image/jpeg:https://stearnshistorymuseum.org/wp-content/uploads/2023/12/stars-of-stearns-county.jpg
END:VEVENT
BEGIN:VEVENT
DTSTART;TZID=America/Chicago:20241123T110000
DTEND;TZID=America/Chicago:20241123T120000
DTSTAMP:20260425T092255
CREATED:20241003T144004Z
LAST-MODIFIED:20241003T144004Z
UID:10000661-1732359600-1732363200@stearnshistorymuseum.org
SUMMARY:Gingerbread Architecture: the Sweet Elements of Design
DESCRIPTION:Tap your inner architect at this delicious all-ages\, family-friendly workshop. Learn the basics of architecture and structural design with everyone’s favorite building materials – gingerbread and frosting. Learning couldn’t be more sweet! Taught by Evan Larson\, AIA Principal/President/Project Architect at GLTArchitects\, this hands-on interactive workshop shows you how to create your own scrumptious architectural masterpiece using gingerbread kits from Cold Spring Bakery. It’s sure to be a tasty treat! \nHeld at the 510 Art Lab in Sauk Centre\, stick around following the class for an optional talk/tour courtesy of 510 Art Lab executive director\, Emily Kramer. Class size is limited\, so register today! \nFor more information\, visit stearnshistorymuseum.org or contact the museum at 320-253-8424 or development@stearns-museum.org. \n\nSpecial thanks to class sponsor\, GLTArchitects!
URL:https://stearnshistorymuseum.org/event-items/gingerbread-architecture-the-sweet-elements-of-design-3/
LOCATION:510 Art Lab\, 510 Sinclair Lewis Ave\, Sauk Centre\, MN\, 56378\, United States
ATTACH;FMTTYPE=image/jpeg:https://stearnshistorymuseum.org/wp-content/uploads/2024/10/stearns-house-1874-1884-scaled.jpg
END:VEVENT
END:VCALENDAR