BEGIN:VCALENDAR
VERSION:2.0
PRODID:-//Stearns History Museum - ECPv6.15.20//NONSGML v1.0//EN
CALSCALE:GREGORIAN
METHOD:PUBLISH
X-WR-CALNAME:Stearns History Museum
X-ORIGINAL-URL:https://stearnshistorymuseum.org
X-WR-CALDESC:Events for Stearns History Museum
REFRESH-INTERVAL;VALUE=DURATION:PT1H
X-Robots-Tag:noindex
X-PUBLISHED-TTL:PT1H
BEGIN:VTIMEZONE
TZID:America/Chicago
BEGIN:DAYLIGHT
TZOFFSETFROM:-0600
TZOFFSETTO:-0500
TZNAME:CDT
DTSTART:20240310T080000
END:DAYLIGHT
BEGIN:STANDARD
TZOFFSETFROM:-0500
TZOFFSETTO:-0600
TZNAME:CST
DTSTART:20241103T070000
END:STANDARD
BEGIN:DAYLIGHT
TZOFFSETFROM:-0600
TZOFFSETTO:-0500
TZNAME:CDT
DTSTART:20250309T080000
END:DAYLIGHT
BEGIN:STANDARD
TZOFFSETFROM:-0500
TZOFFSETTO:-0600
TZNAME:CST
DTSTART:20251102T070000
END:STANDARD
BEGIN:DAYLIGHT
TZOFFSETFROM:-0600
TZOFFSETTO:-0500
TZNAME:CDT
DTSTART:20260308T080000
END:DAYLIGHT
BEGIN:STANDARD
TZOFFSETFROM:-0500
TZOFFSETTO:-0600
TZNAME:CST
DTSTART:20261101T070000
END:STANDARD
END:VTIMEZONE
BEGIN:VEVENT
DTSTART;TZID=America/Chicago:20250306T180000
DTEND;TZID=America/Chicago:20250306T190000
DTSTAMP:20260424T164335
CREATED:20250212T211834Z
LAST-MODIFIED:20250212T220056Z
UID:10000686-1741284000-1741287600@stearnshistorymuseum.org
SUMMARY:History Unboxed- From Dust to Hope: Exploring Great Depression Records
DESCRIPTION:Join us for a hands on experience with records from our archives. you will learn about Stearns County and the great depression through a variety of materials. \nThis is a FREE event!
URL:https://stearnshistorymuseum.org/event-items/history-unboxed-from-dust-to-hope-exploring-great-depression-records/
LOCATION:Stearns History Museum\, 235 33rd Ave S\, St Cloud\, MN\, 56301\, United States
ATTACH;FMTTYPE=image/png:https://stearnshistorymuseum.org/wp-content/uploads/2025/02/depression.png
END:VEVENT
BEGIN:VEVENT
DTSTART;TZID=America/Chicago:20250312T090000
DTEND;TZID=America/Chicago:20250312T103000
DTSTAMP:20260424T164335
CREATED:20250104T164325Z
LAST-MODIFIED:20250212T171042Z
UID:10000677-1741770000-1741775400@stearnshistorymuseum.org
SUMMARY:Breakfast Club- Miranda Steuckrath\, "J.F. Powers & Betty Wahl"
DESCRIPTION:Join us on Wednesday\, March 12th at 9 am\, as SHM Librarian Miranda as she discusses the life and works of J.F. Powers and Betty Wahl\, two remarkable literary voices known for their keen insights into faith\, family\, and everyday life. Discover how their literary contributions\, personal histories\, and lasting impact on American literature continue to resonate today. \nCoffee and donuts will be served. \nCost of program is $7\, FREE for SHM Members.
URL:https://stearnshistorymuseum.org/event-items/breakfast-club-miranda-steukrath-j-f-powers-betty-wahl/
LOCATION:Stearns History Museum\, 235 33rd Ave S\, St Cloud\, MN\, 56301\, United States
ATTACH;FMTTYPE=image/png:https://stearnshistorymuseum.org/wp-content/uploads/2025/01/Breakfast-Club-Thumbnail.png
END:VEVENT
BEGIN:VEVENT
DTSTART;TZID=America/Chicago:20250315T100000
DTEND;TZID=America/Chicago:20250315T170000
DTSTAMP:20260424T164335
CREATED:20250227T172415Z
LAST-MODIFIED:20250227T222034Z
UID:10000692-1742032800-1742058000@stearnshistorymuseum.org
SUMMARY:Barnes and Noble Book Fair- Stearns History Museum
DESCRIPTION:Visit Barnes and Noble in St. Cloud\, MN\, March 15th – March 20th\, and when you checkout\, mention that you are supporting the Stearns History Museum! A portion of the sales will benefit our organization. \nStearns History Museum staff will be at the St. Cloud Barnes and Noble on Saturday\, March 15th! \nCan’t visit in person?  Visit bn.com/bookfairs to support us online from 03/15/25 to 03/20/25 by entering Bookfair ID 12850970 at checkout. \n 
URL:https://stearnshistorymuseum.org/event-items/barnes-and-noble-book-fair-stearns-history-museum/
LOCATION:Barnes and Noble\, Rainbow Village\, 3940 Division St.\, Saint Cloud\, 56301\, United States
ATTACH;FMTTYPE=image/png:https://stearnshistorymuseum.org/wp-content/uploads/2025/02/Black-and-Green-Video-Centric-Youtube-Thumbnail-1.png
END:VEVENT
BEGIN:VEVENT
DTSTART;TZID=America/Chicago:20250320T100000
DTEND;TZID=America/Chicago:20250320T113000
DTSTAMP:20260424T164335
CREATED:20250212T165744Z
LAST-MODIFIED:20250212T170736Z
UID:10000685-1742464800-1742470200@stearnshistorymuseum.org
SUMMARY:Heritage Circle Tour- Stonehouse Stained Glass Studio
DESCRIPTION:Join us for the first Heritage Circle Tour of 2025! On March 20th\, Heritage Circle members are invited to the Stonehouse Stained Glass Studio in Avon for a tour of the facility\, led by stained glass artist Marty Stone. \n\nHeritage Circle Tours are for museum members at the Heritage Circle level only. If interested in becoming a Heritage Circle member\, click here- https://stearnshistorymuseum.wildapricot.org/sys/website/?pageId=1075182
URL:https://stearnshistorymuseum.org/event-items/heritage-circle-tour-stonehouse-stained-glass-studio/
LOCATION:Stonehouse Stained Glass Studio\, 438 First Street Southeast\, Avon\, MN\, 56310\, United States
ATTACH;FMTTYPE=image/png:https://stearnshistorymuseum.org/wp-content/uploads/2025/02/Heritage-Circle-Thumbnail.png
END:VEVENT
BEGIN:VEVENT
DTSTART;TZID=America/Chicago:20250320T180000
DTEND;TZID=America/Chicago:20250320T193000
DTSTAMP:20260424T164335
CREATED:20250104T181541Z
LAST-MODIFIED:20250212T220326Z
UID:10000680-1742493600-1742499000@stearnshistorymuseum.org
SUMMARY:Hops and History: A Brief History of Stearns County Scams at Bad Habit Brewing Company
DESCRIPTION:Join Caitlin\, Eric\, and Grant from the museum as they talk about the background of some of the most infamous scams in Stearns County history\, including everything from Samuel Pandolfo’s mail fraud to the architect behind one of the biggest Ponzi schemes in the history of the United States. And that’s not all! There are some scams and scandals you may not have heard of- but you will! \nProgram will be held at Bad Habit Brewing in St. Joseph\, MN \nCost of Program is $10\, FREE for museum members
URL:https://stearnshistorymuseum.org/event-items/hops-and-history-a-brief-history-of-stearns-county-scams/
LOCATION:Bad Habit Brewing Company
ATTACH;FMTTYPE=image/jpeg:https://stearnshistorymuseum.org/wp-content/uploads/2025/01/SHM-12581-North-Star-Aircraft-Corporation-Factory-entrance-St-Cloud-Minn-1928-scaled.jpg
END:VEVENT
BEGIN:VEVENT
DTSTART;TZID=America/Chicago:20250328T160000
DTEND;TZID=America/Chicago:20250328T190000
DTSTAMP:20260424T164335
CREATED:20250227T165001Z
LAST-MODIFIED:20250312T162053Z
UID:10000691-1743177600-1743188400@stearnshistorymuseum.org
SUMMARY:Stearns History Museum Fix-It Clinic
DESCRIPTION:Something broken? Bring it to a Fix-It Clinic! \nThis clinic will have a strong focus on mending but you are welcome to bring small appliances\, clothing\, electronics\, toys\, or other household items. Volunteers will help you fix or mend your things for free. \n\nNo pre-registration required.\nItems should be carry-in size for hands-on repair.\nFirst-come\, first-served. Limit 2 items per household.\nItems accepted until 30 minutes before the event ends.
URL:https://stearnshistorymuseum.org/event-items/stearns-history-museum-fix-it-clinic/
LOCATION:510 Art Lab\, 510 Sinclair Lewis Ave\, Sauk Centre\, MN\, 56378\, United States
ATTACH;FMTTYPE=image/png:https://stearnshistorymuseum.org/wp-content/uploads/2025/02/Blue-Modern-Coach-TIps-YouTube-Thumbnail-1.png
END:VEVENT
END:VCALENDAR