BEGIN:VCALENDAR
VERSION:2.0
PRODID:-//Stearns History Museum - ECPv6.15.20//NONSGML v1.0//EN
CALSCALE:GREGORIAN
METHOD:PUBLISH
X-WR-CALNAME:Stearns History Museum
X-ORIGINAL-URL:https://stearnshistorymuseum.org
X-WR-CALDESC:Events for Stearns History Museum
REFRESH-INTERVAL;VALUE=DURATION:PT1H
X-Robots-Tag:noindex
X-PUBLISHED-TTL:PT1H
BEGIN:VTIMEZONE
TZID:America/Chicago
BEGIN:DAYLIGHT
TZOFFSETFROM:-0600
TZOFFSETTO:-0500
TZNAME:CDT
DTSTART:20240310T080000
END:DAYLIGHT
BEGIN:STANDARD
TZOFFSETFROM:-0500
TZOFFSETTO:-0600
TZNAME:CST
DTSTART:20241103T070000
END:STANDARD
BEGIN:DAYLIGHT
TZOFFSETFROM:-0600
TZOFFSETTO:-0500
TZNAME:CDT
DTSTART:20250309T080000
END:DAYLIGHT
BEGIN:STANDARD
TZOFFSETFROM:-0500
TZOFFSETTO:-0600
TZNAME:CST
DTSTART:20251102T070000
END:STANDARD
BEGIN:DAYLIGHT
TZOFFSETFROM:-0600
TZOFFSETTO:-0500
TZNAME:CDT
DTSTART:20260308T080000
END:DAYLIGHT
BEGIN:STANDARD
TZOFFSETFROM:-0500
TZOFFSETTO:-0600
TZNAME:CST
DTSTART:20261101T070000
END:STANDARD
END:VTIMEZONE
BEGIN:VEVENT
DTSTART;TZID=America/Chicago:20250606T160000
DTEND;TZID=America/Chicago:20250606T190000
DTSTAMP:20260424T042030
CREATED:20250502T170630Z
LAST-MODIFIED:20250502T171643Z
UID:10000704-1749225600-1749236400@stearnshistorymuseum.org
SUMMARY:Stearns History Museum Fix-It Clinic
DESCRIPTION:Something broken? Bring it to a Fix-It Clinic! \nThis clinic will have a strong focus on mending but you are welcome to bring small appliances\, clothing\, electronics\, toys\, or other household items. Volunteers will help you fix or mend your things for free. \n\nNo pre-registration required.\nItems should be carry-in size for hands-on repair.\nFirst-come\, first-served. Limit 2 items per household.\nItems accepted until 30 minutes before the event ends.
URL:https://stearnshistorymuseum.org/event-items/stearns-history-museum-fix-it-clinic-2/
LOCATION:Paramount Center for the Arts Technical Site\, 248 33rd Ave S.\, Waite Park\, Minnesota
ATTACH;FMTTYPE=image/png:https://stearnshistorymuseum.org/wp-content/uploads/2025/05/Blue-Modern-Coach-TIps-YouTube-Thumbnail-2.png
END:VEVENT
BEGIN:VEVENT
DTSTART;TZID=America/Chicago:20250611T090000
DTEND;TZID=America/Chicago:20250611T103000
DTSTAMP:20260424T042030
CREATED:20250507T190520Z
LAST-MODIFIED:20250507T190520Z
UID:10000707-1749632400-1749637800@stearnshistorymuseum.org
SUMMARY:Breakfast Club- Randy Marchand\, "History of the Pan Car and the Pantowners"
DESCRIPTION:Join us on Wednesday\, June 11th\, as  Pantowners Antique Auto Club member and former president Randy Marchand describes in detail the history of the Pan Car itself\, while also talking about the 50 years of history of this wonderful antique car club! \nCoffee and donuts provided. \nCost of program is $7\, FREE for SHM Members!
URL:https://stearnshistorymuseum.org/event-items/breakfast-club-randy-marchand-history-of-the-pan-car-and-the-pantowners/
LOCATION:Stearns History Museum\, 235 33rd Ave S\, St Cloud\, MN\, 56301\, United States
ATTACH;FMTTYPE=image/png:https://stearnshistorymuseum.org/wp-content/uploads/2025/05/Breakfast-Club-Thumbnail-3.png
END:VEVENT
BEGIN:VEVENT
DTSTART;TZID=America/Chicago:20250624T180000
DTEND;TZID=America/Chicago:20250624T200000
DTSTAMP:20260424T042030
CREATED:20250213T162916Z
LAST-MODIFIED:20250213T190747Z
UID:10000689-1750788000-1750795200@stearnshistorymuseum.org
SUMMARY:Euchre Unfolded: History\, Tricks\, and Play
DESCRIPTION:Join us for an evening of cards\, culture\, and competition! Discover the fascinating history of Eurchre and then jump into a friendly tournament. Whether you’re a seasoned player or new to the game\, this event promises fun for all! \nRegistration is REQUIRED for this FREE event!
URL:https://stearnshistorymuseum.org/event-items/euchre-unfolded-history-tricks-and-play/
LOCATION:Stearns History Museum\, 235 33rd Ave S\, St Cloud\, MN\, 56301\, United States
ATTACH;FMTTYPE=image/jpeg:https://stearnshistorymuseum.org/wp-content/uploads/2025/02/euchre.jpg
END:VEVENT
END:VCALENDAR