BEGIN:VCALENDAR
VERSION:2.0
PRODID:-//Stearns History Museum - ECPv6.15.20//NONSGML v1.0//EN
CALSCALE:GREGORIAN
METHOD:PUBLISH
X-WR-CALNAME:Stearns History Museum
X-ORIGINAL-URL:https://stearnshistorymuseum.org
X-WR-CALDESC:Events for Stearns History Museum
REFRESH-INTERVAL;VALUE=DURATION:PT1H
X-Robots-Tag:noindex
X-PUBLISHED-TTL:PT1H
BEGIN:VTIMEZONE
TZID:America/Chicago
BEGIN:DAYLIGHT
TZOFFSETFROM:-0600
TZOFFSETTO:-0500
TZNAME:CDT
DTSTART:20230312T080000
END:DAYLIGHT
BEGIN:STANDARD
TZOFFSETFROM:-0500
TZOFFSETTO:-0600
TZNAME:CST
DTSTART:20231105T070000
END:STANDARD
BEGIN:DAYLIGHT
TZOFFSETFROM:-0600
TZOFFSETTO:-0500
TZNAME:CDT
DTSTART:20240310T080000
END:DAYLIGHT
BEGIN:STANDARD
TZOFFSETFROM:-0500
TZOFFSETTO:-0600
TZNAME:CST
DTSTART:20241103T070000
END:STANDARD
BEGIN:DAYLIGHT
TZOFFSETFROM:-0600
TZOFFSETTO:-0500
TZNAME:CDT
DTSTART:20250309T080000
END:DAYLIGHT
BEGIN:STANDARD
TZOFFSETFROM:-0500
TZOFFSETTO:-0600
TZNAME:CST
DTSTART:20251102T070000
END:STANDARD
END:VTIMEZONE
BEGIN:VEVENT
DTSTART;TZID=America/Chicago:20241113T090000
DTEND;TZID=America/Chicago:20241113T100000
DTSTAMP:20260425T221201
CREATED:20231212T172453Z
LAST-MODIFIED:20241001T171246Z
UID:10000635-1731488400-1731492000@stearnshistorymuseum.org
SUMMARY:Breakfast Club: Secrets of the Waite Park Car Shops Revealed! Barry Schreiber and Ray Schouviller
DESCRIPTION:Join us to learn about the Car Shops of Waite Park\, where 100\,000 boxcars and hundreds of cabooses were built for the Great Northern Railway between 1901 and 1986. Expert Ray Schouviller will share historic photos of the shops\, share its history\, and talk about why it shut down in the 1980s. \nEvent is FREE for members; $7 for nonmembers. Donuts and coffee will be served.
URL:https://stearnshistorymuseum.org/event-items/breakfast-club-7/
LOCATION:Stearns History Museum\, 235 33rd Ave S\, St Cloud\, MN\, 56301\, United States
CATEGORIES:Breakfast Club,Programs
ATTACH;FMTTYPE=image/png:https://stearnshistorymuseum.org/wp-content/uploads/2023/12/Breakfast-Club-Thumbnail.png
END:VEVENT
END:VCALENDAR