BEGIN:VCALENDAR
VERSION:2.0
PRODID:-//Stearns History Museum - ECPv6.15.20//NONSGML v1.0//EN
CALSCALE:GREGORIAN
METHOD:PUBLISH
X-WR-CALNAME:Stearns History Museum
X-ORIGINAL-URL:https://stearnshistorymuseum.org
X-WR-CALDESC:Events for Stearns History Museum
REFRESH-INTERVAL;VALUE=DURATION:PT1H
X-Robots-Tag:noindex
X-PUBLISHED-TTL:PT1H
BEGIN:VTIMEZONE
TZID:America/Chicago
BEGIN:DAYLIGHT
TZOFFSETFROM:-0600
TZOFFSETTO:-0500
TZNAME:CDT
DTSTART:20230312T080000
END:DAYLIGHT
BEGIN:STANDARD
TZOFFSETFROM:-0500
TZOFFSETTO:-0600
TZNAME:CST
DTSTART:20231105T070000
END:STANDARD
BEGIN:DAYLIGHT
TZOFFSETFROM:-0600
TZOFFSETTO:-0500
TZNAME:CDT
DTSTART:20240310T080000
END:DAYLIGHT
BEGIN:STANDARD
TZOFFSETFROM:-0500
TZOFFSETTO:-0600
TZNAME:CST
DTSTART:20241103T070000
END:STANDARD
BEGIN:DAYLIGHT
TZOFFSETFROM:-0600
TZOFFSETTO:-0500
TZNAME:CDT
DTSTART:20250309T080000
END:DAYLIGHT
BEGIN:STANDARD
TZOFFSETFROM:-0500
TZOFFSETTO:-0600
TZNAME:CST
DTSTART:20251102T070000
END:STANDARD
END:VTIMEZONE
BEGIN:VEVENT
DTSTART;TZID=America/Chicago:20241219T160000
DTEND;TZID=America/Chicago:20241219T200000
DTSTAMP:20260425T072919
CREATED:20231212T173023Z
LAST-MODIFIED:20241018T150248Z
UID:10000639-1734624000-1734638400@stearnshistorymuseum.org
SUMMARY:Escape Room - 1984
DESCRIPTION:In our third annual Escape Room\, Big Brother is watching. The past has been erased\, and the future is bleak. It is up to you to find enough historic relics to make yourself remember. Otherwise\, you will be trapped\, and under surveillance\, forever. \nSlots at 4\, 5\, 6\, and 7 pm. 6 people maximum per slot. $25/person\, $20/members. Member code required.
URL:https://stearnshistorymuseum.org/event-items/escape-room-1984-3/
LOCATION:Stearns History Museum\, 235 33rd Ave S\, St Cloud\, MN\, 56301\, United States
CATEGORIES:Events
ATTACH;FMTTYPE=image/png:https://stearnshistorymuseum.org/wp-content/uploads/2023/12/Calendar-Thumbnail-Escape-Room.png
END:VEVENT
BEGIN:VEVENT
DTSTART;TZID=America/Chicago:20241220T160000
DTEND;TZID=America/Chicago:20241220T200000
DTSTAMP:20260425T072919
CREATED:20240816T203119Z
LAST-MODIFIED:20241018T150323Z
UID:10000656-1734710400-1734724800@stearnshistorymuseum.org
SUMMARY:Escape Room - 1984
DESCRIPTION:In our third annual Escape Room\, Big Brother is watching. The past has been erased\, and the future is bleak. It is up to you to find enough historic relics to make yourself remember. Otherwise\, you will be trapped\, and under surveillance\, forever. \nSlots at 4\, 5\, 6\, and 7 pm. 6 people maximum per slot. $25/person\, $20/members. Member code required.
URL:https://stearnshistorymuseum.org/event-items/escape-room-1984-6/
LOCATION:Stearns History Museum\, 235 33rd Ave S\, St Cloud\, MN\, 56301\, United States
CATEGORIES:Events
ATTACH;FMTTYPE=image/png:https://stearnshistorymuseum.org/wp-content/uploads/2023/12/Calendar-Thumbnail-Escape-Room.png
END:VEVENT
BEGIN:VEVENT
DTSTART;TZID=America/Chicago:20241221T130000
DTEND;TZID=America/Chicago:20241221T170000
DTSTAMP:20260425T072919
CREATED:20240816T203158Z
LAST-MODIFIED:20241204T175603Z
UID:10000657-1734786000-1734800400@stearnshistorymuseum.org
SUMMARY:Escape Room - 1984
DESCRIPTION:In our third annual Escape Room\, Big Brother is watching. The past has been erased\, and the future is bleak. It is up to you to find enough historic relics to make yourself remember. Otherwise\, you will be trapped\, and under surveillance\, forever. \nSlots at 1\, 2\, 3\, ad 4. 6 people maximum per slot. $25/person\, $20/members. Member code required.
URL:https://stearnshistorymuseum.org/event-items/escape-room-1984-7/
LOCATION:Stearns History Museum\, 235 33rd Ave S\, St Cloud\, MN\, 56301\, United States
CATEGORIES:Events
ATTACH;FMTTYPE=image/png:https://stearnshistorymuseum.org/wp-content/uploads/2023/12/Copy-of-Calendar-thumbnail-cemetery-tour.png
END:VEVENT
END:VCALENDAR