BEGIN:VCALENDAR
VERSION:2.0
PRODID:-//Stearns History Museum - ECPv6.15.20//NONSGML v1.0//EN
CALSCALE:GREGORIAN
METHOD:PUBLISH
X-ORIGINAL-URL:https://stearnshistorymuseum.org
X-WR-CALDESC:Events for Stearns History Museum
REFRESH-INTERVAL;VALUE=DURATION:PT1H
X-Robots-Tag:noindex
X-PUBLISHED-TTL:PT1H
BEGIN:VTIMEZONE
TZID:America/Chicago
BEGIN:DAYLIGHT
TZOFFSETFROM:-0600
TZOFFSETTO:-0500
TZNAME:CDT
DTSTART:20240310T080000
END:DAYLIGHT
BEGIN:STANDARD
TZOFFSETFROM:-0500
TZOFFSETTO:-0600
TZNAME:CST
DTSTART:20241103T070000
END:STANDARD
BEGIN:DAYLIGHT
TZOFFSETFROM:-0600
TZOFFSETTO:-0500
TZNAME:CDT
DTSTART:20250309T080000
END:DAYLIGHT
BEGIN:STANDARD
TZOFFSETFROM:-0500
TZOFFSETTO:-0600
TZNAME:CST
DTSTART:20251102T070000
END:STANDARD
BEGIN:DAYLIGHT
TZOFFSETFROM:-0600
TZOFFSETTO:-0500
TZNAME:CDT
DTSTART:20260308T080000
END:DAYLIGHT
BEGIN:STANDARD
TZOFFSETFROM:-0500
TZOFFSETTO:-0600
TZNAME:CST
DTSTART:20261101T070000
END:STANDARD
END:VTIMEZONE
BEGIN:VEVENT
DTSTART;TZID=America/Chicago:20250709T090000
DTEND;TZID=America/Chicago:20250709T103000
DTSTAMP:20260424T090507
CREATED:20250513T161258Z
LAST-MODIFIED:20250513T161258Z
UID:10000708-1752051600-1752057000@stearnshistorymuseum.org
SUMMARY:Breakfast Club- Randal Dietrich\, "The Minnesota Military Museum"
DESCRIPTION:Join us on Wednesday\, July 9th\, as Randal Dietrich\, Executive Director of the Minnesota Military Museum\, talks about the museum’s beautiful new building\, and plans for the future! \nCost of program is $7\, FREE for SHM Members!
URL:https://stearnshistorymuseum.org/event-items/breakfast-club-randal-dietrich-the-minnesota-military-museum/
LOCATION:Stearns History Museum\, 235 33rd Ave S\, St Cloud\, MN\, 56301\, United States
ATTACH;FMTTYPE=image/png:https://stearnshistorymuseum.org/wp-content/uploads/2025/05/Breakfast-Club-Thumbnail-4.png
END:VEVENT
BEGIN:VEVENT
DTSTART;TZID=America/Chicago:20250712T100000
DTEND;TZID=America/Chicago:20250713T160000
DTSTAMP:20260424T090507
CREATED:20250322T200711Z
LAST-MODIFIED:20250322T200856Z
UID:10000694-1752314400-1752422400@stearnshistorymuseum.org
SUMMARY:At War and At Home: the WWII Experience
DESCRIPTION:Join us on July 12 and 13th as we turn the clock back to 1945 once again! We will have authentic WWII era military vehicles\, weapons demonstrations\, children’s activities\, WWII trivia\, and more! Hot dogs will also be available for purchase throughout the event. \nSaturday\, July 12th: 10am-4pm \nSunday\, July 13th: 11am-4pm \n 
URL:https://stearnshistorymuseum.org/event-items/at-war-and-at-home-the-wwii-experience/
LOCATION:Stearns History Museum\, 235 33rd Ave S\, St Cloud\, MN\, 56301\, United States
ATTACH;FMTTYPE=image/jpeg:https://stearnshistorymuseum.org/wp-content/uploads/2025/03/MHC3_51211_women_read_WAVES_pamphlets_St_Cloud_published_15_March_1943-scaled.jpg
END:VEVENT
END:VCALENDAR