BEGIN:VCALENDAR
VERSION:2.0
PRODID:-//Stearns History Museum - ECPv6.15.20//NONSGML v1.0//EN
CALSCALE:GREGORIAN
METHOD:PUBLISH
X-ORIGINAL-URL:https://stearnshistorymuseum.org
X-WR-CALDESC:Events for Stearns History Museum
REFRESH-INTERVAL;VALUE=DURATION:PT1H
X-Robots-Tag:noindex
X-PUBLISHED-TTL:PT1H
BEGIN:VTIMEZONE
TZID:America/Chicago
BEGIN:DAYLIGHT
TZOFFSETFROM:-0600
TZOFFSETTO:-0500
TZNAME:CDT
DTSTART:20240310T080000
END:DAYLIGHT
BEGIN:STANDARD
TZOFFSETFROM:-0500
TZOFFSETTO:-0600
TZNAME:CST
DTSTART:20241103T070000
END:STANDARD
BEGIN:DAYLIGHT
TZOFFSETFROM:-0600
TZOFFSETTO:-0500
TZNAME:CDT
DTSTART:20250309T080000
END:DAYLIGHT
BEGIN:STANDARD
TZOFFSETFROM:-0500
TZOFFSETTO:-0600
TZNAME:CST
DTSTART:20251102T070000
END:STANDARD
BEGIN:DAYLIGHT
TZOFFSETFROM:-0600
TZOFFSETTO:-0500
TZNAME:CDT
DTSTART:20260308T080000
END:DAYLIGHT
BEGIN:STANDARD
TZOFFSETFROM:-0500
TZOFFSETTO:-0600
TZNAME:CST
DTSTART:20261101T070000
END:STANDARD
END:VTIMEZONE
BEGIN:VEVENT
DTSTART;TZID=America/Chicago:20250814T100000
DTEND;TZID=America/Chicago:20250814T113000
DTSTAMP:20260424T073039
CREATED:20250624T194929Z
LAST-MODIFIED:20250702T203633Z
UID:10000710-1755165600-1755171000@stearnshistorymuseum.org
SUMMARY:Heritage Circle Tour: MAXBAT
DESCRIPTION:Heritage Circle Members\, join us on August 14th at MAXBAT\, and learn about the history of this Stearns County baseball bat manufacturing company\, located in Brooten! \n 
URL:https://stearnshistorymuseum.org/event-items/heritage-circle-tour-maxbat/
LOCATION:Stearns History Museum\, 235 33rd Ave S\, St Cloud\, MN\, 56301\, United States
ATTACH;FMTTYPE=image/webp:https://stearnshistorymuseum.org/wp-content/uploads/2025/07/Heritage-Circle-Tour-MaxBat-Thumbnail.webp
END:VEVENT
BEGIN:VEVENT
DTSTART;TZID=America/Chicago:20250815T130000
DTEND;TZID=America/Chicago:20250815T160000
DTSTAMP:20260424T073039
CREATED:20250502T171543Z
LAST-MODIFIED:20250502T171543Z
UID:10000705-1755262800-1755273600@stearnshistorymuseum.org
SUMMARY:Stearns History Museum Fix-It Clinic
DESCRIPTION:Something broken? Bring it to a Fix-It Clinic! \nThis clinic will have a strong focus on mending but you are welcome to bring small appliances\, clothing\, electronics\, toys\, or other household items. Volunteers will help you fix or mend your things for free. \n\nNo pre-registration required.\nItems should be carry-in size for hands-on repair.\nFirst-come\, first-served. Limit 2 items per household.\nItems accepted until 30 minutes before the event ends.
URL:https://stearnshistorymuseum.org/event-items/stearns-history-museum-fix-it-clinic-3/
LOCATION:The Whitney Senior Center\, 1527 Northway Dr\, St. Cloud\, MN\, 56303\, United States
ATTACH;FMTTYPE=image/png:https://stearnshistorymuseum.org/wp-content/uploads/2025/05/Blue-Modern-Coach-TIps-YouTube-Thumbnail-3.png
END:VEVENT
END:VCALENDAR