BEGIN:VCALENDAR
VERSION:2.0
PRODID:-//Stearns History Museum - ECPv6.15.20//NONSGML v1.0//EN
CALSCALE:GREGORIAN
METHOD:PUBLISH
X-ORIGINAL-URL:https://stearnshistorymuseum.org
X-WR-CALDESC:Events for Stearns History Museum
REFRESH-INTERVAL;VALUE=DURATION:PT1H
X-Robots-Tag:noindex
X-PUBLISHED-TTL:PT1H
BEGIN:VTIMEZONE
TZID:America/Chicago
BEGIN:DAYLIGHT
TZOFFSETFROM:-0600
TZOFFSETTO:-0500
TZNAME:CDT
DTSTART:20240310T080000
END:DAYLIGHT
BEGIN:STANDARD
TZOFFSETFROM:-0500
TZOFFSETTO:-0600
TZNAME:CST
DTSTART:20241103T070000
END:STANDARD
BEGIN:DAYLIGHT
TZOFFSETFROM:-0600
TZOFFSETTO:-0500
TZNAME:CDT
DTSTART:20250309T080000
END:DAYLIGHT
BEGIN:STANDARD
TZOFFSETFROM:-0500
TZOFFSETTO:-0600
TZNAME:CST
DTSTART:20251102T070000
END:STANDARD
BEGIN:DAYLIGHT
TZOFFSETFROM:-0600
TZOFFSETTO:-0500
TZNAME:CDT
DTSTART:20260308T080000
END:DAYLIGHT
BEGIN:STANDARD
TZOFFSETFROM:-0500
TZOFFSETTO:-0600
TZNAME:CST
DTSTART:20261101T070000
END:STANDARD
END:VTIMEZONE
BEGIN:VEVENT
DTSTART;TZID=America/Chicago:20250918T180000
DTEND;TZID=America/Chicago:20250918T193000
DTSTAMP:20260424T014200
CREATED:20250701T191225Z
LAST-MODIFIED:20250902T192046Z
UID:10000711-1758218400-1758223800@stearnshistorymuseum.org
SUMMARY:Hops and History: Prohibition Stories of Stearns County
DESCRIPTION:Join us at the historic Fisher’s Supper Club in Avon\, as we regale you with fascinating tales from the days of moonshine\, speakeasies\, Minnesota 13\, and police raids in Stearns County. You won’t want to miss it! \n$10/person\, Members FREE
URL:https://stearnshistorymuseum.org/event-items/hops-and-history-prohibition-stories-of-stearns-county/
LOCATION:Fisher’s Club\, 525 1st St. NW\, Avon\, 56310\, United States
ATTACH;FMTTYPE=image/webp:https://stearnshistorymuseum.org/wp-content/uploads/2025/07/Copy-of-Sept-2025-Hops-Thumbnail.webp
END:VEVENT
END:VCALENDAR