BEGIN:VCALENDAR
VERSION:2.0
PRODID:-//Stearns History Museum - ECPv6.15.20//NONSGML v1.0//EN
CALSCALE:GREGORIAN
METHOD:PUBLISH
X-ORIGINAL-URL:https://stearnshistorymuseum.org
X-WR-CALDESC:Events for Stearns History Museum
REFRESH-INTERVAL;VALUE=DURATION:PT1H
X-Robots-Tag:noindex
X-PUBLISHED-TTL:PT1H
BEGIN:VTIMEZONE
TZID:America/Chicago
BEGIN:DAYLIGHT
TZOFFSETFROM:-0600
TZOFFSETTO:-0500
TZNAME:CDT
DTSTART:20240310T080000
END:DAYLIGHT
BEGIN:STANDARD
TZOFFSETFROM:-0500
TZOFFSETTO:-0600
TZNAME:CST
DTSTART:20241103T070000
END:STANDARD
BEGIN:DAYLIGHT
TZOFFSETFROM:-0600
TZOFFSETTO:-0500
TZNAME:CDT
DTSTART:20250309T080000
END:DAYLIGHT
BEGIN:STANDARD
TZOFFSETFROM:-0500
TZOFFSETTO:-0600
TZNAME:CST
DTSTART:20251102T070000
END:STANDARD
BEGIN:DAYLIGHT
TZOFFSETFROM:-0600
TZOFFSETTO:-0500
TZNAME:CDT
DTSTART:20260308T080000
END:DAYLIGHT
BEGIN:STANDARD
TZOFFSETFROM:-0500
TZOFFSETTO:-0600
TZNAME:CST
DTSTART:20261101T070000
END:STANDARD
END:VTIMEZONE
BEGIN:VEVENT
DTSTART;TZID=America/Chicago:20251023T100000
DTEND;TZID=America/Chicago:20251023T113000
DTSTAMP:20260424T014516
CREATED:20250923T184934Z
LAST-MODIFIED:20250923T184934Z
UID:10000726-1761213600-1761219000@stearnshistorymuseum.org
SUMMARY:Heritage Circle: Avon Hills Folk School
DESCRIPTION:Save your place! Register today for the next Heritage Circle Tour at the Avon Hills Folk School in Avon\, Minnesota. The tour takes place on Thursday\, October 23rd\, at 10 am. Since its inception in 2017\, the school has worked to build community through hands-on learning and the sharing and teaching of traditional practices\, arts and crafts. The school traces its history back to 1969 when Francis and Karen Schellinger\, the parents of founder and executive director\, Chris Schellinger\, purchased the land. Join us for a tour of the school and learn about its origins\, mission and vision\, and plans for the future. Don’t miss this members-only tour! \nQuestions? Call Ann Marie at 320-253-8424 or email at development@stearns-museum.org
URL:https://stearnshistorymuseum.org/event-items/heritage-circle-avon-hills-folk-school/
LOCATION:Avon Hills Folk School\, 31335 Kalla Lake Rd\, Avon\, MN\, 56310\, United States
ATTACH;FMTTYPE=image/png:https://stearnshistorymuseum.org/wp-content/uploads/2025/09/Heritage-Circle-Tour-Avon-Hills-Folk-School.png
END:VEVENT
BEGIN:VEVENT
DTSTART;TZID=America/Chicago:20251025T170000
DTEND;TZID=America/Chicago:20251025T180000
DTSTAMP:20260424T014516
CREATED:20250919T194730Z
LAST-MODIFIED:20250919T194730Z
UID:10000720-1761411600-1761415200@stearnshistorymuseum.org
SUMMARY:Sundown Cemetery Tour: Oak Hill Cemetery in Melrose\, October 25th
DESCRIPTION:Join us on our annual fall tradition- the Sundown Cemetery Tour! We will start the tour around 5pm\, and will spend about an hour visiting graves and telling stories. \nHot cocoa will be served beforehand\, so come early! \nCost: $10/person\, FREE for members!
URL:https://stearnshistorymuseum.org/event-items/sundown-cemetery-tour-oak-hill-cemetery-in-melrose-october-25th/
LOCATION:Oak Hill Cemetery\, East Main Street\, Melrose\, MN\, 56352\, United States
ATTACH;FMTTYPE=image/webp:https://stearnshistorymuseum.org/wp-content/uploads/2025/09/Oak-Hill-Thumbnail-Oct-25.webp
END:VEVENT
END:VCALENDAR