BEGIN:VCALENDAR
VERSION:2.0
PRODID:-//Stearns History Museum - ECPv6.15.20//NONSGML v1.0//EN
CALSCALE:GREGORIAN
METHOD:PUBLISH
X-ORIGINAL-URL:https://stearnshistorymuseum.org
X-WR-CALDESC:Events for Stearns History Museum
REFRESH-INTERVAL;VALUE=DURATION:PT1H
X-Robots-Tag:noindex
X-PUBLISHED-TTL:PT1H
BEGIN:VTIMEZONE
TZID:America/Chicago
BEGIN:DAYLIGHT
TZOFFSETFROM:-0600
TZOFFSETTO:-0500
TZNAME:CDT
DTSTART:20250309T080000
END:DAYLIGHT
BEGIN:STANDARD
TZOFFSETFROM:-0500
TZOFFSETTO:-0600
TZNAME:CST
DTSTART:20251102T070000
END:STANDARD
BEGIN:DAYLIGHT
TZOFFSETFROM:-0600
TZOFFSETTO:-0500
TZNAME:CDT
DTSTART:20260308T080000
END:DAYLIGHT
BEGIN:STANDARD
TZOFFSETFROM:-0500
TZOFFSETTO:-0600
TZNAME:CST
DTSTART:20261101T070000
END:STANDARD
BEGIN:DAYLIGHT
TZOFFSETFROM:-0600
TZOFFSETTO:-0500
TZNAME:CDT
DTSTART:20270314T080000
END:DAYLIGHT
BEGIN:STANDARD
TZOFFSETFROM:-0500
TZOFFSETTO:-0600
TZNAME:CST
DTSTART:20271107T070000
END:STANDARD
END:VTIMEZONE
BEGIN:VEVENT
DTSTART;TZID=America/Chicago:20260211T090000
DTEND;TZID=America/Chicago:20260211T100000
DTSTAMP:20260423T151346
CREATED:20251220T173403Z
LAST-MODIFIED:20251220T173403Z
UID:10000762-1770800400-1770804000@stearnshistorymuseum.org
SUMMARY:Breakfast Club- "Images of America: St. Cloud"
DESCRIPTION:Join Stearns History Museum Librarian Miranda Stueckrath and Archivist Grant Wilson as they discuss their upcoming book\, “Images of America: St. Cloud\,” the research involved\, the process of choosing photos from our massive collection\, and how the book came together. Don’t miss it! \nCost: $7/person\, FREE for members
URL:https://stearnshistorymuseum.org/event-items/breakfast-club-images-of-america-st-cloud/
LOCATION:Stearns History Museum\, 235 33rd Ave S\, St Cloud\, MN\, 56301\, United States
ATTACH;FMTTYPE=image/png:https://stearnshistorymuseum.org/wp-content/uploads/2025/12/Black-Ripped-Podcast-Youtube-Thumbnail-1.png
END:VEVENT
END:VCALENDAR