BEGIN:VCALENDAR
VERSION:2.0
PRODID:-//Stearns History Museum - ECPv6.15.20//NONSGML v1.0//EN
CALSCALE:GREGORIAN
METHOD:PUBLISH
X-WR-CALNAME:Stearns History Museum
X-ORIGINAL-URL:https://stearnshistorymuseum.org
X-WR-CALDESC:Events for Stearns History Museum
REFRESH-INTERVAL;VALUE=DURATION:PT1H
X-Robots-Tag:noindex
X-PUBLISHED-TTL:PT1H
BEGIN:VTIMEZONE
TZID:America/Chicago
BEGIN:DAYLIGHT
TZOFFSETFROM:-0600
TZOFFSETTO:-0500
TZNAME:CDT
DTSTART:20250309T080000
END:DAYLIGHT
BEGIN:STANDARD
TZOFFSETFROM:-0500
TZOFFSETTO:-0600
TZNAME:CST
DTSTART:20251102T070000
END:STANDARD
BEGIN:DAYLIGHT
TZOFFSETFROM:-0600
TZOFFSETTO:-0500
TZNAME:CDT
DTSTART:20260308T080000
END:DAYLIGHT
BEGIN:STANDARD
TZOFFSETFROM:-0500
TZOFFSETTO:-0600
TZNAME:CST
DTSTART:20261101T070000
END:STANDARD
BEGIN:DAYLIGHT
TZOFFSETFROM:-0600
TZOFFSETTO:-0500
TZNAME:CDT
DTSTART:20270314T080000
END:DAYLIGHT
BEGIN:STANDARD
TZOFFSETFROM:-0500
TZOFFSETTO:-0600
TZNAME:CST
DTSTART:20271107T070000
END:STANDARD
END:VTIMEZONE
BEGIN:VEVENT
DTSTART;TZID=America/Chicago:20260513T090000
DTEND;TZID=America/Chicago:20260513T100000
DTSTAMP:20260423T121341
CREATED:20260304T163617Z
LAST-MODIFIED:20260304T163617Z
UID:10000777-1778662800-1778666400@stearnshistorymuseum.org
SUMMARY:Breakfast Club: Charlotte Stephens\, Eve and Gary Wallinga\, "Our Natural Parks and Trails"
DESCRIPTION:Learn how three decades of advocacy by the Natural Parks and Trails Coalition had an extraordinary impact on preserving our region’s natural heritage\, and see photos of stunning nearby natural parks.
URL:https://stearnshistorymuseum.org/event-items/breakfast-club-charlotte-stephens-eve-and-gary-wallinga-our-natural-parks-and-trails/
LOCATION:Stearns History Museum\, 235 33rd Ave S\, St Cloud\, MN\, 56301\, United States
ATTACH;FMTTYPE=image/png:https://stearnshistorymuseum.org/wp-content/uploads/2026/03/May2026-BC-thumbnail.png
END:VEVENT
BEGIN:VEVENT
DTSTART;TZID=America/Chicago:20260514T180000
DTEND;TZID=America/Chicago:20260514T190000
DTSTAMP:20260423T121341
CREATED:20251230T171557Z
LAST-MODIFIED:20251230T171557Z
UID:10000766-1778781600-1778785200@stearnshistorymuseum.org
SUMMARY:History Unboxed: From the Bleachers to the Archives
DESCRIPTION:Join us for an evening that brings the crack of the bat and the cheers of the crowd back to life! This program invites you to explore Stearns County’s rich baseball tradition through various materials. Learn how town ball shaped the heart of local communities and relive the legacy of the St. Cloud Rox. \nParticipants will get hands-on time with historical materials and uncover ways baseball has connected generations both on and off the field. \nThis program costs $5 for non-members\, is FREE for members
URL:https://stearnshistorymuseum.org/event-items/history-unboxed-from-the-bleachers-to-the-archives/
LOCATION:Stearns History Museum\, 235 33rd Ave S\, St Cloud\, MN\, 56301\, United States
ATTACH;FMTTYPE=image/jpeg:https://stearnshistorymuseum.org/wp-content/uploads/2025/12/HU-Baseball-Thumbnail.jpg
END:VEVENT
END:VCALENDAR