BEGIN:VCALENDAR
VERSION:2.0
PRODID:-//Stearns History Museum - ECPv6.15.20//NONSGML v1.0//EN
CALSCALE:GREGORIAN
METHOD:PUBLISH
X-ORIGINAL-URL:https://stearnshistorymuseum.org
X-WR-CALDESC:Events for Stearns History Museum
REFRESH-INTERVAL;VALUE=DURATION:PT1H
X-Robots-Tag:noindex
X-PUBLISHED-TTL:PT1H
BEGIN:VTIMEZONE
TZID:America/Chicago
BEGIN:DAYLIGHT
TZOFFSETFROM:-0600
TZOFFSETTO:-0500
TZNAME:CDT
DTSTART:20220313T080000
END:DAYLIGHT
BEGIN:STANDARD
TZOFFSETFROM:-0500
TZOFFSETTO:-0600
TZNAME:CST
DTSTART:20221106T070000
END:STANDARD
BEGIN:DAYLIGHT
TZOFFSETFROM:-0600
TZOFFSETTO:-0500
TZNAME:CDT
DTSTART:20230312T080000
END:DAYLIGHT
BEGIN:STANDARD
TZOFFSETFROM:-0500
TZOFFSETTO:-0600
TZNAME:CST
DTSTART:20231105T070000
END:STANDARD
BEGIN:DAYLIGHT
TZOFFSETFROM:-0600
TZOFFSETTO:-0500
TZNAME:CDT
DTSTART:20240310T080000
END:DAYLIGHT
BEGIN:STANDARD
TZOFFSETFROM:-0500
TZOFFSETTO:-0600
TZNAME:CST
DTSTART:20241103T070000
END:STANDARD
END:VTIMEZONE
BEGIN:VEVENT
DTSTART;TZID=America/Chicago:20230416T120000
DTEND;TZID=America/Chicago:20230416T160000
DTSTAMP:20260423T064708
CREATED:20230323T204700Z
LAST-MODIFIED:20230414T151520Z
UID:10000548-1681646400-1681660800@stearnshistorymuseum.org
SUMMARY:Our Narratives Artist Retreat
DESCRIPTION:Join us for another Our Narratives Artist Retreat at the Stearns History Museum! Saturday and Sunday is jam packed with creating\, collaborating\, and connecting. All artists are welcome! \nFacilitated by Heidi Jeub and TERRELL X (aka Carnage The Executioner)\, this workshop has allowed dozens of artists find their authentic voice\, and creative confidence\, to tell their own stories. \nThe Stearns History Museum provides a historic context\, even if you are a newcomer to the region! How do you fit into the history of this community? We have ideas … \n$45 – Registration is necessary. Go to www.heijeuarts.org or email info@heijeuarts.org.
URL:https://stearnshistorymuseum.org/event-items/our-narratives-artist-retreat/2023-04-16/
LOCATION:Stearns History Museum\, 235 33rd Ave S\, St Cloud\, MN\, 56301\, United States
CATEGORIES:Events
ATTACH;FMTTYPE=image/png:https://stearnshistorymuseum.org/wp-content/uploads/2023/03/Our-Narratives-Project-Artist-Retreat.png
ORGANIZER;CN="Heijeu Arts":MAILTO:info@heijeuarts.org
END:VEVENT
BEGIN:VEVENT
DTSTART;TZID=America/Chicago:20230415T100000
DTEND;TZID=America/Chicago:20230415T160000
DTSTAMP:20260423T064708
CREATED:20230323T204700Z
LAST-MODIFIED:20230414T151520Z
UID:10000547-1681552800-1681574400@stearnshistorymuseum.org
SUMMARY:Our Narratives Artist Retreat
DESCRIPTION:Join us for another Our Narratives Artist Retreat at the Stearns History Museum! Saturday and Sunday is jam packed with creating\, collaborating\, and connecting. All artists are welcome! \nFacilitated by Heidi Jeub and TERRELL X (aka Carnage The Executioner)\, this workshop has allowed dozens of artists find their authentic voice\, and creative confidence\, to tell their own stories. \nThe Stearns History Museum provides a historic context\, even if you are a newcomer to the region! How do you fit into the history of this community? We have ideas … \n$45 – Registration is necessary. Go to www.heijeuarts.org or email info@heijeuarts.org.
URL:https://stearnshistorymuseum.org/event-items/our-narratives-artist-retreat/2023-04-15/
LOCATION:Stearns History Museum\, 235 33rd Ave S\, St Cloud\, MN\, 56301\, United States
CATEGORIES:Events
ATTACH;FMTTYPE=image/png:https://stearnshistorymuseum.org/wp-content/uploads/2023/03/Our-Narratives-Project-Artist-Retreat.png
ORGANIZER;CN="Heijeu Arts":MAILTO:info@heijeuarts.org
END:VEVENT
END:VCALENDAR