BEGIN:VCALENDAR
VERSION:2.0
PRODID:-//Stearns History Museum - ECPv6.15.20//NONSGML v1.0//EN
CALSCALE:GREGORIAN
METHOD:PUBLISH
X-ORIGINAL-URL:https://stearnshistorymuseum.org
X-WR-CALDESC:Events for Stearns History Museum
REFRESH-INTERVAL;VALUE=DURATION:PT1H
X-Robots-Tag:noindex
X-PUBLISHED-TTL:PT1H
BEGIN:VTIMEZONE
TZID:America/Chicago
BEGIN:DAYLIGHT
TZOFFSETFROM:-0600
TZOFFSETTO:-0500
TZNAME:CDT
DTSTART:20210314T080000
END:DAYLIGHT
BEGIN:STANDARD
TZOFFSETFROM:-0500
TZOFFSETTO:-0600
TZNAME:CST
DTSTART:20211107T070000
END:STANDARD
BEGIN:DAYLIGHT
TZOFFSETFROM:-0600
TZOFFSETTO:-0500
TZNAME:CDT
DTSTART:20220313T080000
END:DAYLIGHT
BEGIN:STANDARD
TZOFFSETFROM:-0500
TZOFFSETTO:-0600
TZNAME:CST
DTSTART:20221106T070000
END:STANDARD
BEGIN:DAYLIGHT
TZOFFSETFROM:-0600
TZOFFSETTO:-0500
TZNAME:CDT
DTSTART:20230312T080000
END:DAYLIGHT
BEGIN:STANDARD
TZOFFSETFROM:-0500
TZOFFSETTO:-0600
TZNAME:CST
DTSTART:20231105T070000
END:STANDARD
END:VTIMEZONE
BEGIN:VEVENT
DTSTART;TZID=America/Chicago:20220603T113000
DTEND;TZID=America/Chicago:20220603T143000
DTSTAMP:20260424T032602
CREATED:20220422T172050Z
LAST-MODIFIED:20220422T172155Z
UID:10000439-1654255800-1654266600@stearnshistorymuseum.org
SUMMARY:Melrose Area Historical Society -  Presentation by Hermann Welp and Bernd Struckmann
DESCRIPTION:The Melrose Area Historical Society is sponsoring a presentation by Hermann Welp and Bernd Struckmann from Lower Saxony\, Germany. They will be talking about life in Northern Germany in the 1830s and why many emigrated to the United States. They’ve helped several local families trace their ancestors\, since many of them came from Lower Saxony. \nJoin the society for their presentation on German customs and organizations as well as a lunch buffet at Greenwald Pub on Friday\, June 3\, 2022 from 11:30a.m. to 2:30 p.m.  \nGuests are welcome to socialize with friends\, visitors and the presenters. The buffet style meal will be $15. You may even want to practice your German in conversation. More information will follow at a later date. \n 
URL:https://stearnshistorymuseum.org/event-items/5730/
LOCATION:Greenwald Pub\, 310 1st Ave N\, Greenwald\, Minnesota\, 56335\, United States
CATEGORIES:Events
END:VEVENT
END:VCALENDAR