BEGIN:VCALENDAR
VERSION:2.0
PRODID:-//Stearns History Museum - ECPv6.15.20//NONSGML v1.0//EN
CALSCALE:GREGORIAN
METHOD:PUBLISH
X-ORIGINAL-URL:https://stearnshistorymuseum.org
X-WR-CALDESC:Events for Stearns History Museum
REFRESH-INTERVAL;VALUE=DURATION:PT1H
X-Robots-Tag:noindex
X-PUBLISHED-TTL:PT1H
BEGIN:VTIMEZONE
TZID:America/Chicago
BEGIN:DAYLIGHT
TZOFFSETFROM:-0600
TZOFFSETTO:-0500
TZNAME:CDT
DTSTART:20220313T080000
END:DAYLIGHT
BEGIN:STANDARD
TZOFFSETFROM:-0500
TZOFFSETTO:-0600
TZNAME:CST
DTSTART:20221106T070000
END:STANDARD
BEGIN:DAYLIGHT
TZOFFSETFROM:-0600
TZOFFSETTO:-0500
TZNAME:CDT
DTSTART:20230312T080000
END:DAYLIGHT
BEGIN:STANDARD
TZOFFSETFROM:-0500
TZOFFSETTO:-0600
TZNAME:CST
DTSTART:20231105T070000
END:STANDARD
BEGIN:DAYLIGHT
TZOFFSETFROM:-0600
TZOFFSETTO:-0500
TZNAME:CDT
DTSTART:20240310T080000
END:DAYLIGHT
BEGIN:STANDARD
TZOFFSETFROM:-0500
TZOFFSETTO:-0600
TZNAME:CST
DTSTART:20241103T070000
END:STANDARD
END:VTIMEZONE
BEGIN:VEVENT
DTSTART;TZID=America/Chicago:20230122T113000
DTEND;TZID=America/Chicago:20230122T113000
DTSTAMP:20260423T125645
CREATED:20230116T014259Z
LAST-MODIFIED:20230117T205841Z
UID:10000532-1674387000-1674387000@stearnshistorymuseum.org
SUMMARY:Historski: A History Ski Tour of Riverside Park
DESCRIPTION:Love history? Like to ski? Take the central Minnesota park history challenge and try Historski: A History Ski Tour of Riverside Park during the 15th Annual Sons of Norway Barnelopet (children’s ski) at Riverside Park on Sunday\, January 22\, 2023. \nCheck your knowledge while doing a scavenger hunt along some of Riverside Park’s great ski trails. Stop by the park shelter (1725 Kilian Boulevard Southeast) to get started. This self- guided\, free event is open to all ages. Event starts at 11:30 a.m. \nHistorski: A History Ski Tour of Riverside Park is hosted by the Stearns History Museum with support from the Central MN Youth Ski Club\, Nordic Ski Club of Central Minnesota and St. Cloud (Trollheim) Sons of Norway Lodge. For more information/to register\, go to www.rethos.org/classes\, contact info@stearns-museum.org or call 320/253-8424. \n10th St. Bridge\, St. Cloud State University\, 1910 Image courtesy SCSU Archives.
URL:https://stearnshistorymuseum.org/event-items/historski-a-history-ski-tour-of-riverside-park/
LOCATION:Riverside Park\, 1725 Kilian Blvd\, St. Cloud\, MN\, 56304\, United States
CATEGORIES:Events
ATTACH;FMTTYPE=image/jpeg:https://stearnshistorymuseum.org/wp-content/uploads/2023/01/00765-scaled.jpg
END:VEVENT
END:VCALENDAR