BEGIN:VCALENDAR
VERSION:2.0
PRODID:-//Stearns History Museum - ECPv6.15.20//NONSGML v1.0//EN
CALSCALE:GREGORIAN
METHOD:PUBLISH
X-WR-CALNAME:Stearns History Museum
X-ORIGINAL-URL:https://stearnshistorymuseum.org
X-WR-CALDESC:Events for Stearns History Museum
REFRESH-INTERVAL;VALUE=DURATION:PT1H
X-Robots-Tag:noindex
X-PUBLISHED-TTL:PT1H
BEGIN:VTIMEZONE
TZID:America/Chicago
BEGIN:DAYLIGHT
TZOFFSETFROM:-0600
TZOFFSETTO:-0500
TZNAME:CDT
DTSTART:20220313T080000
END:DAYLIGHT
BEGIN:STANDARD
TZOFFSETFROM:-0500
TZOFFSETTO:-0600
TZNAME:CST
DTSTART:20221106T070000
END:STANDARD
BEGIN:DAYLIGHT
TZOFFSETFROM:-0600
TZOFFSETTO:-0500
TZNAME:CDT
DTSTART:20230312T080000
END:DAYLIGHT
BEGIN:STANDARD
TZOFFSETFROM:-0500
TZOFFSETTO:-0600
TZNAME:CST
DTSTART:20231105T070000
END:STANDARD
BEGIN:DAYLIGHT
TZOFFSETFROM:-0600
TZOFFSETTO:-0500
TZNAME:CDT
DTSTART:20240310T080000
END:DAYLIGHT
BEGIN:STANDARD
TZOFFSETFROM:-0500
TZOFFSETTO:-0600
TZNAME:CST
DTSTART:20241103T070000
END:STANDARD
END:VTIMEZONE
BEGIN:VEVENT
DTSTART;TZID=America/Chicago:20230429T130000
DTEND;TZID=America/Chicago:20230429T160000
DTSTAMP:20260423T065256
CREATED:20230411T192532Z
LAST-MODIFIED:20230411T192532Z
UID:10000562-1682773200-1682784000@stearnshistorymuseum.org
SUMMARY:Oak Savanna Park History Scavenger Hunt
DESCRIPTION:The Fox House. Clitty Lake. A gas station that doubled as a home\, office\, hotel\, railway station and general store. Discover all this and more during the Oak Savanna Park History Scavenger Hunt! Bring your history detective skills to this free\, self-guided\, family-friendly event. Explore a beautiful park setting while learning more about architecture and natural history in Central Minnesota. \nPick up a scavenger hunt form and get started at the Sherburne History Center in Becker\, Minnesota (10775 27th  Avenue Southeast). The hunt runs 1-4 p.m. on Saturday\, April 29\, 2023. A special bonus for the day\,\ncourtesy of the Sherburne History Center\, is a free folk concert by local musician\, Dennis Warner\, and craft- making activities at the museum. The folk concert and craft-making activities start at 2 p.m. Bring your friends and family to spend the afternoon enjoying history and culture! \nFor more information and to register https://www.rethos.org/classes or contact Ann Marie Johnson\, Rethos Central MN Education Coordinator based at the Stearns History Museum at CentralMN@rethos.org or 320-253-8424. Rethos is pleased to partner with The Stearns History Museum for Central Minnesota education programs. This project has been financed in part with funds provided by the State of Minnesota from the Arts and Cultural Heritage Fund through the Minnesota Historical Society. \nRethos web link: www.rethos.org/events \nImage of Fox House\, 2000. Photo courtesy Sherburne History Center
URL:https://stearnshistorymuseum.org/event-items/oak-savanna-park-history-scavenger-hunt/
LOCATION:Sherburne History Center\, Becker\, 10775 27th Ave SE\, Becker\, MN\, 55308\, United States
CATEGORIES:Events,Programs
ATTACH;FMTTYPE=image/jpeg:https://stearnshistorymuseum.org/wp-content/uploads/2023/04/thumbnail_LGV-Fox-House-006.jpg
END:VEVENT
END:VCALENDAR