BEGIN:VCALENDAR
VERSION:2.0
PRODID:-//Stearns History Museum - ECPv6.15.20//NONSGML v1.0//EN
CALSCALE:GREGORIAN
METHOD:PUBLISH
X-ORIGINAL-URL:https://stearnshistorymuseum.org
X-WR-CALDESC:Events for Stearns History Museum
REFRESH-INTERVAL;VALUE=DURATION:PT1H
X-Robots-Tag:noindex
X-PUBLISHED-TTL:PT1H
BEGIN:VTIMEZONE
TZID:America/Chicago
BEGIN:DAYLIGHT
TZOFFSETFROM:-0600
TZOFFSETTO:-0500
TZNAME:CDT
DTSTART:20210314T080000
END:DAYLIGHT
BEGIN:STANDARD
TZOFFSETFROM:-0500
TZOFFSETTO:-0600
TZNAME:CST
DTSTART:20211107T070000
END:STANDARD
BEGIN:DAYLIGHT
TZOFFSETFROM:-0600
TZOFFSETTO:-0500
TZNAME:CDT
DTSTART:20220313T080000
END:DAYLIGHT
BEGIN:STANDARD
TZOFFSETFROM:-0500
TZOFFSETTO:-0600
TZNAME:CST
DTSTART:20221106T070000
END:STANDARD
BEGIN:DAYLIGHT
TZOFFSETFROM:-0600
TZOFFSETTO:-0500
TZNAME:CDT
DTSTART:20230312T080000
END:DAYLIGHT
BEGIN:STANDARD
TZOFFSETFROM:-0500
TZOFFSETTO:-0600
TZNAME:CST
DTSTART:20231105T070000
END:STANDARD
END:VTIMEZONE
BEGIN:VEVENT
DTSTART;TZID=America/Chicago:20220528T100000
DTEND;TZID=America/Chicago:20220528T113000
DTSTAMP:20260424T014010
CREATED:20220325T192256Z
LAST-MODIFIED:20220325T192256Z
UID:10000437-1653732000-1653737400@stearnshistorymuseum.org
SUMMARY:Kiwanis Walk & Roll Parade
DESCRIPTION:Please join us for the Kiwanis led Walk & Roll Parade at Heritage Park! We are offering free admission to the Museum (5/28 only) to anyone participating in the parade. \nThe Kiwanis will be joined by the Sauk Rapids Color Guard\, St. Cloud Police Department\, LEAF\, and more. There will be fun for everyone including giveaways\, lawn games\, etc. and best of all\, this is a completely FREE event! \n\nWhen: Saturday\, May 28 10am – 11:30am\nWhere: Heritage Park (Stearns History Museum)\nQuestions? Go to stcloudkiwanis.org\, stearnshistorymuseum.org\, or call the Museum at 320-253-8424
URL:https://stearnshistorymuseum.org/event-items/kiwanis-walk-roll-parade/
LOCATION:Stearns History Museum\, 235 33rd Ave S\, St Cloud\, MN\, 56301\, United States
CATEGORIES:Events
ATTACH;FMTTYPE=image/png:https://stearnshistorymuseum.org/wp-content/uploads/2022/03/Screen-Shot-2022-03-25-at-2.21.33-PM.png
END:VEVENT
END:VCALENDAR