BEGIN:VCALENDAR
VERSION:2.0
PRODID:-//Stearns History Museum - ECPv6.15.20//NONSGML v1.0//EN
CALSCALE:GREGORIAN
METHOD:PUBLISH
X-ORIGINAL-URL:https://stearnshistorymuseum.org
X-WR-CALDESC:Events for Stearns History Museum
REFRESH-INTERVAL;VALUE=DURATION:PT1H
X-Robots-Tag:noindex
X-PUBLISHED-TTL:PT1H
BEGIN:VTIMEZONE
TZID:America/Chicago
BEGIN:DAYLIGHT
TZOFFSETFROM:-0600
TZOFFSETTO:-0500
TZNAME:CDT
DTSTART:20230312T080000
END:DAYLIGHT
BEGIN:STANDARD
TZOFFSETFROM:-0500
TZOFFSETTO:-0600
TZNAME:CST
DTSTART:20231105T070000
END:STANDARD
BEGIN:DAYLIGHT
TZOFFSETFROM:-0600
TZOFFSETTO:-0500
TZNAME:CDT
DTSTART:20240310T080000
END:DAYLIGHT
BEGIN:STANDARD
TZOFFSETFROM:-0500
TZOFFSETTO:-0600
TZNAME:CST
DTSTART:20241103T070000
END:STANDARD
BEGIN:DAYLIGHT
TZOFFSETFROM:-0600
TZOFFSETTO:-0500
TZNAME:CDT
DTSTART:20250309T080000
END:DAYLIGHT
BEGIN:STANDARD
TZOFFSETFROM:-0500
TZOFFSETTO:-0600
TZNAME:CST
DTSTART:20251102T070000
END:STANDARD
BEGIN:DAYLIGHT
TZOFFSETFROM:-0600
TZOFFSETTO:-0500
TZNAME:CDT
DTSTART:20260308T080000
END:DAYLIGHT
BEGIN:STANDARD
TZOFFSETFROM:-0500
TZOFFSETTO:-0600
TZNAME:CST
DTSTART:20261101T070000
END:STANDARD
BEGIN:DAYLIGHT
TZOFFSETFROM:-0600
TZOFFSETTO:-0500
TZNAME:CDT
DTSTART:20270314T080000
END:DAYLIGHT
BEGIN:STANDARD
TZOFFSETFROM:-0500
TZOFFSETTO:-0600
TZNAME:CST
DTSTART:20271107T070000
END:STANDARD
END:VTIMEZONE
BEGIN:VEVENT
DTSTART;TZID=America/Chicago:20260319T180000
DTEND;TZID=America/Chicago:20260319T190000
DTSTAMP:20260423T095921
CREATED:20260122T180556Z
LAST-MODIFIED:20260122T180556Z
UID:10000767-1773943200-1773946800@stearnshistorymuseum.org
SUMMARY:Hops and History- Georgeville: Pioneer Outpost to Hippie Commune
DESCRIPTION:Tucked into the southern edge of Stearns County\, the town of Georgeville has transformed many times\, from a pioneer outpost\, to a nightlife hotspot\, a hippie commune to a ghost town. Join us for a fascinating look at this small community with a big story\, one of resilience\, reinvention\, and the spirit of community.
URL:https://stearnshistorymuseum.org/event-items/hops-and-history-georgeville-pioneer-outpost-to-hippie-commune/
LOCATION:Bad Habit Brewing Company
ATTACH;FMTTYPE=image/png:https://stearnshistorymuseum.org/wp-content/uploads/2026/01/March-2026-hops-thumbnail-1.png
END:VEVENT
BEGIN:VEVENT
DTSTART;TZID=America/Chicago:20251120T180000
DTEND;TZID=America/Chicago:20251120T193000
DTSTAMP:20260423T095921
CREATED:20250902T193503Z
LAST-MODIFIED:20250930T165928Z
UID:10000715-1763661600-1763667000@stearnshistorymuseum.org
SUMMARY:Hops and History: History of the Fergus Falls State Hospital with Chris Schuelke
DESCRIPTION:Join us at Bad Habit Brewing in St. Joseph\, as Executive Director of Ottertail Historical Society Chris Schuelke talks about the history of the state’s most famous state hospital\, which first opened in 1890 to solve overcrowding issues at other hospitals. \n$10/person\, Members FREE
URL:https://stearnshistorymuseum.org/event-items/hops-and-history-history-of-the-fergus-falls-state-hospital-with-chris-schuelke/
LOCATION:Bad Habit Brewing Company
ATTACH;FMTTYPE=image/png:https://stearnshistorymuseum.org/wp-content/uploads/2025/09/Nov.-2025-Hops-Thumbnail.png
END:VEVENT
BEGIN:VEVENT
DTSTART;TZID=America/Chicago:20250320T180000
DTEND;TZID=America/Chicago:20250320T193000
DTSTAMP:20260423T095921
CREATED:20250104T181541Z
LAST-MODIFIED:20250212T220326Z
UID:10000680-1742493600-1742499000@stearnshistorymuseum.org
SUMMARY:Hops and History: A Brief History of Stearns County Scams at Bad Habit Brewing Company
DESCRIPTION:Join Caitlin\, Eric\, and Grant from the museum as they talk about the background of some of the most infamous scams in Stearns County history\, including everything from Samuel Pandolfo’s mail fraud to the architect behind one of the biggest Ponzi schemes in the history of the United States. And that’s not all! There are some scams and scandals you may not have heard of- but you will! \nProgram will be held at Bad Habit Brewing in St. Joseph\, MN \nCost of Program is $10\, FREE for museum members
URL:https://stearnshistorymuseum.org/event-items/hops-and-history-a-brief-history-of-stearns-county-scams/
LOCATION:Bad Habit Brewing Company
ATTACH;FMTTYPE=image/jpeg:https://stearnshistorymuseum.org/wp-content/uploads/2025/01/SHM-12581-North-Star-Aircraft-Corporation-Factory-entrance-St-Cloud-Minn-1928-scaled.jpg
END:VEVENT
BEGIN:VEVENT
DTSTART;TZID=America/Chicago:20240321T170000
DTEND;TZID=America/Chicago:20240321T190000
DTSTAMP:20260423T095921
CREATED:20231212T164838Z
LAST-MODIFIED:20240220T170512Z
UID:10000618-1711040400-1711047600@stearnshistorymuseum.org
SUMMARY:Hops & History- Kary Janousek- "When the Past is Present"
DESCRIPTION:Join Fargo photographer and artist Kary Janousek to learn about the amazing Victorian wet plate collodion process invented in 1851\, what a tintype and ambrotype is\, the basic steps of creating an image\, and how she will be using this amazing form of photography to bring the past into the present at historical sites across the Dakotas in 2024. \nCost: $10 for non-members\, FREE for members \n 
URL:https://stearnshistorymuseum.org/event-items/hops-history/
LOCATION:Bad Habit Brewing Company
CATEGORIES:Events,Hops & History,Programs
ATTACH;FMTTYPE=image/png:https://stearnshistorymuseum.org/wp-content/uploads/2023/12/Beige-Minimalist-Vlog-Daily-Routine-YouTube-Thumbnail-1.png
END:VEVENT
END:VCALENDAR