BEGIN:VCALENDAR
VERSION:2.0
PRODID:-//Stearns History Museum - ECPv6.15.20//NONSGML v1.0//EN
CALSCALE:GREGORIAN
METHOD:PUBLISH
X-WR-CALNAME:Stearns History Museum
X-ORIGINAL-URL:https://stearnshistorymuseum.org
X-WR-CALDESC:Events for Stearns History Museum
REFRESH-INTERVAL;VALUE=DURATION:PT1H
X-Robots-Tag:noindex
X-PUBLISHED-TTL:PT1H
BEGIN:VTIMEZONE
TZID:America/Chicago
BEGIN:DAYLIGHT
TZOFFSETFROM:-0600
TZOFFSETTO:-0500
TZNAME:CDT
DTSTART:20210314T080000
END:DAYLIGHT
BEGIN:STANDARD
TZOFFSETFROM:-0500
TZOFFSETTO:-0600
TZNAME:CST
DTSTART:20211107T070000
END:STANDARD
BEGIN:DAYLIGHT
TZOFFSETFROM:-0600
TZOFFSETTO:-0500
TZNAME:CDT
DTSTART:20220313T080000
END:DAYLIGHT
BEGIN:STANDARD
TZOFFSETFROM:-0500
TZOFFSETTO:-0600
TZNAME:CST
DTSTART:20221106T070000
END:STANDARD
BEGIN:DAYLIGHT
TZOFFSETFROM:-0600
TZOFFSETTO:-0500
TZNAME:CDT
DTSTART:20230312T080000
END:DAYLIGHT
BEGIN:STANDARD
TZOFFSETFROM:-0500
TZOFFSETTO:-0600
TZNAME:CST
DTSTART:20231105T070000
END:STANDARD
BEGIN:DAYLIGHT
TZOFFSETFROM:-0600
TZOFFSETTO:-0500
TZNAME:CDT
DTSTART:20240310T080000
END:DAYLIGHT
BEGIN:STANDARD
TZOFFSETFROM:-0500
TZOFFSETTO:-0600
TZNAME:CST
DTSTART:20241103T070000
END:STANDARD
END:VTIMEZONE
BEGIN:VEVENT
DTSTART;TZID=America/Chicago:20230914T190000
DTEND;TZID=America/Chicago:20230914T203000
DTSTAMP:20260423T081607
CREATED:20230428T190753Z
LAST-MODIFIED:20230907T161104Z
UID:10000567-1694718000-1694723400@stearnshistorymuseum.org
SUMMARY:Hops & History: "Whiskey Shores" with Elizabeth Reisinger
DESCRIPTION:Register here!
URL:https://stearnshistorymuseum.org/event-items/hops-history-whiskey-shores-with-elizabeth-reisinger/
LOCATION:Beaver Island Brewing Company\, 216 6th Ave S\, St. Cloud\, MN\, 56301\, United States
CATEGORIES:Events,Hops & History,Programs
ATTACH;FMTTYPE=image/png:https://stearnshistorymuseum.org/wp-content/uploads/2023/02/Hops-and-History-Logo_430x270.png
END:VEVENT
BEGIN:VEVENT
DTSTART;TZID=America/Chicago:20230309T173000
DTEND;TZID=America/Chicago:20230309T190000
DTSTAMP:20260423T081607
CREATED:20221206T204853Z
LAST-MODIFIED:20230110T210408Z
UID:10000513-1678383000-1678388400@stearnshistorymuseum.org
SUMMARY:Hops & History: Unsolved Mysteries & Miracles of Stearns County w/ Caitlin & Eric @ Beaver Island
DESCRIPTION:Save the date for the first Hops and History of 2023! Caitlin and Eric will be talking about any interesting or unsolved mysteries/miracles they could find in their research of Stearns County. From miracles at Grasshopper Chapel to unsolved bank robberies and other true crimes. If you liked our last H&H program with Dean Klinkenberg (Mississippi River Mayhem)\, then this is another one you may enjoy! \nJoin us March 9\, 2023 5:30pm @ Beaver Island Brewing Company. $10/person\, Museum members are free. Call us or click here to register! \n 
URL:https://stearnshistorymuseum.org/event-items/hops-history-tbd/
LOCATION:Beaver Island Brewing Company\, 216 6th Ave S\, St. Cloud\, MN\, 56301\, United States
CATEGORIES:Hops & History,Programs
ATTACH;FMTTYPE=image/jpeg:https://stearnshistorymuseum.org/wp-content/uploads/2022/12/Hops-and-History-Flyer_March-1-1.jpg
END:VEVENT
BEGIN:VEVENT
DTSTART;TZID=America/Chicago:20221110T173000
DTEND;TZID=America/Chicago:20221110T190000
DTSTAMP:20260423T081607
CREATED:20220719T183021Z
LAST-MODIFIED:20221019T160024Z
UID:10000467-1668101400-1668106800@stearnshistorymuseum.org
SUMMARY:Hops & History: Mississippi River Mayhem with Dean Klinkenberg
DESCRIPTION:Join us for another Hops & History! This time\, we’ll be at Beaver Island Brewing Company learning more about the disasters and tragedies of the Mississippi River with writer and Mississippi River historian Dean Klinkenberg as he discusses his new book\, in which he explores the many disastrous events to have occurred on and along the river in the 19th and 20th centuries– from steamboat explosions to Yellow Fever epidemics\, floods\, and prohibition piracy. \n$7 for nonmembers and members are free! \nSo\, mark your calendars and get some cash ready for the bar! Call the Museum at 320.253.8424 with questions & to register or register online. \nRegister Today! \n \n 
URL:https://stearnshistorymuseum.org/event-items/hops-history-mississippi-river-mayhem-with-dean-klinkberg/
LOCATION:Beaver Island Brewing Company\, 216 6th Ave S\, St. Cloud\, MN\, 56301\, United States
CATEGORIES:Hops & History,Programs
ATTACH;FMTTYPE=image/jpeg:https://stearnshistorymuseum.org/wp-content/uploads/2022/07/Mississippi-River-Mayhem-Book-cover-photo_1600x1161.jpg
END:VEVENT
BEGIN:VEVENT
DTSTART;TZID=America/Chicago:20220228T173000
DTEND;TZID=America/Chicago:20220228T193000
DTSTAMP:20260423T081607
CREATED:20220209T214318Z
LAST-MODIFIED:20220209T214318Z
UID:10000430-1646069400-1646076600@stearnshistorymuseum.org
SUMMARY:Director’s Cut: Producing an Oral History
DESCRIPTION:You’re invited to join us at Beaver Island Brewing Company for Oral History Happy Hour! \nThis event will include a boxed dinner\, cash bar\, and a presentation by Jim Barkley of Sonant History about what it’s like to produce an oral history for SHM. Beaver Island’s own Chris Laumb’s oral history recording will be featured. \n\nTickets are $20/each\nRSVP online by February 21st (click here)\nQuestions? Email or call the Museum at info@stearns-museum.org or call 320-253-8424\nHosted by the Stearns History Museum 
URL:https://stearnshistorymuseum.org/event-items/directors-cut-producing-an-oral-history/
LOCATION:Beaver Island Brewing Company\, 216 6th Ave S\, St. Cloud\, MN\, 56301\, United States
CATEGORIES:Events
ATTACH;FMTTYPE=image/png:https://stearnshistorymuseum.org/wp-content/uploads/2022/01/Oral-History-Logos-04.png
END:VEVENT
END:VCALENDAR