BEGIN:VCALENDAR
VERSION:2.0
PRODID:-//Stearns History Museum - ECPv6.15.20//NONSGML v1.0//EN
CALSCALE:GREGORIAN
METHOD:PUBLISH
X-ORIGINAL-URL:https://stearnshistorymuseum.org
X-WR-CALDESC:Events for Stearns History Museum
REFRESH-INTERVAL;VALUE=DURATION:PT1H
X-Robots-Tag:noindex
X-PUBLISHED-TTL:PT1H
BEGIN:VTIMEZONE
TZID:America/Chicago
BEGIN:DAYLIGHT
TZOFFSETFROM:-0600
TZOFFSETTO:-0500
TZNAME:CDT
DTSTART:20210314T080000
END:DAYLIGHT
BEGIN:STANDARD
TZOFFSETFROM:-0500
TZOFFSETTO:-0600
TZNAME:CST
DTSTART:20211107T070000
END:STANDARD
BEGIN:DAYLIGHT
TZOFFSETFROM:-0600
TZOFFSETTO:-0500
TZNAME:CDT
DTSTART:20220313T080000
END:DAYLIGHT
BEGIN:STANDARD
TZOFFSETFROM:-0500
TZOFFSETTO:-0600
TZNAME:CST
DTSTART:20221106T070000
END:STANDARD
BEGIN:DAYLIGHT
TZOFFSETFROM:-0600
TZOFFSETTO:-0500
TZNAME:CDT
DTSTART:20230312T080000
END:DAYLIGHT
BEGIN:STANDARD
TZOFFSETFROM:-0500
TZOFFSETTO:-0600
TZNAME:CST
DTSTART:20231105T070000
END:STANDARD
END:VTIMEZONE
BEGIN:VEVENT
DTSTART;TZID=America/Chicago:20221102T103000
DTEND;TZID=America/Chicago:20221102T120000
DTSTAMP:20260423T081605
CREATED:20221025T182002Z
LAST-MODIFIED:20221101T164340Z
UID:10000497-1667385000-1667390400@stearnshistorymuseum.org
SUMMARY:Heritage Circle Tour @ SCSU Eastman Hall
DESCRIPTION:Please join us at 10:30 a.m. Wednesday\, November 2\, for a special Heritage Circle Tour\, featuring the newly-renovated Eastman Hall on the campus of St. Cloud State University. \nRenovated in 2019\, Eastman Hall is home to the new Center for Health and Wellness Innovation. University Archivist Tom Steman will lead the tour along with Medical Director Dr. Brent Nielsen and Director of Counseling and Psychological Services Jennifer Rocheleau Dorholt. Steman will talk about the structure’s history and renovation. Nielsen and Dorholt will share how the facility is being currently used. \n\n\nParking information: Parking passes will be made available for N Lot (near the Education building and the Wick Science building). You can pick them up at Eastman Hall before the tour. See SCSU campus parking map below. Reach out to us with questions! Thanks! (https://www.stcloudstate.edu/campusmap/parking/default.aspx). Lunch will be on your own at Garvey Commons (https://www5.stcloudstate.edu/campusmap/building.aspx?bldgAbbr=GC).\n\nPlease RSVP by the end of the day Monday\, October 31\, at info@stearns-museum.org or call 320-253-8424.\n\nHope to see you next week!
URL:https://stearnshistorymuseum.org/event-items/heritage-circle-tour-scsu-eastman-hall/
LOCATION:Eastman Hall – St. Cloud State University\, 850 1st Ave\, St. Cloud\, MN\, 56301\, United States
END:VEVENT
END:VCALENDAR