BEGIN:VCALENDAR
VERSION:2.0
PRODID:-//Stearns History Museum - ECPv6.15.20//NONSGML v1.0//EN
CALSCALE:GREGORIAN
METHOD:PUBLISH
X-ORIGINAL-URL:https://stearnshistorymuseum.org
X-WR-CALDESC:Events for Stearns History Museum
REFRESH-INTERVAL;VALUE=DURATION:PT1H
X-Robots-Tag:noindex
X-PUBLISHED-TTL:PT1H
BEGIN:VTIMEZONE
TZID:America/Chicago
BEGIN:DAYLIGHT
TZOFFSETFROM:-0600
TZOFFSETTO:-0500
TZNAME:CDT
DTSTART:20210314T080000
END:DAYLIGHT
BEGIN:STANDARD
TZOFFSETFROM:-0500
TZOFFSETTO:-0600
TZNAME:CST
DTSTART:20211107T070000
END:STANDARD
BEGIN:DAYLIGHT
TZOFFSETFROM:-0600
TZOFFSETTO:-0500
TZNAME:CDT
DTSTART:20220313T080000
END:DAYLIGHT
BEGIN:STANDARD
TZOFFSETFROM:-0500
TZOFFSETTO:-0600
TZNAME:CST
DTSTART:20221106T070000
END:STANDARD
BEGIN:DAYLIGHT
TZOFFSETFROM:-0600
TZOFFSETTO:-0500
TZNAME:CDT
DTSTART:20230312T080000
END:DAYLIGHT
BEGIN:STANDARD
TZOFFSETFROM:-0500
TZOFFSETTO:-0600
TZNAME:CST
DTSTART:20231105T070000
END:STANDARD
BEGIN:DAYLIGHT
TZOFFSETFROM:-0600
TZOFFSETTO:-0500
TZNAME:CDT
DTSTART:20240310T080000
END:DAYLIGHT
BEGIN:STANDARD
TZOFFSETFROM:-0500
TZOFFSETTO:-0600
TZNAME:CST
DTSTART:20241103T070000
END:STANDARD
END:VTIMEZONE
BEGIN:VEVENT
DTSTART;VALUE=DATE:20231118
DTEND;VALUE=DATE:20231119
DTSTAMP:20260425T053852
CREATED:20230815T173710Z
LAST-MODIFIED:20231013T141354Z
UID:10000609-1700265600-1700351999@stearnshistorymuseum.org
SUMMARY:Gingerbread Architecture - The Sweet Elements of Design
DESCRIPTION:Love gingerbread? A fan of architecture and construction? Dream of building your own home or designing a structure? Then this class is for you! \nLearn the basics of building construction and architectural design at this all-ages\, family-friendly\, kid-oriented workshop taught by Eric Cheever\, the fun-loving Exhibits & Collections Curator for the Stearns History Museum. Eric will show you the inner workings of construction and design and teach about basic building elements during this hands-on class. Engage your inner architect or builder while creating your own structural masterpiece using icing and gingerbread. It’s sure to be a sweet treat! \nGingerbread Architecture: The Sweet Elements of Design will be held twice: the first on November 18 and the second on December 2. \nThis class on November 18 will be held at the Great River Children’s Museum\, Lahr Building\, at 601 West St. Germain Street\, St. Cloud\, MN 56301. The class will be held from 11am-noon. \nGeneral admission is $15. Sliding scale admission options are also available. Register here. \nThis class is brought to you by Rethos: Places Reimagined. Rethos Education is financed in part by the State of Minnesota from the Arts and Cultural Heritage Fund through the Minnesota Historical Society. \nThis event is sponsored by GLTArchitects and Cold Spring Bakery.
URL:https://stearnshistorymuseum.org/event-items/gingerbread-architecture-the-sweet-elements-of-design/
LOCATION:Great River Children’s Museum\, 601 W St Germain St\, St. Cloud\, MN\, 56301\, United States
CATEGORIES:Events
ATTACH;FMTTYPE=image/jpeg:https://stearnshistorymuseum.org/wp-content/uploads/2023/08/image2-e1697125727425.jpeg
END:VEVENT
BEGIN:VEVENT
DTSTART;TZID=America/Chicago:20220914T100000
DTEND;TZID=America/Chicago:20220914T120000
DTSTAMP:20260425T053852
CREATED:20220719T164155Z
LAST-MODIFIED:20220908T151801Z
UID:10000461-1663149600-1663156800@stearnshistorymuseum.org
SUMMARY:Heritage Circle Tour at Great River Children's Museum
DESCRIPTION:Great news – we’re opening this Heritage Circle Tour to ALL Museum members!! Join us in Downtown St. Cloud for a special tour of the future Great River Children’s Museum on September 14 from 10am – 11:30am. See their future location and construction site as they work to build an amazing (and FUN!) resource for the children and families of Central Minnesota. We will chat with Executive Director Cassie Miles more about the project and how we can support! \nFollowing the tour\, we will be having lunch nearby in Downtown St. Cloud (location TBD\, bring cash). \nCall the Museum to register or for additional information. \n  \n 
URL:https://stearnshistorymuseum.org/event-items/heritage-circle-tour-at-great-river-childrens-museum/
LOCATION:Great River Children’s Museum\, 601 W St Germain St\, St. Cloud\, MN\, 56301\, United States
CATEGORIES:Events,Programs
ATTACH;FMTTYPE=image/png:https://stearnshistorymuseum.org/wp-content/uploads/2022/07/Screen-Shot-2022-04-14-at-2.18.11-PM.png
END:VEVENT
END:VCALENDAR