BEGIN:VCALENDAR
VERSION:2.0
PRODID:-//Stearns History Museum - ECPv6.15.20//NONSGML v1.0//EN
CALSCALE:GREGORIAN
METHOD:PUBLISH
X-WR-CALNAME:Stearns History Museum
X-ORIGINAL-URL:https://stearnshistorymuseum.org
X-WR-CALDESC:Events for Stearns History Museum
REFRESH-INTERVAL;VALUE=DURATION:PT1H
X-Robots-Tag:noindex
X-PUBLISHED-TTL:PT1H
BEGIN:VTIMEZONE
TZID:America/Chicago
BEGIN:DAYLIGHT
TZOFFSETFROM:-0600
TZOFFSETTO:-0500
TZNAME:CDT
DTSTART:20210314T080000
END:DAYLIGHT
BEGIN:STANDARD
TZOFFSETFROM:-0500
TZOFFSETTO:-0600
TZNAME:CST
DTSTART:20211107T070000
END:STANDARD
BEGIN:DAYLIGHT
TZOFFSETFROM:-0600
TZOFFSETTO:-0500
TZNAME:CDT
DTSTART:20220313T080000
END:DAYLIGHT
BEGIN:STANDARD
TZOFFSETFROM:-0500
TZOFFSETTO:-0600
TZNAME:CST
DTSTART:20221106T070000
END:STANDARD
BEGIN:DAYLIGHT
TZOFFSETFROM:-0600
TZOFFSETTO:-0500
TZNAME:CDT
DTSTART:20230312T080000
END:DAYLIGHT
BEGIN:STANDARD
TZOFFSETFROM:-0500
TZOFFSETTO:-0600
TZNAME:CST
DTSTART:20231105T070000
END:STANDARD
END:VTIMEZONE
BEGIN:VEVENT
DTSTART;TZID=America/Chicago:20221206T173000
DTEND;TZID=America/Chicago:20221206T190000
DTSTAMP:20260423T081238
CREATED:20221018T214406Z
LAST-MODIFIED:20221128T153708Z
UID:10000491-1670347800-1670353200@stearnshistorymuseum.org
SUMMARY:Civil War Roundtable: How the Civil War changed Christmas (meeting at Great River Regional Library in St. Cloud)
DESCRIPTION:Meeting Overview:  Christmas prior to the Civil War looked very different from what it does today.  Join us and learn how the Civil War changed Christmas.  At this special December CWRT meeting\, we’ll have FOOD from authentic Civil War recipes as well as 1860’s inspired Christmas ornaments and decorations.  (PLEASE NOTE the change in time and location from our usual meeting). \nFree and Open to the Public\nDecember 6\, 2022 – 5:30pm \nGreat River Regional Library\n1300 W. St. Germain\, St Cloud \nAdvanced Registration Required\nTo Register\, email aditlevson@gmail.com no later than November 30!
URL:https://stearnshistorymuseum.org/event-items/how-the-civil-war-changed-christmas-meeting-at-great-river-regional-library-in-st-cloud/
LOCATION:Great River Regional Library\, 1300 W St Germain St\, St. Cloud\, MN\, 56301\, United States
CATEGORIES:Civil War Roundtable,Programs
ATTACH;FMTTYPE=image/jpeg:https://stearnshistorymuseum.org/wp-content/uploads/2021/07/Civil-War-Events.jpg
END:VEVENT
END:VCALENDAR