BEGIN:VCALENDAR
VERSION:2.0
PRODID:-//Stearns History Museum - ECPv6.15.20//NONSGML v1.0//EN
CALSCALE:GREGORIAN
METHOD:PUBLISH
X-ORIGINAL-URL:https://stearnshistorymuseum.org
X-WR-CALDESC:Events for Stearns History Museum
REFRESH-INTERVAL;VALUE=DURATION:PT1H
X-Robots-Tag:noindex
X-PUBLISHED-TTL:PT1H
BEGIN:VTIMEZONE
TZID:America/Chicago
BEGIN:DAYLIGHT
TZOFFSETFROM:-0600
TZOFFSETTO:-0500
TZNAME:CDT
DTSTART:20210314T080000
END:DAYLIGHT
BEGIN:STANDARD
TZOFFSETFROM:-0500
TZOFFSETTO:-0600
TZNAME:CST
DTSTART:20211107T070000
END:STANDARD
BEGIN:DAYLIGHT
TZOFFSETFROM:-0600
TZOFFSETTO:-0500
TZNAME:CDT
DTSTART:20220313T080000
END:DAYLIGHT
BEGIN:STANDARD
TZOFFSETFROM:-0500
TZOFFSETTO:-0600
TZNAME:CST
DTSTART:20221106T070000
END:STANDARD
BEGIN:DAYLIGHT
TZOFFSETFROM:-0600
TZOFFSETTO:-0500
TZNAME:CDT
DTSTART:20230312T080000
END:DAYLIGHT
BEGIN:STANDARD
TZOFFSETFROM:-0500
TZOFFSETTO:-0600
TZNAME:CST
DTSTART:20231105T070000
END:STANDARD
END:VTIMEZONE
BEGIN:VEVENT
DTSTART;TZID=America/Chicago:20220413T090000
DTEND;TZID=America/Chicago:20220413T100000
DTSTAMP:20260423T140828
CREATED:20211119T181904Z
LAST-MODIFIED:20220311T183238Z
UID:10000402-1649840400-1649844000@stearnshistorymuseum.org
SUMMARY:Breakfast Club - On The Road with Tim Ternes @ HMML
DESCRIPTION:Join us for coffee and rolls with Tim Ternes of Hill Museum and Manuscript Library! Tim is the director of programming and director of the Saint John’s Bible. \nNote that this event is at Hill Museum and Manuscript Library at St. Johns University\, Collegeville. \nAttendance for this event is limited due to COVID-19 space limitations. Reservations are required. Please call the Museum at 320-253-8424 to register. The Breakfast Club program is free for Stearns History Museum members and $7 for nonmembers. Questions? Call the museum at 320-253-8424. 
URL:https://stearnshistorymuseum.org/event-items/breakfast-club-on-the-road-with-tim-ternes-st-johns/
LOCATION:Hill Museum and Manuscript Library\, 2835 Abbey Plaza St. John's University\, Collegeville\, 56321
CATEGORIES:Events
ATTACH;FMTTYPE=image/png:https://stearnshistorymuseum.org/wp-content/uploads/2021/11/Breakfast-Club-Logo-e1695223557913.png
END:VEVENT
END:VCALENDAR