BEGIN:VCALENDAR
VERSION:2.0
PRODID:-//Stearns History Museum - ECPv6.15.20//NONSGML v1.0//EN
CALSCALE:GREGORIAN
METHOD:PUBLISH
X-ORIGINAL-URL:https://stearnshistorymuseum.org
X-WR-CALDESC:Events for Stearns History Museum
REFRESH-INTERVAL;VALUE=DURATION:PT1H
X-Robots-Tag:noindex
X-PUBLISHED-TTL:PT1H
BEGIN:VTIMEZONE
TZID:America/Chicago
BEGIN:DAYLIGHT
TZOFFSETFROM:-0600
TZOFFSETTO:-0500
TZNAME:CDT
DTSTART:20210314T080000
END:DAYLIGHT
BEGIN:STANDARD
TZOFFSETFROM:-0500
TZOFFSETTO:-0600
TZNAME:CST
DTSTART:20211107T070000
END:STANDARD
BEGIN:DAYLIGHT
TZOFFSETFROM:-0600
TZOFFSETTO:-0500
TZNAME:CDT
DTSTART:20220313T080000
END:DAYLIGHT
BEGIN:STANDARD
TZOFFSETFROM:-0500
TZOFFSETTO:-0600
TZNAME:CST
DTSTART:20221106T070000
END:STANDARD
BEGIN:DAYLIGHT
TZOFFSETFROM:-0600
TZOFFSETTO:-0500
TZNAME:CDT
DTSTART:20230312T080000
END:DAYLIGHT
BEGIN:STANDARD
TZOFFSETFROM:-0500
TZOFFSETTO:-0600
TZNAME:CST
DTSTART:20231105T070000
END:STANDARD
END:VTIMEZONE
BEGIN:VEVENT
DTSTART;TZID=America/Chicago:20220917T110000
DTEND;TZID=America/Chicago:20220917T160000
DTSTAMP:20260423T081523
CREATED:20220719T164455Z
LAST-MODIFIED:20220719T164455Z
UID:10000462-1663412400-1663430400@stearnshistorymuseum.org
SUMMARY:See you at Pride in the Park!
DESCRIPTION:Join us for St. Cloud Pride at Lake George!
URL:https://stearnshistorymuseum.org/event-items/see-you-at-pride-in-the-park/
LOCATION:Lake George\, 1101 7th St S\, St. Cloud\, MN\, 56301\, United States
CATEGORIES:Events
ATTACH;FMTTYPE=image/jpeg:https://stearnshistorymuseum.org/wp-content/uploads/2022/07/stcpride.jpg
END:VEVENT
BEGIN:VEVENT
DTSTART;TZID=America/Chicago:20220617T150000
DTEND;TZID=America/Chicago:20220617T210000
DTSTAMP:20260423T081523
CREATED:20220524T160820Z
LAST-MODIFIED:20220524T160820Z
UID:10000455-1655478000-1655499600@stearnshistorymuseum.org
SUMMARY:See you at the Juneteenth Celebration @ Lake George
DESCRIPTION:Stop by our booth to chat\, play games\, and learn more about history & the Museum!
URL:https://stearnshistorymuseum.org/event-items/see-you-at-the-juneteenth-celebration-lake-george/
LOCATION:Lake George\, 1101 7th St S\, St. Cloud\, MN\, 56301\, United States
CATEGORIES:Events
ATTACH;FMTTYPE=image/png:https://stearnshistorymuseum.org/wp-content/uploads/2022/05/juneteenth.png
END:VEVENT
END:VCALENDAR