BEGIN:VCALENDAR
VERSION:2.0
PRODID:-//Stearns History Museum - ECPv6.15.20//NONSGML v1.0//EN
CALSCALE:GREGORIAN
METHOD:PUBLISH
X-WR-CALNAME:Stearns History Museum
X-ORIGINAL-URL:https://stearnshistorymuseum.org
X-WR-CALDESC:Events for Stearns History Museum
REFRESH-INTERVAL;VALUE=DURATION:PT1H
X-Robots-Tag:noindex
X-PUBLISHED-TTL:PT1H
BEGIN:VTIMEZONE
TZID:America/Chicago
BEGIN:DAYLIGHT
TZOFFSETFROM:-0600
TZOFFSETTO:-0500
TZNAME:CDT
DTSTART:20250309T080000
END:DAYLIGHT
BEGIN:STANDARD
TZOFFSETFROM:-0500
TZOFFSETTO:-0600
TZNAME:CST
DTSTART:20251102T070000
END:STANDARD
BEGIN:DAYLIGHT
TZOFFSETFROM:-0600
TZOFFSETTO:-0500
TZNAME:CDT
DTSTART:20260308T080000
END:DAYLIGHT
BEGIN:STANDARD
TZOFFSETFROM:-0500
TZOFFSETTO:-0600
TZNAME:CST
DTSTART:20261101T070000
END:STANDARD
BEGIN:DAYLIGHT
TZOFFSETFROM:-0600
TZOFFSETTO:-0500
TZNAME:CDT
DTSTART:20270314T080000
END:DAYLIGHT
BEGIN:STANDARD
TZOFFSETFROM:-0500
TZOFFSETTO:-0600
TZNAME:CST
DTSTART:20271107T070000
END:STANDARD
END:VTIMEZONE
BEGIN:VEVENT
DTSTART;TZID=America/Chicago:20260521T180000
DTEND;TZID=America/Chicago:20260521T193000
DTSTAMP:20260423T064710
CREATED:20260402T161110Z
LAST-MODIFIED:20260402T161110Z
UID:10000780-1779386400-1779391800@stearnshistorymuseum.org
SUMMARY:Hops and History- Mary Bruno and Friends: Women in Printing
DESCRIPTION:Join local artist and Bruno Press owner Mary Bruno as she delves into the little known history of women in the world of Printing and the printing press. Women’s involvement in the print industry has been historically underrepresented- but not anymore! Come have a pint of Cream Ale and learn all about it! \n 
URL:https://stearnshistorymuseum.org/event-items/hops-and-history-mary-bruno-and-friends-women-in-printing/
LOCATION:Pantown Brewing Company\, 408 37th Avenue North\, St. Cloud\, 56303\, United States
ATTACH;FMTTYPE=image/png:https://stearnshistorymuseum.org/wp-content/uploads/2026/04/May-2026-Hops-thumbnail.png
END:VEVENT
END:VCALENDAR