BEGIN:VCALENDAR
VERSION:2.0
PRODID:-//Stearns History Museum - ECPv6.15.20//NONSGML v1.0//EN
CALSCALE:GREGORIAN
METHOD:PUBLISH
X-WR-CALNAME:Stearns History Museum
X-ORIGINAL-URL:https://stearnshistorymuseum.org
X-WR-CALDESC:Events for Stearns History Museum
REFRESH-INTERVAL;VALUE=DURATION:PT1H
X-Robots-Tag:noindex
X-PUBLISHED-TTL:PT1H
BEGIN:VTIMEZONE
TZID:America/Chicago
BEGIN:DAYLIGHT
TZOFFSETFROM:-0600
TZOFFSETTO:-0500
TZNAME:CDT
DTSTART:20250309T080000
END:DAYLIGHT
BEGIN:STANDARD
TZOFFSETFROM:-0500
TZOFFSETTO:-0600
TZNAME:CST
DTSTART:20251102T070000
END:STANDARD
BEGIN:DAYLIGHT
TZOFFSETFROM:-0600
TZOFFSETTO:-0500
TZNAME:CDT
DTSTART:20260308T080000
END:DAYLIGHT
BEGIN:STANDARD
TZOFFSETFROM:-0500
TZOFFSETTO:-0600
TZNAME:CST
DTSTART:20261101T070000
END:STANDARD
BEGIN:DAYLIGHT
TZOFFSETFROM:-0600
TZOFFSETTO:-0500
TZNAME:CDT
DTSTART:20270314T080000
END:DAYLIGHT
BEGIN:STANDARD
TZOFFSETFROM:-0500
TZOFFSETTO:-0600
TZNAME:CST
DTSTART:20271107T070000
END:STANDARD
END:VTIMEZONE
BEGIN:VEVENT
DTSTART;TZID=America/Chicago:20260709T173000
DTEND;TZID=America/Chicago:20260709T183000
DTSTAMP:20260419T043632
CREATED:20260303T213222Z
LAST-MODIFIED:20260303T213222Z
UID:10000774-1783618200-1783621800@stearnshistorymuseum.org
SUMMARY:Hiking Through History: Quarry Park
DESCRIPTION:Join the Stearns History Museum and Stearns County Parks this summer as we hike through some of Stearns County’s most beautiful parks\, learn about the natural wonders and ecosystems found there\, with some history sprinkled in. These walks will be between 1 and 1.5 miles and fairly gentle\, but bring your walking shoes! \nThis program is free to the public
URL:https://stearnshistorymuseum.org/event-items/hiking-through-history-quarry-park/
LOCATION:Quarry Park\, 1802 Co. Rd. 137\, Waite Park\, 56387\, United States
ATTACH;FMTTYPE=image/png:https://stearnshistorymuseum.org/wp-content/uploads/2026/03/HTH-Quarry-Thumbnail.png
END:VEVENT
END:VCALENDAR