BEGIN:VCALENDAR
VERSION:2.0
PRODID:-//Stearns History Museum - ECPv6.15.20//NONSGML v1.0//EN
CALSCALE:GREGORIAN
METHOD:PUBLISH
X-WR-CALNAME:Stearns History Museum
X-ORIGINAL-URL:https://stearnshistorymuseum.org
X-WR-CALDESC:Events for Stearns History Museum
REFRESH-INTERVAL;VALUE=DURATION:PT1H
X-Robots-Tag:noindex
X-PUBLISHED-TTL:PT1H
BEGIN:VTIMEZONE
TZID:America/Chicago
BEGIN:DAYLIGHT
TZOFFSETFROM:-0600
TZOFFSETTO:-0500
TZNAME:CDT
DTSTART:20220313T080000
END:DAYLIGHT
BEGIN:STANDARD
TZOFFSETFROM:-0500
TZOFFSETTO:-0600
TZNAME:CST
DTSTART:20221106T070000
END:STANDARD
BEGIN:DAYLIGHT
TZOFFSETFROM:-0600
TZOFFSETTO:-0500
TZNAME:CDT
DTSTART:20230312T080000
END:DAYLIGHT
BEGIN:STANDARD
TZOFFSETFROM:-0500
TZOFFSETTO:-0600
TZNAME:CST
DTSTART:20231105T070000
END:STANDARD
BEGIN:DAYLIGHT
TZOFFSETFROM:-0600
TZOFFSETTO:-0500
TZNAME:CDT
DTSTART:20240310T080000
END:DAYLIGHT
BEGIN:STANDARD
TZOFFSETFROM:-0500
TZOFFSETTO:-0600
TZNAME:CST
DTSTART:20241103T070000
END:STANDARD
END:VTIMEZONE
BEGIN:VEVENT
DTSTART;TZID=America/Chicago:20230518T173000
DTEND;TZID=America/Chicago:20230518T200000
DTSTAMP:20260423T110141
CREATED:20230329T191114Z
LAST-MODIFIED:20230510T192353Z
UID:10000559-1684431000-1684440000@stearnshistorymuseum.org
SUMMARY:Living Memory - Celebrating the 150th anniversary of the Pioneer Settlers Association
DESCRIPTION:Change of Plans!\nOur May 18th Living Memory Event is no longer on the calendar. (We know you were excited–and so were we–but sometimes the best-laid plans don’t make history after all.) Instead\, the idea behind it is being wrapped into our other upcoming events\, with several of our planned makers making featured appearances at other Stearns History Museum events throughout the year. Keep an eye out for these upcoming featured makers! We want to extend a huge thank you to Randy Schmitz at Rolling Ridge\, Mary Bruno at Bruno Press (Living Memory prints will still be available for purchase in our gift shop)\, Liz Fiedler at Sunny Mary Medow Farm\, and those who showed support for the Living Memory celebration\, and we look forward to seeing you all at these other exciting events: \n\nHops & History: A Brief History of the Undergarment (May 11\, 5:30-7:30 at Third Street Brewhouse in Cold Spring)\nUncovering Racial Covenant in St. Cloud (May 17\, 6:30pm at the Museum)\nSnooky’s Pub Crawl (Thursday June 8\, 6-9pm downtown St. Cloud)\nAt War & At Home\, the World War II Experience (Sat-Sun July 8-9 at the Museum)
URL:https://stearnshistorymuseum.org/event-items/living-memory-celebrating-the-150th-anniversary-of-the-pioneer-settlers-association/
LOCATION:Rolling Ridge Wedding & Event Center\, 31101 Co Rd 133\, St Joseph\, MN\, 56374\, United States
CATEGORIES:Events
ATTACH;FMTTYPE=image/png:https://stearnshistorymuseum.org/wp-content/uploads/2023/03/change-of-plans.png
END:VEVENT
END:VCALENDAR