BEGIN:VCALENDAR
VERSION:2.0
PRODID:-//Stearns History Museum - ECPv6.15.20//NONSGML v1.0//EN
CALSCALE:GREGORIAN
METHOD:PUBLISH
X-ORIGINAL-URL:https://stearnshistorymuseum.org
X-WR-CALDESC:Events for Stearns History Museum
REFRESH-INTERVAL;VALUE=DURATION:PT1H
X-Robots-Tag:noindex
X-PUBLISHED-TTL:PT1H
BEGIN:VTIMEZONE
TZID:America/Chicago
BEGIN:DAYLIGHT
TZOFFSETFROM:-0600
TZOFFSETTO:-0500
TZNAME:CDT
DTSTART:20220313T080000
END:DAYLIGHT
BEGIN:STANDARD
TZOFFSETFROM:-0500
TZOFFSETTO:-0600
TZNAME:CST
DTSTART:20221106T070000
END:STANDARD
BEGIN:DAYLIGHT
TZOFFSETFROM:-0600
TZOFFSETTO:-0500
TZNAME:CDT
DTSTART:20230312T080000
END:DAYLIGHT
BEGIN:STANDARD
TZOFFSETFROM:-0500
TZOFFSETTO:-0600
TZNAME:CST
DTSTART:20231105T070000
END:STANDARD
BEGIN:DAYLIGHT
TZOFFSETFROM:-0600
TZOFFSETTO:-0500
TZNAME:CDT
DTSTART:20240310T080000
END:DAYLIGHT
BEGIN:STANDARD
TZOFFSETFROM:-0500
TZOFFSETTO:-0600
TZNAME:CST
DTSTART:20241103T070000
END:STANDARD
END:VTIMEZONE
BEGIN:VEVENT
DTSTART;TZID=America/Chicago:20231007T163000
DTEND;TZID=America/Chicago:20231007T193000
DTSTAMP:20260423T165142
CREATED:20230428T192831Z
LAST-MODIFIED:20230914T183010Z
UID:10000572-1696696200-1696707000@stearnshistorymuseum.org
SUMMARY:Sundown Cemetery Tour - Sauk Centre & Palmer House
DESCRIPTION:Register here!
URL:https://stearnshistorymuseum.org/event-items/sundown-cemetery-tour-sauk-centre-palmer-house/
LOCATION:Sauk Centre\, Sauk Centre\, MN\, United States
CATEGORIES:Events,Programs
ATTACH;FMTTYPE=image/png:https://stearnshistorymuseum.org/wp-content/uploads/2023/04/Cemetery-Tour-flyer-2023.png
END:VEVENT
END:VCALENDAR