BEGIN:VCALENDAR
VERSION:2.0
PRODID:-//Stearns History Museum - ECPv6.15.20//NONSGML v1.0//EN
CALSCALE:GREGORIAN
METHOD:PUBLISH
X-WR-CALNAME:Stearns History Museum
X-ORIGINAL-URL:https://stearnshistorymuseum.org
X-WR-CALDESC:Events for Stearns History Museum
REFRESH-INTERVAL;VALUE=DURATION:PT1H
X-Robots-Tag:noindex
X-PUBLISHED-TTL:PT1H
BEGIN:VTIMEZONE
TZID:America/Chicago
BEGIN:DAYLIGHT
TZOFFSETFROM:-0600
TZOFFSETTO:-0500
TZNAME:CDT
DTSTART:20230312T080000
END:DAYLIGHT
BEGIN:STANDARD
TZOFFSETFROM:-0500
TZOFFSETTO:-0600
TZNAME:CST
DTSTART:20231105T070000
END:STANDARD
BEGIN:DAYLIGHT
TZOFFSETFROM:-0600
TZOFFSETTO:-0500
TZNAME:CDT
DTSTART:20240310T080000
END:DAYLIGHT
BEGIN:STANDARD
TZOFFSETFROM:-0500
TZOFFSETTO:-0600
TZNAME:CST
DTSTART:20241103T070000
END:STANDARD
BEGIN:DAYLIGHT
TZOFFSETFROM:-0600
TZOFFSETTO:-0500
TZNAME:CDT
DTSTART:20250309T080000
END:DAYLIGHT
BEGIN:STANDARD
TZOFFSETFROM:-0500
TZOFFSETTO:-0600
TZNAME:CST
DTSTART:20251102T070000
END:STANDARD
END:VTIMEZONE
BEGIN:VEVENT
DTSTART;TZID=America/Chicago:20240808T100000
DTEND;TZID=America/Chicago:20240808T120000
DTSTAMP:20260423T200026
CREATED:20240606T194947Z
LAST-MODIFIED:20240803T150018Z
UID:10000649-1723111200-1723118400@stearnshistorymuseum.org
SUMMARY:Heritage Circle: St. Cloud (New) Nutrient Energy and Water Recovery Facility
DESCRIPTION:Join us for another Heritage Circle Tour! On August 8th\, we will be touring the St. Cloud New Nutrient Energy and Water Recovery Center with the City of St. Cloud\, led by Tracy Hodel\, Public Services Director. We will meet at 525 60th Street South on at 10 am\, with a pay-on-you-own lunch at the Hayloft Bar and Grill to follow. \nYou must be a Heritage Circle level member at the Stearns History Museum to attend Heritage Circle events. \nHeritage Circle Membership information and application: https://stearns-museum.company.site/Heritage-Circle-p623356241 \nIf you have any questions. contact Ann Marie Johnson at development@stearns-museum.org or call 320-253-8424 \n 
URL:https://stearnshistorymuseum.org/event-items/heritage-circle-st-cloud-new-nutrient-energy-and-water-recovery-facility/
LOCATION:St. Cloud Nutrient Energy and Water Recovery Facility\, 525 60th St. S\, St. Cloud\, United States
ATTACH;FMTTYPE=image/jpeg:https://stearnshistorymuseum.org/wp-content/uploads/2024/06/SC-Recovery-Facility.jpg
END:VEVENT
END:VCALENDAR