BEGIN:VCALENDAR
VERSION:2.0
PRODID:-//Stearns History Museum - ECPv6.15.20//NONSGML v1.0//EN
CALSCALE:GREGORIAN
METHOD:PUBLISH
X-ORIGINAL-URL:https://stearnshistorymuseum.org
X-WR-CALDESC:Events for Stearns History Museum
REFRESH-INTERVAL;VALUE=DURATION:PT1H
X-Robots-Tag:noindex
X-PUBLISHED-TTL:PT1H
BEGIN:VTIMEZONE
TZID:America/Chicago
BEGIN:DAYLIGHT
TZOFFSETFROM:-0600
TZOFFSETTO:-0500
TZNAME:CDT
DTSTART:20200308T080000
END:DAYLIGHT
BEGIN:STANDARD
TZOFFSETFROM:-0500
TZOFFSETTO:-0600
TZNAME:CST
DTSTART:20201101T070000
END:STANDARD
BEGIN:DAYLIGHT
TZOFFSETFROM:-0600
TZOFFSETTO:-0500
TZNAME:CDT
DTSTART:20210314T080000
END:DAYLIGHT
BEGIN:STANDARD
TZOFFSETFROM:-0500
TZOFFSETTO:-0600
TZNAME:CST
DTSTART:20211107T070000
END:STANDARD
BEGIN:DAYLIGHT
TZOFFSETFROM:-0600
TZOFFSETTO:-0500
TZNAME:CDT
DTSTART:20220313T080000
END:DAYLIGHT
BEGIN:STANDARD
TZOFFSETFROM:-0500
TZOFFSETTO:-0600
TZNAME:CST
DTSTART:20221106T070000
END:STANDARD
BEGIN:DAYLIGHT
TZOFFSETFROM:-0600
TZOFFSETTO:-0500
TZNAME:CDT
DTSTART:20230312T080000
END:DAYLIGHT
BEGIN:STANDARD
TZOFFSETFROM:-0500
TZOFFSETTO:-0600
TZNAME:CST
DTSTART:20231105T070000
END:STANDARD
BEGIN:DAYLIGHT
TZOFFSETFROM:-0600
TZOFFSETTO:-0500
TZNAME:CDT
DTSTART:20240310T080000
END:DAYLIGHT
BEGIN:STANDARD
TZOFFSETFROM:-0500
TZOFFSETTO:-0600
TZNAME:CST
DTSTART:20241103T070000
END:STANDARD
BEGIN:DAYLIGHT
TZOFFSETFROM:-0600
TZOFFSETTO:-0500
TZNAME:CDT
DTSTART:20250309T080000
END:DAYLIGHT
BEGIN:STANDARD
TZOFFSETFROM:-0500
TZOFFSETTO:-0600
TZNAME:CST
DTSTART:20251102T070000
END:STANDARD
END:VTIMEZONE
BEGIN:VEVENT
DTSTART;TZID=America/Chicago:20240731T120000
DTEND;TZID=America/Chicago:20240804T180000
DTSTAMP:20260423T064750
CREATED:20240723T170718Z
LAST-MODIFIED:20240723T170718Z
UID:10000652-1722427200-1722794400@stearnshistorymuseum.org
SUMMARY:SHM at the Stearns County Fair!
DESCRIPTION:Come visit the Stearns History Museum at the Stearns County Fair in Sauk Centre\, from July 31-August 4th!
URL:https://stearnshistorymuseum.org/event-items/shm-at-the-stearns-county-fair/
LOCATION:Stearns County Fairgrounds\, 1105 Ash St S\, Sauk Centre\, 56378\, United States
ATTACH;FMTTYPE=image/jpeg:https://stearnshistorymuseum.org/wp-content/uploads/2024/07/ferris-wheel.jpg
END:VEVENT
BEGIN:VEVENT
DTSTART;TZID=America/Chicago:20210728T080000
DTEND;TZID=America/Chicago:20210801T170000
DTSTAMP:20260423T064750
CREATED:20210722T170335Z
LAST-MODIFIED:20210722T170413Z
UID:10000361-1627459200-1627837200@stearnshistorymuseum.org
SUMMARY:See You at the Stearns County Fair
DESCRIPTION:Come see us at the Stearns County Fair!
URL:https://stearnshistorymuseum.org/event-items/see-you-at-the-stearns-county-fair/
LOCATION:Stearns County Fairgrounds\, 1105 Ash St S\, Sauk Centre\, 56378\, United States
CATEGORIES:Events
ATTACH;FMTTYPE=image/png:https://stearnshistorymuseum.org/wp-content/uploads/2021/07/Screen-Shot-2021-07-22-at-11.51.38-AM.png
END:VEVENT
END:VCALENDAR