BEGIN:VCALENDAR
VERSION:2.0
PRODID:-//Stearns History Museum - ECPv6.15.20//NONSGML v1.0//EN
CALSCALE:GREGORIAN
METHOD:PUBLISH
X-WR-CALNAME:Stearns History Museum
X-ORIGINAL-URL:https://stearnshistorymuseum.org
X-WR-CALDESC:Events for Stearns History Museum
REFRESH-INTERVAL;VALUE=DURATION:PT1H
X-Robots-Tag:noindex
X-PUBLISHED-TTL:PT1H
BEGIN:VTIMEZONE
TZID:America/Chicago
BEGIN:DAYLIGHT
TZOFFSETFROM:-0600
TZOFFSETTO:-0500
TZNAME:CDT
DTSTART:20240310T080000
END:DAYLIGHT
BEGIN:STANDARD
TZOFFSETFROM:-0500
TZOFFSETTO:-0600
TZNAME:CST
DTSTART:20241103T070000
END:STANDARD
BEGIN:DAYLIGHT
TZOFFSETFROM:-0600
TZOFFSETTO:-0500
TZNAME:CDT
DTSTART:20250309T080000
END:DAYLIGHT
BEGIN:STANDARD
TZOFFSETFROM:-0500
TZOFFSETTO:-0600
TZNAME:CST
DTSTART:20251102T070000
END:STANDARD
BEGIN:DAYLIGHT
TZOFFSETFROM:-0600
TZOFFSETTO:-0500
TZNAME:CDT
DTSTART:20260308T080000
END:DAYLIGHT
BEGIN:STANDARD
TZOFFSETFROM:-0500
TZOFFSETTO:-0600
TZNAME:CST
DTSTART:20261101T070000
END:STANDARD
END:VTIMEZONE
BEGIN:VEVENT
DTSTART;TZID=America/Chicago:20251219T190000
DTEND;TZID=America/Chicago:20251219T200000
DTSTAMP:20260424T004521
CREATED:20251009T153459Z
LAST-MODIFIED:20251030T163706Z
UID:10000754-1766170800-1766174400@stearnshistorymuseum.org
SUMMARY:SHM Escape Room: Lost in the 50s- Dec. 19th\, 7pm
DESCRIPTION:In our 4th annual Escape Room\, you will travel back in time to the 1950s! Nostalgia is fun and all\, but what happens when you can’t get back to the present day? You have to find a way out- or be stranded in the past forever! \n 
URL:https://stearnshistorymuseum.org/event-items/shm-escape-room-lost-in-the-50s-dec-19th-7pm/
LOCATION:Stearns History Museum\, 235 33rd Ave S\, St Cloud\, MN\, 56301\, United States
ATTACH;FMTTYPE=image/png:https://stearnshistorymuseum.org/wp-content/uploads/2025/10/Copy-of-Half-page-escape-room-2.png
END:VEVENT
BEGIN:VEVENT
DTSTART;TZID=America/Chicago:20251219T180000
DTEND;TZID=America/Chicago:20251219T190000
DTSTAMP:20260424T004521
CREATED:20251009T153410Z
LAST-MODIFIED:20251030T163804Z
UID:10000753-1766167200-1766170800@stearnshistorymuseum.org
SUMMARY:SHM Escape Room: Lost in the 50s- Dec. 19th\, 6pm
DESCRIPTION:In our 4th annual Escape Room\, you will travel back in time to the 1950s! Nostalgia is fun and all\, but what happens when you can’t get back to the present day? You have to find a way out- or be stranded in the past forever! \n 
URL:https://stearnshistorymuseum.org/event-items/shm-escape-room-lost-in-the-50s-dec-19th-6pm/
LOCATION:Stearns History Museum\, 235 33rd Ave S\, St Cloud\, MN\, 56301\, United States
ATTACH;FMTTYPE=image/webp:https://stearnshistorymuseum.org/wp-content/uploads/2025/10/Copy-of-Half-page-escape-room-2.webp
END:VEVENT
BEGIN:VEVENT
DTSTART;TZID=America/Chicago:20251219T170000
DTEND;TZID=America/Chicago:20251219T180000
DTSTAMP:20260424T004521
CREATED:20251009T153249Z
LAST-MODIFIED:20251030T163836Z
UID:10000752-1766163600-1766167200@stearnshistorymuseum.org
SUMMARY:SHM Escape Room: Lost in the 50s- Dec. 19th\, 5pm
DESCRIPTION:In our 4th annual Escape Room\, you will travel back in time to the 1950s! Nostalgia is fun and all\, but what happens when you can’t get back to the present day? You have to find a way out- or be stranded in the past forever! \n 
URL:https://stearnshistorymuseum.org/event-items/shm-escape-room-lost-in-the-50s-dec-19th-5pm/
LOCATION:Stearns History Museum\, 235 33rd Ave S\, St Cloud\, MN\, 56301\, United States
ATTACH;FMTTYPE=image/webp:https://stearnshistorymuseum.org/wp-content/uploads/2025/10/Copy-of-Half-page-escape-room-2.webp
END:VEVENT
BEGIN:VEVENT
DTSTART;TZID=America/Chicago:20251218T190000
DTEND;TZID=America/Chicago:20251218T200000
DTSTAMP:20260424T004521
CREATED:20251009T153018Z
LAST-MODIFIED:20251030T163923Z
UID:10000751-1766084400-1766088000@stearnshistorymuseum.org
SUMMARY:SHM Escape Room: Lost in the 50s- Dec. 18th\, 7pm
DESCRIPTION:In our 4th annual Escape Room\, you will travel back in time to the 1950s! Nostalgia is fun and all\, but what happens when you can’t get back to the present day? You have to find a way out- or be stranded in the past forever! \n 
URL:https://stearnshistorymuseum.org/event-items/shm-escape-room-lost-in-the-50s-dec-18th-7pm/
LOCATION:Stearns History Museum\, 235 33rd Ave S\, St Cloud\, MN\, 56301\, United States
ATTACH;FMTTYPE=image/webp:https://stearnshistorymuseum.org/wp-content/uploads/2025/10/Copy-of-Half-page-escape-room-2.webp
END:VEVENT
BEGIN:VEVENT
DTSTART;TZID=America/Chicago:20251218T180000
DTEND;TZID=America/Chicago:20251218T190000
DTSTAMP:20260424T004521
CREATED:20251009T152828Z
LAST-MODIFIED:20251202T191318Z
UID:10000750-1766080800-1766084400@stearnshistorymuseum.org
SUMMARY:SHM Escape Room: Lost in the 50s- Dec. 18th\, 6pm
DESCRIPTION:In our 4th annual Escape Room\, you will travel back in time to the 1950s! Nostalgia is fun and all\, but what happens when you can’t get back to the present day? You have to find a way out- or be stranded in the past forever! \n 
URL:https://stearnshistorymuseum.org/event-items/shm-escape-room-lost-in-the-50s-dec-18th-6pm/
LOCATION:Stearns History Museum\, 235 33rd Ave S\, St Cloud\, MN\, 56301\, United States
ATTACH;FMTTYPE=image/webp:https://stearnshistorymuseum.org/wp-content/uploads/2025/10/Copy-of-Half-page-escape-room-2.webp
END:VEVENT
BEGIN:VEVENT
DTSTART;TZID=America/Chicago:20251218T170000
DTEND;TZID=America/Chicago:20251218T180000
DTSTAMP:20260424T004521
CREATED:20251009T152712Z
LAST-MODIFIED:20251009T152712Z
UID:10000749-1766077200-1766080800@stearnshistorymuseum.org
SUMMARY:SHM Escape Room: Lost in the 50s- Dec. 18th\, 5pm
DESCRIPTION:In our 4th annual Escape Room\, you will travel back in time to the 1950s! Nostalgia is fun and all\, but what happens when you can’t get back to the present day? You have to find a way out- or be stranded in the past forever! \n 
URL:https://stearnshistorymuseum.org/event-items/shm-escape-room-lost-in-the-50s-dec-18th-5pm/
LOCATION:Stearns History Museum\, 235 33rd Ave S\, St Cloud\, MN\, 56301\, United States
ATTACH;FMTTYPE=image/png:https://stearnshistorymuseum.org/wp-content/uploads/2025/10/Copy-of-Half-page-escape-room-1.png
END:VEVENT
BEGIN:VEVENT
DTSTART;TZID=America/Chicago:20251213T160000
DTEND;TZID=America/Chicago:20251213T170000
DTSTAMP:20260424T004521
CREATED:20251009T151358Z
LAST-MODIFIED:20251030T164000Z
UID:10000748-1765641600-1765645200@stearnshistorymuseum.org
SUMMARY:SHM Escape Room: Lost in the 50s- Dec. 13th\, 4pm
DESCRIPTION:In our 4th annual Escape Room\, you will travel back in time to the 1950s! Nostalgia is fun and all\, but what happens when you can’t get back to the present day? You have to find a way out- or be stranded in the past forever! \n 
URL:https://stearnshistorymuseum.org/event-items/shm-escape-room-lost-in-the-50s-dec-13th-4pm/
LOCATION:Stearns History Museum\, 235 33rd Ave S\, St Cloud\, MN\, 56301\, United States
ATTACH;FMTTYPE=image/webp:https://stearnshistorymuseum.org/wp-content/uploads/2025/10/Copy-of-Half-page-escape-room-2.webp
END:VEVENT
BEGIN:VEVENT
DTSTART;TZID=America/Chicago:20251213T150000
DTEND;TZID=America/Chicago:20251213T160000
DTSTAMP:20260424T004521
CREATED:20251009T151309Z
LAST-MODIFIED:20251122T194319Z
UID:10000747-1765638000-1765641600@stearnshistorymuseum.org
SUMMARY:SHM Escape Room: Lost in the 50s- Dec. 13th\, 3pm
DESCRIPTION:In our 4th annual Escape Room\, you will travel back in time to the 1950s! Nostalgia is fun and all\, but what happens when you can’t get back to the present day? You have to find a way out- or be stranded in the past forever! \n 
URL:https://stearnshistorymuseum.org/event-items/shm-escape-room-lost-in-the-50s-dec-13th-3pm/
LOCATION:Stearns History Museum\, 235 33rd Ave S\, St Cloud\, MN\, 56301\, United States
ATTACH;FMTTYPE=image/webp:https://stearnshistorymuseum.org/wp-content/uploads/2025/10/Copy-of-Half-page-escape-room-2.webp
END:VEVENT
BEGIN:VEVENT
DTSTART;TZID=America/Chicago:20251213T140000
DTEND;TZID=America/Chicago:20251213T150000
DTSTAMP:20260424T004521
CREATED:20251009T151211Z
LAST-MODIFIED:20251114T215203Z
UID:10000746-1765634400-1765638000@stearnshistorymuseum.org
SUMMARY:SHM Escape Room: Lost in the 50s- Dec. 13th\, 2pm
DESCRIPTION:In our 4th annual Escape Room\, you will travel back in time to the 1950s! Nostalgia is fun and all\, but what happens when you can’t get back to the present day? You have to find a way out- or be stranded in the past forever! \n 
URL:https://stearnshistorymuseum.org/event-items/shm-escape-room-lost-in-the-50s-dec-13th-2pm/
LOCATION:Stearns History Museum\, 235 33rd Ave S\, St Cloud\, MN\, 56301\, United States
ATTACH;FMTTYPE=image/webp:https://stearnshistorymuseum.org/wp-content/uploads/2025/10/Copy-of-Half-page-escape-room-2.webp
END:VEVENT
BEGIN:VEVENT
DTSTART;TZID=America/Chicago:20251213T130000
DTEND;TZID=America/Chicago:20251213T140000
DTSTAMP:20260424T004521
CREATED:20251009T151125Z
LAST-MODIFIED:20251009T151125Z
UID:10000745-1765630800-1765634400@stearnshistorymuseum.org
SUMMARY:SHM Escape Room: Lost in the 50s- Dec. 13th\, 1pm
DESCRIPTION:In our 4th annual Escape Room\, you will travel back in time to the 1950s! Nostalgia is fun and all\, but what happens when you can’t get back to the present day? You have to find a way out- or be stranded in the past forever! \n 
URL:https://stearnshistorymuseum.org/event-items/shm-escape-room-lost-in-the-50s-dec-13th-1pm/
LOCATION:Stearns History Museum\, 235 33rd Ave S\, St Cloud\, MN\, 56301\, United States
ATTACH;FMTTYPE=image/png:https://stearnshistorymuseum.org/wp-content/uploads/2025/10/Copy-of-Half-page-escape-room-1.png
END:VEVENT
BEGIN:VEVENT
DTSTART;TZID=America/Chicago:20251212T190000
DTEND;TZID=America/Chicago:20251212T200000
DTSTAMP:20260424T004521
CREATED:20251009T151008Z
LAST-MODIFIED:20251030T164033Z
UID:10000744-1765566000-1765569600@stearnshistorymuseum.org
SUMMARY:SHM Escape Room: Lost in the 50s- Dec. 12th\, 7pm
DESCRIPTION:In our 4th annual Escape Room\, you will travel back in time to the 1950s! Nostalgia is fun and all\, but what happens when you can’t get back to the present day? You have to find a way out- or be stranded in the past forever! \n 
URL:https://stearnshistorymuseum.org/event-items/shm-escape-room-lost-in-the-50s-dec-12th-7pm/
LOCATION:Stearns History Museum\, 235 33rd Ave S\, St Cloud\, MN\, 56301\, United States
ATTACH;FMTTYPE=image/webp:https://stearnshistorymuseum.org/wp-content/uploads/2025/10/Copy-of-Half-page-escape-room-2.webp
END:VEVENT
BEGIN:VEVENT
DTSTART;TZID=America/Chicago:20251212T180000
DTEND;TZID=America/Chicago:20251212T190000
DTSTAMP:20260424T004521
CREATED:20251009T150918Z
LAST-MODIFIED:20251101T152738Z
UID:10000743-1765562400-1765566000@stearnshistorymuseum.org
SUMMARY:SHM Escape Room: Lost in the 50s- Dec. 12th\, 6pm
DESCRIPTION:In our 4th annual Escape Room\, you will travel back in time to the 1950s! Nostalgia is fun and all\, but what happens when you can’t get back to the present day? You have to find a way out- or be stranded in the past forever! \n 
URL:https://stearnshistorymuseum.org/event-items/shm-escape-room-lost-in-the-50s-dec-12th-6pm/
LOCATION:Stearns History Museum\, 235 33rd Ave S\, St Cloud\, MN\, 56301\, United States
ATTACH;FMTTYPE=image/webp:https://stearnshistorymuseum.org/wp-content/uploads/2025/10/Copy-of-Half-page-escape-room-2.webp
END:VEVENT
BEGIN:VEVENT
DTSTART;TZID=America/Chicago:20251212T170000
DTEND;TZID=America/Chicago:20251212T180000
DTSTAMP:20260424T004521
CREATED:20251009T150827Z
LAST-MODIFIED:20251122T180837Z
UID:10000742-1765558800-1765562400@stearnshistorymuseum.org
SUMMARY:SHM Escape Room: Lost in the 50s- Dec. 12th\, 5pm
DESCRIPTION:In our 4th annual Escape Room\, you will travel back in time to the 1950s! Nostalgia is fun and all\, but what happens when you can’t get back to the present day? You have to find a way out- or be stranded in the past forever! \n 
URL:https://stearnshistorymuseum.org/event-items/shm-escape-room-lost-in-the-50s-dec-12th-5pm/
LOCATION:Stearns History Museum\, 235 33rd Ave S\, St Cloud\, MN\, 56301\, United States
ATTACH;FMTTYPE=image/webp:https://stearnshistorymuseum.org/wp-content/uploads/2025/10/Copy-of-Half-page-escape-room-2.webp
END:VEVENT
BEGIN:VEVENT
DTSTART;TZID=America/Chicago:20251211T190000
DTEND;TZID=America/Chicago:20251211T200000
DTSTAMP:20260424T004521
CREATED:20251008T202920Z
LAST-MODIFIED:20251105T180800Z
UID:10000741-1765479600-1765483200@stearnshistorymuseum.org
SUMMARY:SHM Escape Room: Lost in the 50s- Dec. 11th\, 7pm
DESCRIPTION:In our 4th annual Escape Room\, you will travel back in time to the 1950s! Nostalgia is fun and all\, but what happens when you can’t get back to the present day? You have to find a way out- or be stranded in the past forever! \n 
URL:https://stearnshistorymuseum.org/event-items/shm-escape-room-lost-in-the-50s-dec-11th-7pm/
LOCATION:Stearns History Museum\, 235 33rd Ave S\, St Cloud\, MN\, 56301\, United States
ATTACH;FMTTYPE=image/png:https://stearnshistorymuseum.org/wp-content/uploads/2025/10/Copy-of-Half-page-escape-room-1.png
END:VEVENT
BEGIN:VEVENT
DTSTART;TZID=America/Chicago:20251211T180000
DTEND;TZID=America/Chicago:20251211T190000
DTSTAMP:20260424T004521
CREATED:20251008T202729Z
LAST-MODIFIED:20251105T180652Z
UID:10000740-1765476000-1765479600@stearnshistorymuseum.org
SUMMARY:SHM Escape Room: Lost in the 50s- Dec. 11th\, 6pm
DESCRIPTION:In our 4th annual Escape Room\, you will travel back in time to the 1950s! Nostalgia is fun and all\, but what happens when you can’t get back to the present day? You have to find a way out- or be stranded in the past forever! \n 
URL:https://stearnshistorymuseum.org/event-items/shm-escape-room-lost-in-the-50s-dec-11th-6pm/
LOCATION:Stearns History Museum\, 235 33rd Ave S\, St Cloud\, MN\, 56301\, United States
ATTACH;FMTTYPE=image/webp:https://stearnshistorymuseum.org/wp-content/uploads/2025/10/Copy-of-Half-page-escape-room-1.webp
END:VEVENT
BEGIN:VEVENT
DTSTART;TZID=America/Chicago:20251211T170000
DTEND;TZID=America/Chicago:20251211T180000
DTSTAMP:20260424T004521
CREATED:20251008T202618Z
LAST-MODIFIED:20251030T164119Z
UID:10000739-1765472400-1765476000@stearnshistorymuseum.org
SUMMARY:SHM Escape Room: Lost in the 50s- Dec. 11th\, 5pm
DESCRIPTION:In our 4th annual Escape Room\, you will travel back in time to the 1950s! Nostalgia is fun and all\, but what happens when you can’t get back to the present day? You have to find a way out- or be stranded in the past forever! \n 
URL:https://stearnshistorymuseum.org/event-items/shm-escape-room-lost-in-the-50s-dec-11th-5pm/
LOCATION:Stearns History Museum\, 235 33rd Ave S\, St Cloud\, MN\, 56301\, United States
ATTACH;FMTTYPE=image/webp:https://stearnshistorymuseum.org/wp-content/uploads/2025/10/Copy-of-Half-page-escape-room-2.webp
END:VEVENT
BEGIN:VEVENT
DTSTART;TZID=America/Chicago:20251204T190000
DTEND;TZID=America/Chicago:20251204T200000
DTSTAMP:20260424T004521
CREATED:20251008T202455Z
LAST-MODIFIED:20251105T182221Z
UID:10000738-1764874800-1764878400@stearnshistorymuseum.org
SUMMARY:SHM Escape Room: Lost in the 50s- Dec. 4th\, 7pm
DESCRIPTION:In our 4th annual Escape Room\, you will travel back in time to the 1950s! Nostalgia is fun and all\, but what happens when you can’t get back to the present day? You have to find a way out- or be stranded in the past forever! \n 
URL:https://stearnshistorymuseum.org/event-items/shm-escape-room-lost-in-the-50s-dec-4th-7pm/
LOCATION:Stearns History Museum\, 235 33rd Ave S\, St Cloud\, MN\, 56301\, United States
ATTACH;FMTTYPE=image/webp:https://stearnshistorymuseum.org/wp-content/uploads/2025/10/Copy-of-Half-page-escape-room-2.webp
END:VEVENT
BEGIN:VEVENT
DTSTART;TZID=America/Chicago:20251204T180000
DTEND;TZID=America/Chicago:20251204T190000
DTSTAMP:20260424T004521
CREATED:20251008T202341Z
LAST-MODIFIED:20251030T164203Z
UID:10000737-1764871200-1764874800@stearnshistorymuseum.org
SUMMARY:SHM Escape Room: Lost in the 50s- Dec. 4th\, 6pm
DESCRIPTION:In our 4th annual Escape Room\, you will travel back in time to the 1950s! Nostalgia is fun and all\, but what happens when you can’t get back to the present day? You have to find a way out- or be stranded in the past forever! \n 
URL:https://stearnshistorymuseum.org/event-items/shm-escape-room-lost-in-the-50s-dec-4th-6pm/
LOCATION:Stearns History Museum\, 235 33rd Ave S\, St Cloud\, MN\, 56301\, United States
ATTACH;FMTTYPE=image/webp:https://stearnshistorymuseum.org/wp-content/uploads/2025/10/Copy-of-Half-page-escape-room-2.webp
END:VEVENT
BEGIN:VEVENT
DTSTART;TZID=America/Chicago:20251204T170000
DTEND;TZID=America/Chicago:20251204T180000
DTSTAMP:20260424T004521
CREATED:20251008T201847Z
LAST-MODIFIED:20251008T201847Z
UID:10000736-1764867600-1764871200@stearnshistorymuseum.org
SUMMARY:SHM Escape Room: Lost in the 50s- Dec. 4th\, 5pm
DESCRIPTION:In our 4th annual Escape Room\, you will travel back in time to the 1950s! Nostalgia is fun and all\, but what happens when you can’t get back to the present day? You have to find a way out- or be stranded in the past forever! \n 
URL:https://stearnshistorymuseum.org/event-items/shm-escape-room-lost-in-the-50s-dec-4th-5pm/
LOCATION:Stearns History Museum\, 235 33rd Ave S\, St Cloud\, MN\, 56301\, United States
ATTACH;FMTTYPE=image/png:https://stearnshistorymuseum.org/wp-content/uploads/2025/10/Copy-of-Half-page-escape-room.png
END:VEVENT
BEGIN:VEVENT
DTSTART;TZID=America/Chicago:20251112T090000
DTEND;TZID=America/Chicago:20251112T100000
DTSTAMP:20260424T004521
CREATED:20251008T201246Z
LAST-MODIFIED:20251008T201246Z
UID:10000735-1762938000-1762941600@stearnshistorymuseum.org
SUMMARY:Breakfast Club: Linden Hill Historic Estate
DESCRIPTION:Join Linden Hill Executive Director Julia Mueller as she talks about the lumber industry in Little Falls\, as well as the impacts the Weyerhaeuser and Musser families had on the area\, and how historic their homes are still used today. \n$7/person\, FREE for members!
URL:https://stearnshistorymuseum.org/event-items/breakfast-club-linden-hill-historic-estate/
LOCATION:Stearns History Museum\, 235 33rd Ave S\, St Cloud\, MN\, 56301\, United States
ATTACH;FMTTYPE=image/png:https://stearnshistorymuseum.org/wp-content/uploads/2025/10/Breakfast-Club-Thumbnail.png
END:VEVENT
BEGIN:VEVENT
DTSTART;TZID=America/Chicago:20251108T100000
DTEND;TZID=America/Chicago:20251108T160000
DTSTAMP:20260424T004521
CREATED:20250930T211015Z
LAST-MODIFIED:20250930T211015Z
UID:10000731-1762596000-1762617600@stearnshistorymuseum.org
SUMMARY:Community Scan: Stearns History Museum
DESCRIPTION:The Stearns History Museum\, in partnership with the Great River Library system\, is offering a free community-scanning event. Bring your family photos or other documents important to your family history to be scanned with professional equipment. You will go home with a digital copy of your materials. For all ages. Registration required for a 30 minute time slot. \nLimit one time slot per person. Oversized materials and negatives do take longer to scan than other materials. \nBring your own flash drive\, or the museum will have flash drives available to purchase ($5)
URL:https://stearnshistorymuseum.org/event-items/community-scan-stearns-history-museum-5/
LOCATION:Stearns History Museum\, 235 33rd Ave S\, St Cloud\, MN\, 56301\, United States
ATTACH;FMTTYPE=image/webp:https://stearnshistorymuseum.org/wp-content/uploads/2025/09/community-scan-thumbnail-3.webp
END:VEVENT
BEGIN:VEVENT
DTSTART;TZID=America/Chicago:20251107T100000
DTEND;TZID=America/Chicago:20251107T170000
DTSTAMP:20260424T004521
CREATED:20251028T193204Z
LAST-MODIFIED:20251028T193755Z
UID:10000761-1762509600-1762534800@stearnshistorymuseum.org
SUMMARY:Get the Message
DESCRIPTION:Our new exhibit\, “Get the Message\,” opens Friday\, November 7th! Take a walk through the advertising that shaped the business landscape of Stearns County. Bring your family and check it out today! \n  \n 
URL:https://stearnshistorymuseum.org/event-items/get-the-message/
LOCATION:Stearns History Museum\, 235 33rd Ave S\, St Cloud\, MN\, 56301\, United States
ATTACH;FMTTYPE=image/webp:https://stearnshistorymuseum.org/wp-content/uploads/2025/10/frenchys-thumbnail.webp
END:VEVENT
BEGIN:VEVENT
DTSTART;TZID=America/Chicago:20251106T180000
DTEND;TZID=America/Chicago:20251106T190000
DTSTAMP:20260424T004521
CREATED:20250718T193423Z
LAST-MODIFIED:20251007T153410Z
UID:10000712-1762452000-1762455600@stearnshistorymuseum.org
SUMMARY:History Unboxed: Healing Histories
DESCRIPTION:Discover the history of healthcare in our community through an interactive exploration of medical artifacts\, archival records\, and historical innovations.
URL:https://stearnshistorymuseum.org/event-items/history-unboxed-healing-histories-at-centracare-archvies/
LOCATION:Stearns History Museum\, 235 33rd Ave S\, St Cloud\, MN\, 56301\, United States
ATTACH;FMTTYPE=image/png:https://stearnshistorymuseum.org/wp-content/uploads/2025/07/History-Unboxed-Medicine-thumbnail.png
END:VEVENT
BEGIN:VEVENT
DTSTART;TZID=America/Chicago:20251030T100000
DTEND;TZID=America/Chicago:20251030T140000
DTSTAMP:20260424T004521
CREATED:20250920T142402Z
LAST-MODIFIED:20250920T142402Z
UID:10000723-1761818400-1761832800@stearnshistorymuseum.org
SUMMARY:Community Scan: Stearns History Museum
DESCRIPTION:The Stearns History Museum\, in partnership with the Great River Library system\, is offering a free community-scanning event. Bring your family photos or other documents important to your family history to be scanned with professional equipment. You will go home with a digital copy of your materials. For all ages. Registration required for a 30 minute time slot. \nLimit one time slot per person. Oversized materials and negatives do take longer to scan than other materials. \nBring your own flash drive\, or the museum will have flash drives available to purchase ($5)
URL:https://stearnshistorymuseum.org/event-items/community-scan-stearns-history-museum-4/
LOCATION:Stearns History Museum\, 235 33rd Ave S\, St Cloud\, MN\, 56301\, United States
ATTACH;FMTTYPE=image/png:https://stearnshistorymuseum.org/wp-content/uploads/2025/09/community-scan-thumbnail-3.png
END:VEVENT
BEGIN:VEVENT
DTSTART;TZID=America/Chicago:20251015T140000
DTEND;TZID=America/Chicago:20251015T153000
DTSTAMP:20260424T004521
CREATED:20250925T211357Z
LAST-MODIFIED:20250925T211520Z
UID:10000727-1760536800-1760542200@stearnshistorymuseum.org
SUMMARY:Members Only Collections Tour
DESCRIPTION:Join us for a behind the scenes tour of our collection\, both at the museum and at our Collections Facility in Heritage Park. Space is limited\, so sign up now. This is for MEMBERS only.
URL:https://stearnshistorymuseum.org/event-items/members-only-collections-tour-2/
LOCATION:Stearns History Museum\, 235 33rd Ave S\, St Cloud\, MN\, 56301\, United States
ATTACH;FMTTYPE=image/png:https://stearnshistorymuseum.org/wp-content/uploads/2025/09/Behind-The-Scenes-Thumbnail.png
END:VEVENT
BEGIN:VEVENT
DTSTART;TZID=America/Chicago:20251008T090000
DTEND;TZID=America/Chicago:20251008T100000
DTSTAMP:20260424T004521
CREATED:20250902T192458Z
LAST-MODIFIED:20250902T192717Z
UID:10000714-1759914000-1759917600@stearnshistorymuseum.org
SUMMARY:Breakfast Club: "Fool's Lake"
DESCRIPTION:Join us as local writer Cynthia Moe talks about her 2023 novel\, “Fool’s Lake\,” about the flooding of Milford’s Mine in Crosby\, MN\, in 1924\, and how the effects are still felt in the Cuyuna Iron Range to this day. \n$7/person\, FREE for members!
URL:https://stearnshistorymuseum.org/event-items/breakfast-club-fools-lake/
LOCATION:Stearns History Museum\, 235 33rd Ave S\, St Cloud\, MN\, 56301\, United States
ATTACH;FMTTYPE=image/png:https://stearnshistorymuseum.org/wp-content/uploads/2025/09/Breakfast-Club-Thumbnail-7.png
END:VEVENT
BEGIN:VEVENT
DTSTART;TZID=America/Chicago:20251002T180000
DTEND;TZID=America/Chicago:20251002T190000
DTSTAMP:20260424T004521
CREATED:20250405T144933Z
LAST-MODIFIED:20250405T145804Z
UID:10000700-1759428000-1759431600@stearnshistorymuseum.org
SUMMARY:Archive Explorer- Paper Trails: Finding and Deciphering Key Historical Records
DESCRIPTION:Discover how to trace family and local history using key historical records! This program will introduce all types of records- birth\, census\, naturalization\, military\, land records (and more) and who you where to find them\, how to read them\, and how to use them in historical research.
URL:https://stearnshistorymuseum.org/event-items/paper-trails-finding-and-deciphering-key-historical-records/
LOCATION:Stearns History Museum\, 235 33rd Ave S\, St Cloud\, MN\, 56301\, United States
CATEGORIES:Archive Explorer
ATTACH;FMTTYPE=image/jpeg:https://stearnshistorymuseum.org/wp-content/uploads/2025/04/Archive-Explorer-Records-thumbnail.jpg
END:VEVENT
BEGIN:VEVENT
DTSTART;TZID=America/Chicago:20250927T100000
DTEND;TZID=America/Chicago:20250927T130000
DTSTAMP:20260424T004521
CREATED:20250405T141838Z
LAST-MODIFIED:20250405T141838Z
UID:10000699-1758967200-1758978000@stearnshistorymuseum.org
SUMMARY:Historic Harvest Fest
DESCRIPTION:Join us on Saturday\, September 27th\, for our annual Historic Harvest Fest event! We’ll have vintage style carnival games\, cake walk\, a scavenger hunt\, pumpkin painting\, and more! \nThis event is FREE to the public!
URL:https://stearnshistorymuseum.org/event-items/historic-harvest-fest-4/
LOCATION:Stearns History Museum\, 235 33rd Ave S\, St Cloud\, MN\, 56301\, United States
ATTACH;FMTTYPE=image/png:https://stearnshistorymuseum.org/wp-content/uploads/2025/04/Harvest-Fest-2025-Thumbnail-1.png
END:VEVENT
BEGIN:VEVENT
DTSTART;TZID=America/Chicago:20250910T090000
DTEND;TZID=America/Chicago:20250910T100000
DTSTAMP:20260424T004521
CREATED:20250718T193724Z
LAST-MODIFIED:20250718T193724Z
UID:10000713-1757494800-1757498400@stearnshistorymuseum.org
SUMMARY:Breakfast Club: Recovering Lost History
DESCRIPTION:This month\, Julianne O’Connell tells the story of how she tracked down one of her father\, sculptor Joe O’Connell’s missing pieces and brought it to the Stearns History Museum! \n$7/person\, FREE for members!
URL:https://stearnshistorymuseum.org/event-items/breakfast-club-recovering-lost-history/
LOCATION:Stearns History Museum\, 235 33rd Ave S\, St Cloud\, MN\, 56301\, United States
ATTACH;FMTTYPE=image/png:https://stearnshistorymuseum.org/wp-content/uploads/2025/07/Breakfast-Club-Thumbnail-5.png
END:VEVENT
BEGIN:VEVENT
DTSTART;TZID=America/Chicago:20250904T180000
DTEND;TZID=America/Chicago:20250904T190000
DTSTAMP:20260424T004521
CREATED:20250405T145302Z
LAST-MODIFIED:20250718T192940Z
UID:10000701-1757008800-1757012400@stearnshistorymuseum.org
SUMMARY:History Unboxed: The Home Front and Beyond- A WWII Archival Experience
DESCRIPTION:Join us for a hands-on\, immersive journey through history as we explore World War II from the Stearns County perspective. You will get to learn the significance of WWII in our region through a variety of materials. \nThis event is FREE to the public.
URL:https://stearnshistorymuseum.org/event-items/history-unboxed-the-home-front-and-beyond-a-wwii-archival-experience/
LOCATION:Stearns History Museum\, 235 33rd Ave S\, St Cloud\, MN\, 56301\, United States
CATEGORIES:History Unboxed
ATTACH;FMTTYPE=image/png:https://stearnshistorymuseum.org/wp-content/uploads/2025/04/History-Unboxed-WWII-thumbnail.png
END:VEVENT
END:VCALENDAR